BEGIN:VCALENDAR
VERSION:2.0
PRODID:-//Washington Old Time Fiddlers Association - ECPv6.15.12.2//NONSGML v1.0//EN
CALSCALE:GREGORIAN
METHOD:PUBLISH
X-ORIGINAL-URL:https://wotfa.org
X-WR-CALDESC:Events for Washington Old Time Fiddlers Association
REFRESH-INTERVAL;VALUE=DURATION:PT1H
X-Robots-Tag:noindex
X-PUBLISHED-TTL:PT1H
BEGIN:VTIMEZONE
TZID:America/Los_Angeles
BEGIN:DAYLIGHT
TZOFFSETFROM:-0800
TZOFFSETTO:-0700
TZNAME:PDT
DTSTART:20230312T100000
END:DAYLIGHT
BEGIN:STANDARD
TZOFFSETFROM:-0700
TZOFFSETTO:-0800
TZNAME:PST
DTSTART:20231105T090000
END:STANDARD
BEGIN:DAYLIGHT
TZOFFSETFROM:-0800
TZOFFSETTO:-0700
TZNAME:PDT
DTSTART:20240310T100000
END:DAYLIGHT
BEGIN:STANDARD
TZOFFSETFROM:-0700
TZOFFSETTO:-0800
TZNAME:PST
DTSTART:20241103T090000
END:STANDARD
BEGIN:DAYLIGHT
TZOFFSETFROM:-0800
TZOFFSETTO:-0700
TZNAME:PDT
DTSTART:20250309T100000
END:DAYLIGHT
BEGIN:STANDARD
TZOFFSETFROM:-0700
TZOFFSETTO:-0800
TZNAME:PST
DTSTART:20251102T090000
END:STANDARD
BEGIN:DAYLIGHT
TZOFFSETFROM:-0800
TZOFFSETTO:-0700
TZNAME:PDT
DTSTART:20260308T100000
END:DAYLIGHT
BEGIN:STANDARD
TZOFFSETFROM:-0700
TZOFFSETTO:-0800
TZNAME:PST
DTSTART:20261101T090000
END:STANDARD
END:VTIMEZONE
BEGIN:VEVENT
DTSTART;TZID=America/Los_Angeles:20250927T110000
DTEND;TZID=America/Los_Angeles:20250927T150000
DTSTAMP:20260423T063350
CREATED:20240927T140033Z
LAST-MODIFIED:20240927T140432Z
UID:10002733-1758970800-1758985200@wotfa.org
SUMMARY:District 15 Monthly Jam
DESCRIPTION:Open Jam\nFourth Saturday from 11AM to 3PM\nTri Area Community Center\n10 West Valley Road\nChimacum
URL:https://wotfa.org/event/district-15-monthly-jam/2025-09-27/
LOCATION:Tri-Area Community Center\, 10 W. Valley Road\, Chimacum\, WA\, 98325\, United States
CATEGORIES:District 15,Jam Session,Open Jams
ATTACH;FMTTYPE=image/png:https://wotfa.org/wp-content/uploads/2020/10/district-15.png
ORGANIZER;CN="Rita Alberti":MAILTO:daveandrita2025@gmail.com
END:VEVENT
BEGIN:VEVENT
DTSTART;TZID=America/Los_Angeles:20240127T130000
DTEND;TZID=America/Los_Angeles:20240127T150000
DTSTAMP:20260423T063350
CREATED:20231204T184844Z
LAST-MODIFIED:20231204T190835Z
UID:10002447-1706360400-1706367600@wotfa.org
SUMMARY:District 15 - Open Jam
DESCRIPTION:Saturday January 27 from1 1PM to 3PM\n\nTri Area Community Center\n10 West Valley Road\nChimacum
URL:https://wotfa.org/event/district-9-open-jam/
LOCATION:Tri-Area Community Center\, 10 W. Valley Road\, Chimacum\, WA\, 98325\, United States
CATEGORIES:District 15,Open Jams
ATTACH;FMTTYPE=image/jpeg:https://wotfa.org/wp-content/uploads/2023/12/Tri-Area-Community-Center.jpg
ORGANIZER;CN="Don Betts":MAILTO:Not2old2fiddle@gmail.com
END:VEVENT
END:VCALENDAR