BEGIN:VCALENDAR
VERSION:2.0
PRODID:-//Washington Old Time Fiddlers Association - ECPv6.15.12.2//NONSGML v1.0//EN
CALSCALE:GREGORIAN
METHOD:PUBLISH
X-ORIGINAL-URL:https://wotfa.org
X-WR-CALDESC:Events for Washington Old Time Fiddlers Association
REFRESH-INTERVAL;VALUE=DURATION:PT1H
X-Robots-Tag:noindex
X-PUBLISHED-TTL:PT1H
BEGIN:VTIMEZONE
TZID:America/Los_Angeles
BEGIN:DAYLIGHT
TZOFFSETFROM:-0800
TZOFFSETTO:-0700
TZNAME:PDT
DTSTART:20230312T100000
END:DAYLIGHT
BEGIN:STANDARD
TZOFFSETFROM:-0700
TZOFFSETTO:-0800
TZNAME:PST
DTSTART:20231105T090000
END:STANDARD
BEGIN:DAYLIGHT
TZOFFSETFROM:-0800
TZOFFSETTO:-0700
TZNAME:PDT
DTSTART:20240310T100000
END:DAYLIGHT
BEGIN:STANDARD
TZOFFSETFROM:-0700
TZOFFSETTO:-0800
TZNAME:PST
DTSTART:20241103T090000
END:STANDARD
BEGIN:DAYLIGHT
TZOFFSETFROM:-0800
TZOFFSETTO:-0700
TZNAME:PDT
DTSTART:20250309T100000
END:DAYLIGHT
BEGIN:STANDARD
TZOFFSETFROM:-0700
TZOFFSETTO:-0800
TZNAME:PST
DTSTART:20251102T090000
END:STANDARD
END:VTIMEZONE
BEGIN:VEVENT
DTSTART;TZID=America/Los_Angeles:20240616T140000
DTEND;TZID=America/Los_Angeles:20240616T170000
DTSTAMP:20260423T075131
CREATED:20211120T151529Z
LAST-MODIFIED:20230207T015404Z
UID:10002083-1718546400-1718557200@wotfa.org
SUMMARY:District 8 Meeting and Jam
DESCRIPTION:In-Person District 8 Meeting\n Short Meeting\, Followed by LOOOONG jam!!!\n \nThe Mid County Community Center has reopened\, and monthly meetings will resume there in September! \n10205 44th Ave E\, Tacoma\, WA 98446  https://goo.gl/maps/dCPbMrM8sLDcDZk36
URL:https://wotfa.org/event/district-8-meeting-and-jam/2024-06-16/
LOCATION:Mid-County Community Center\, 10205 44th Ave E\, Tacoma\, WA\, 98446\, United States
CATEGORIES:District 8
END:VEVENT
END:VCALENDAR