BEGIN:VCALENDAR
VERSION:2.0
PRODID:-//Washington Old Time Fiddlers Association - ECPv6.15.12.2//NONSGML v1.0//EN
CALSCALE:GREGORIAN
METHOD:PUBLISH
X-WR-CALNAME:Washington Old Time Fiddlers Association
X-ORIGINAL-URL:https://wotfa.org
X-WR-CALDESC:Events for Washington Old Time Fiddlers Association
REFRESH-INTERVAL;VALUE=DURATION:PT1H
X-Robots-Tag:noindex
X-PUBLISHED-TTL:PT1H
BEGIN:VTIMEZONE
TZID:America/Los_Angeles
BEGIN:DAYLIGHT
TZOFFSETFROM:-0800
TZOFFSETTO:-0700
TZNAME:PDT
DTSTART:20230312T100000
END:DAYLIGHT
BEGIN:STANDARD
TZOFFSETFROM:-0700
TZOFFSETTO:-0800
TZNAME:PST
DTSTART:20231105T090000
END:STANDARD
BEGIN:DAYLIGHT
TZOFFSETFROM:-0800
TZOFFSETTO:-0700
TZNAME:PDT
DTSTART:20240310T100000
END:DAYLIGHT
BEGIN:STANDARD
TZOFFSETFROM:-0700
TZOFFSETTO:-0800
TZNAME:PST
DTSTART:20241103T090000
END:STANDARD
BEGIN:DAYLIGHT
TZOFFSETFROM:-0800
TZOFFSETTO:-0700
TZNAME:PDT
DTSTART:20250309T100000
END:DAYLIGHT
BEGIN:STANDARD
TZOFFSETFROM:-0700
TZOFFSETTO:-0800
TZNAME:PST
DTSTART:20251102T090000
END:STANDARD
END:VTIMEZONE
BEGIN:VEVENT
DTSTART;TZID=America/Los_Angeles:20240225T110000
DTEND;TZID=America/Los_Angeles:20240225T143000
DTSTAMP:20260423T093415
CREATED:20240203T002648Z
LAST-MODIFIED:20240203T002648Z
UID:10002516-1708858800-1708871400@wotfa.org
SUMMARY:District 15 Performance/Jam
DESCRIPTION:Open Jam\nNo Chimacum in February.\nSUNDAY February 25  11:30 to 2:30\nGardiner Community Center\n980 Old Gardiner Road\nSequim WA 98382\nLocated off 101 between Sequim and Discovery Bay.
URL:https://wotfa.org/event/district-15-performance-jam/
LOCATION:Gardiner Community Center\, 980 Old Gardiner Road\, Sequim\, WA\, 98382\, United States
CATEGORIES:District 15,Jam Session,Open Jams
ATTACH;FMTTYPE=image/jpeg:https://wotfa.org/wp-content/uploads/2024/02/gardiner-community-center.jpg
ORGANIZER;CN="Don Betts":MAILTO:Not2old2fiddle@gmail.com
END:VEVENT
END:VCALENDAR