BEGIN:VCALENDAR
VERSION:2.0
PRODID:-//Washington Old Time Fiddlers Association - ECPv6.15.12.2//NONSGML v1.0//EN
CALSCALE:GREGORIAN
METHOD:PUBLISH
X-WR-CALNAME:Washington Old Time Fiddlers Association
X-ORIGINAL-URL:https://wotfa.org
X-WR-CALDESC:Events for Washington Old Time Fiddlers Association
REFRESH-INTERVAL;VALUE=DURATION:PT1H
X-Robots-Tag:noindex
X-PUBLISHED-TTL:PT1H
BEGIN:VTIMEZONE
TZID:America/Los_Angeles
BEGIN:DAYLIGHT
TZOFFSETFROM:-0800
TZOFFSETTO:-0700
TZNAME:PDT
DTSTART:20230312T100000
END:DAYLIGHT
BEGIN:STANDARD
TZOFFSETFROM:-0700
TZOFFSETTO:-0800
TZNAME:PST
DTSTART:20231105T090000
END:STANDARD
BEGIN:DAYLIGHT
TZOFFSETFROM:-0800
TZOFFSETTO:-0700
TZNAME:PDT
DTSTART:20240310T100000
END:DAYLIGHT
BEGIN:STANDARD
TZOFFSETFROM:-0700
TZOFFSETTO:-0800
TZNAME:PST
DTSTART:20241103T090000
END:STANDARD
BEGIN:DAYLIGHT
TZOFFSETFROM:-0800
TZOFFSETTO:-0700
TZNAME:PDT
DTSTART:20250309T100000
END:DAYLIGHT
BEGIN:STANDARD
TZOFFSETFROM:-0700
TZOFFSETTO:-0800
TZNAME:PST
DTSTART:20251102T090000
END:STANDARD
BEGIN:DAYLIGHT
TZOFFSETFROM:-0800
TZOFFSETTO:-0700
TZNAME:PDT
DTSTART:20260308T100000
END:DAYLIGHT
BEGIN:STANDARD
TZOFFSETFROM:-0700
TZOFFSETTO:-0800
TZNAME:PST
DTSTART:20261101T090000
END:STANDARD
END:VTIMEZONE
BEGIN:VEVENT
DTSTART;TZID=America/Los_Angeles:20250905T100000
DTEND;TZID=America/Los_Angeles:20250905T100000
DTSTAMP:20260423T112249
CREATED:20240928T235312Z
LAST-MODIFIED:20240928T235747Z
UID:10002942-1757066400-1757066400@wotfa.org
SUMMARY:DISTRICT 9 MEETING AND JAM
DESCRIPTION:Please join WOTFA District 9 (Lewis & Thurston Counties) for our regular 1st Friday open acoustic jam and meeting on Friday\, October 4th from 10am-Noon at Faith Baptist Church in Chehalis. The Church is located at 436 Coal Creek Rd.  To find the church take I-5 to exit 79\, then head EAST off the exit.  Take a LEFT onto N. National Ave\, then a quick RIGHT onto Coal Creek Rd and go 1.1 miles.  The Church will be on your RIGHT.  We will be in the kitchen building (right next to the giant 5th wheel trailer) until renovations on the main building are finished.  There will be coffee and tea and some snacks but it won’t be a potluck. \nFor questions or if you need information just call or text me (Christie) at 360-791-5185
URL:https://wotfa.org/event/district-9-meeting-and-jam/2025-09-05/
LOCATION:Faith Baptist Church\, 436 Coal Creek Rd\, Chehalis\, 98532
CATEGORIES:District 9,Jam Session,Open Jams
ATTACH;FMTTYPE=image/png:https://wotfa.org/wp-content/uploads/2020/10/district-9.png
ORGANIZER;CN="Christie Easter":MAILTO:mrwillys@aol.com
END:VEVENT
BEGIN:VEVENT
DTSTART;TZID=America/Los_Angeles:20250307T100000
DTEND;TZID=America/Los_Angeles:20250307T120000
DTSTAMP:20260423T112249
CREATED:20250108T234745Z
LAST-MODIFIED:20250108T234745Z
UID:10003079-1741341600-1741348800@wotfa.org
SUMMARY:WOTFA DISTRICT 9 OPEN ACOUSTIC JAM & MEETING MARCH 2025
DESCRIPTION:Please join WOTFA District 9 ( Lewis & Thurston Counties) for our regular 1st Friday open acoustic jam & meeting on Friday\, March 7th from 10am-Noon at Faith Baptist Church\, located at 436 Coal Creek Rd in Chehalis.  To find the church take I-5 to exit 79\, then head EAST.  Take a LEFT on N. National Ave and go 1/3 mile\, then turn RIGHT onto Coal Creek Rd and go 1.1 miles\, then turn RIGHT at the church driveway.  We will be in the middle building. \nThe jam is free and open to the public and is beginner friendly. \nThere will be coffee and tea and some snacks but it won’t be a potluck. \nIf you need more information or have questions please call or text me ( Christie) at 360-791-5185
URL:https://wotfa.org/event/wotfa-district-9-open-acoustic-jam-meeting-march-2025/
LOCATION:Faith Baptist Church\, 436 Coal Creek Rd\, Chehalis\, 98532
CATEGORIES:District 9,Jam Session
ORGANIZER;CN="Christie Easter":MAILTO:mrwillys@aol.com
END:VEVENT
BEGIN:VEVENT
DTSTART;TZID=America/Los_Angeles:20250207T100000
DTEND;TZID=America/Los_Angeles:20250207T120000
DTSTAMP:20260423T112249
CREATED:20250108T234801Z
LAST-MODIFIED:20250108T234801Z
UID:10003077-1738922400-1738929600@wotfa.org
SUMMARY:WOTFA DISTRICT 9 OPEN ACOUSTIC JAM & MEETING
DESCRIPTION:Please join WOTFA District 9 (Lewis & Thurston Counties) for our regular 1st Friday open acoustic jam & meeting on Friday\, February 7th from 10am-Noon at Faith Baptist Church\, located at 436 Coal Creek Rd in Chehalis.  To find the church take I-5 to exit 79\, then head EAST.  Take a LEFT onto N. National Ave and go 1/3 mile\, then turn RIGHT on Coal Creek Rd.  Go 1.1 miles\, then turn RIGHT at the church driveway.  We will be in the middle building.  There will be coffee and tea and some snacks but it won’t be a potluck. \nIf you have any questions please call or text me (Christie) at 360-791-5185
URL:https://wotfa.org/event/wotfa-district-9-open-acoustic-jam-meeting-2/
LOCATION:Faith Baptist Church\, 436 Coal Creek Rd\, Chehalis\, 98532
CATEGORIES:District 9,Jam Session,Meeting
ORGANIZER;CN="Christie Easter":MAILTO:mrwillys@aol.com
END:VEVENT
BEGIN:VEVENT
DTSTART;TZID=America/Los_Angeles:20241206T100000
DTEND;TZID=America/Los_Angeles:20241206T120000
DTSTAMP:20260423T112249
CREATED:20241215T151322Z
LAST-MODIFIED:20241226T203754Z
UID:10002972-1733479200-1733486400@wotfa.org
SUMMARY:WOTFA District 9 Open Acoustic Jam
DESCRIPTION:Please join us for our regular 1st Friday open acoustic jam on Friday\, December 6th from 10am to Noon at Faith Baptist Church\, located at 436 Coal Creek Rd in Chehalis.  To find the church\, take I-5 to exit 79\, then head EAST.  Take a LEFT on N. National Ave and go 1/3 mile\, then turn RIGHT on Coal Creek Rd and go 1.1 Miles.  The church will be on your RIGHT. \nWe will most likely be in the kitchen area for the December jam\, unless renovations are finished on the church\, in which case we will be in the middle building. \nThe jam is free and open to the public and is beginner friendly.  There will be coffee and tea and some snacks but it won’t be a potluck.  If you have questions or need more information gived me (Christie) a call or text at 360-791-5185.
URL:https://wotfa.org/event/wotfa-district-9-open-acoustic-jam/
LOCATION:Faith Baptist Church\, 436 Coal Creek Rd\, Chehalis\, 98532
CATEGORIES:Jam Session
ORGANIZER;CN="Christie Easter":MAILTO:mrwillys@aol.com
END:VEVENT
BEGIN:VEVENT
DTSTART;TZID=America/Los_Angeles:20240906T100000
DTEND;TZID=America/Los_Angeles:20240906T120000
DTSTAMP:20260423T112249
CREATED:20240806T150550Z
LAST-MODIFIED:20240806T150550Z
UID:10002539-1725616800-1725624000@wotfa.org
SUMMARY:WOTFA DISTRICT 9 MONTHLY ACOUSTIC JAM
DESCRIPTION:Please join us for our regular 1st Friday open acoustic jam and meeting on Friday\, September 6th from 10am-Noon at Faith Baptist Church\, located at 436 Coal Creek Rd in Chehalis\, just off I-5 exit 79.  To find the church\, take exit 79\, then head EAST.  Go LEFT on N. National Ave\, then a quick RIGHT onto Coal Creek Rd and go 1.1 miles\, then turn RIGHT into the church driveway.  We will be in the middle building.  There will be coffee and tea and some snacks but it won’t be a potluck. \nThe jam is free and open to the public and you do not have to be a WOTFA member to come to the jam.  Our jam is beginner friendly.  If you have questions or need more information please give me (Christied) a call or text at 360-791-5185.
URL:https://wotfa.org/event/wotfa-district-9-monthly-acoustic-jam/
LOCATION:Faith Baptist Church\, 436 Coal Creek Rd\, Chehalis\, 98532
CATEGORIES:District 9,Jam Session,Meeting,Open Jams
ORGANIZER;CN="Christie Easter":MAILTO:mrwillys@aol.com
END:VEVENT
BEGIN:VEVENT
DTSTART;TZID=America/Los_Angeles:20240503T100000
DTEND;TZID=America/Los_Angeles:20240503T120000
DTSTAMP:20260423T112249
CREATED:20240514T201604Z
LAST-MODIFIED:20240514T201604Z
UID:10002529-1714730400-1714737600@wotfa.org
SUMMARY:WOTFA District 9 Open Acoustic Jam & Meeting
DESCRIPTION:Please join WOTFA District 9 (Lewis & Thurston Counties) for our regular 1st Friday open acoustic jam and meeting on Friday\, May 3rd from 10am-Noon at Faith Baptist Church\, located at 436 Coal Creek Road in Chehalis. \nTo find the church\, take I-5 to exit 79\, then head EAST off the exit.\nTake a LEFT onto N. National Ave\, then a quick RIGHT onto Coal Creek Rd.  Go 1.1 miles on Coal creek Rd\, then turn RIGHT into the church driveway.  We will be in the middle building. \nThere will be coffee and tea and some snacks but it won’t be a potluck. \nThe jam is free and open to the public and you do not have to be a member to come to the jam. \nOur jam is beginner friendly \nFor more information call me (Christie) at 360-791-5185
URL:https://wotfa.org/event/wotfa-district-9-open-acoustic-jam-meeting/
LOCATION:Faith Baptist Church\, 436 Coal Creek Rd\, Chehalis\, 98532
CATEGORIES:District 9,Jam Session,Open Jams
ORGANIZER;CN="Christie Easter":MAILTO:mrwillys@aol.com
END:VEVENT
BEGIN:VEVENT
DTSTART;TZID=America/Los_Angeles:20240301T100000
DTEND;TZID=America/Los_Angeles:20240301T120000
DTSTAMP:20260423T112249
CREATED:20220808T231958Z
LAST-MODIFIED:20230310T235440Z
UID:10001764-1709287200-1709294400@wotfa.org
SUMMARY:District 9 Monthly Meeting and Jam
DESCRIPTION:DISTRICT:  9 (Lewis & Thurston Counties)\nCHAIRPERSON:  Christie Easter 360-791-5185. mrwillys@aol.com\nREPORTER:  Same\nMEETING & JAM:  1st Friday of every month 10 am-Noon Faith Baptist Church 436 Coal Creek Rd\, Chehalis\n \nLink to Chord Charts for Common Jam Tunes
URL:https://wotfa.org/event/district-9-monthly-meeting-and-jam/2024-03-01/
LOCATION:Faith Baptist Church\, 436 Coal Creek Rd\, Chehalis\, 98532
CATEGORIES:District 9
ATTACH;FMTTYPE=image/png:https://wotfa.org/wp-content/uploads/2020/10/district-9.png
ORGANIZER;CN="Christie Easter":MAILTO:mrwillys@aol.com
END:VEVENT
END:VCALENDAR