BEGIN:VCALENDAR
VERSION:2.0
PRODID:-//Washington Old Time Fiddlers Association - ECPv6.15.12.2//NONSGML v1.0//EN
CALSCALE:GREGORIAN
METHOD:PUBLISH
X-ORIGINAL-URL:https://wotfa.org
X-WR-CALDESC:Events for Washington Old Time Fiddlers Association
REFRESH-INTERVAL;VALUE=DURATION:PT1H
X-Robots-Tag:noindex
X-PUBLISHED-TTL:PT1H
BEGIN:VTIMEZONE
TZID:America/Los_Angeles
BEGIN:DAYLIGHT
TZOFFSETFROM:-0800
TZOFFSETTO:-0700
TZNAME:PDT
DTSTART:20230312T100000
END:DAYLIGHT
BEGIN:STANDARD
TZOFFSETFROM:-0700
TZOFFSETTO:-0800
TZNAME:PST
DTSTART:20231105T090000
END:STANDARD
BEGIN:DAYLIGHT
TZOFFSETFROM:-0800
TZOFFSETTO:-0700
TZNAME:PDT
DTSTART:20240310T100000
END:DAYLIGHT
BEGIN:STANDARD
TZOFFSETFROM:-0700
TZOFFSETTO:-0800
TZNAME:PST
DTSTART:20241103T090000
END:STANDARD
BEGIN:DAYLIGHT
TZOFFSETFROM:-0800
TZOFFSETTO:-0700
TZNAME:PDT
DTSTART:20250309T100000
END:DAYLIGHT
BEGIN:STANDARD
TZOFFSETFROM:-0700
TZOFFSETTO:-0800
TZNAME:PST
DTSTART:20251102T090000
END:STANDARD
BEGIN:DAYLIGHT
TZOFFSETFROM:-0800
TZOFFSETTO:-0700
TZNAME:PDT
DTSTART:20260308T100000
END:DAYLIGHT
BEGIN:STANDARD
TZOFFSETFROM:-0700
TZOFFSETTO:-0800
TZNAME:PST
DTSTART:20261101T090000
END:STANDARD
BEGIN:DAYLIGHT
TZOFFSETFROM:-0800
TZOFFSETTO:-0700
TZNAME:PDT
DTSTART:20270314T100000
END:DAYLIGHT
BEGIN:STANDARD
TZOFFSETFROM:-0700
TZOFFSETTO:-0800
TZNAME:PST
DTSTART:20271107T090000
END:STANDARD
END:VTIMEZONE
BEGIN:VEVENT
DTSTART;TZID=America/Los_Angeles:20260316T180000
DTEND;TZID=America/Los_Angeles:20260316T190000
DTSTAMP:20260423T092759
CREATED:20260213T030723Z
LAST-MODIFIED:20260303T183119Z
UID:10004059-1773684000-1773687600@wotfa.org
SUMMARY:PNW Chamber Orchestra Intermission Playdate
DESCRIPTION:Please join District 9 as we play for the Pacific Northwest Chamber Orchestra’s Spring Concert Intermission on Monday\, March 16th at 6:00-ish pm at Centralia College’s Corbet Theater in Centralia. The concert itself will be from 6:00pm-9:00pm and the intermission is usually around 7:00pm or 7:15pm.  We will be playing three or four of our favorite tunes from the March playlist\, then we are dismissed to enjoy the rest of the concert\, which is always free. An offering is collected during the intermission to help defray the cost of the concert.\nThere is lots of parking around the Corbet Theater\, but it fills up fast because these concerts are very well attended\, so come early if possible. \nIf you have questions please call or text me (Christie) at 360-791-5185
URL:https://wotfa.org/event/pnw-chamber-orchestra-intermission-playdate/
LOCATION:Centralia College Corbet Theater\, 600 Centralia College Blvd\, Centralia\, 98531
CATEGORIES:District 9,Playout
ATTACH;FMTTYPE=image/png:https://wotfa.org/wp-content/uploads/2026/02/IMG_1092-3-e1772562625464.png
ORGANIZER;CN="Christie Easter":MAILTO:mrwillys@aol.com
END:VEVENT
BEGIN:VEVENT
DTSTART;TZID=America/Los_Angeles:20250317T190000
DTEND;TZID=America/Los_Angeles:20250317T200000
DTSTAMP:20260423T092759
CREATED:20250307T233247Z
LAST-MODIFIED:20250307T233247Z
UID:10003096-1742238000-1742241600@wotfa.org
SUMMARY:WOTFA District 9 PNWCO Spring Concert Intermission Playdate
DESCRIPTION:WOTFA District 9 will be performing for the Pacific NW Chamber Orchestra’s Spring Concert Intermission on Monday\, March 17th (Yes that is St. Patrick’s Day) at 7:00pm at Centralia College’s Corbet Theater in Washington Hall\, located at Pear & Washington Streets.  The PNWCO concert is free and starts at 7:00pm and everyone is encouraged to attend.  There is a large green room backstage that will be attended continuously so you can leave your instruments and gear there while you listen to the concert.  The intermission is usually around 7:45 and we will be playing 4 or possibly 5 tunes while the intermission is underway.  Here is the tune list: \n\nLiberty-D     2. Turkey In The Straw-G     3. Southwind Irish Waltz-G     4. Irish Washerwoman-G     5. Golden Slippers-G\nIf you have questions or need more information please call or text me (Christie) at 360-791-5185
URL:https://wotfa.org/event/wotfa-district-9-pnwco-spring-concert-intermission-playdate/
LOCATION:Centralia College Corbet Theater\, 600 Centralia College Blvd\, Centralia\, 98531
CATEGORIES:District 9,Playout
ORGANIZER;CN="Christie Easter":MAILTO:mrwillys@aol.com
END:VEVENT
BEGIN:VEVENT
DTSTART;TZID=America/Los_Angeles:20250317T190000
DTEND;TZID=America/Los_Angeles:20250317T200000
DTSTAMP:20260423T092759
CREATED:20250201T182847Z
LAST-MODIFIED:20250201T182847Z
UID:10003087-1742238000-1742241600@wotfa.org
SUMMARY:PNCO Intermission Playdate
DESCRIPTION:WOTFA District 9 will be playing for the Pacific Northwest Chamber Orchestra’s Spring Concert Intermission on Monday\, March 17th\, 2025 at approximately 7:00pm at Centralia College Corbet Theater in Centralia.\nThis will probably be 3 or 4 or our favorite tunes\, and since it is also St Patrick’s Day one of the tunes will be The Irish Washerwoman in G.\nThere will be a secure green room backstage where you can leave your instrument and gear while you enjoy the concert\, which is free to attend. It’s best to come early as parking spaces fill up quickly for this popular concert series. \nThe website for the Pacific Northwest Chamber Orchestra is pnwchamberorchestra.org \nIf you have questions please give me (Christie) a call or text at 360-791-5185
URL:https://wotfa.org/event/pnco-intermission-playdate/
LOCATION:Centralia College Corbet Theater\, 600 Centralia College Blvd\, Centralia\, 98531
CATEGORIES:District 9,Playout
ORGANIZER;CN="Christie Easter":MAILTO:mrwillys@aol.com
END:VEVENT
BEGIN:VEVENT
DTSTART;TZID=America/Los_Angeles:20240311T193000
DTEND;TZID=America/Los_Angeles:20240311T200000
DTSTAMP:20260423T092759
CREATED:20240309T234602Z
LAST-MODIFIED:20240309T234602Z
UID:10002518-1710185400-1710187200@wotfa.org
SUMMARY:WOTFA District 9 PNWCO Concert Intermission Playdate
DESCRIPTION:Please join WOTFA District 9 for our March 11th playdate as we play for the Pacific Northwest Chamber Orchestra Concert during their intermission.  We’ll be playing three or four of our favorite tunes while the orchestra takes their break midway through the concert.   We will most likely be going onstage at about 7:45 or thereabouts and we’ll be playing the following tunes:  1) Boil The Cabbage-A   2)  Redwing-G   and 3) Soldiers Joy-D.  If time permits we’ll play Cripple Creek in A or Turkey In The Straw in G. \nThe PNWCO concert is free and starts at 7:00pm\, more information is available at their website www.pnwchamberorcestra.org
URL:https://wotfa.org/event/wotfa-district-9-pnwco-concert-intermission-playdate/
LOCATION:Centralia College Corbet Theater\, 600 Centralia College Blvd\, Centralia\, 98531
CATEGORIES:District 9,Playout
ATTACH;FMTTYPE=image/png:https://wotfa.org/wp-content/uploads/2024/03/PNWCO.png
ORGANIZER;CN="Christie Easter":MAILTO:mrwillys@aol.com
END:VEVENT
END:VCALENDAR