BEGIN:VCALENDAR
VERSION:2.0
PRODID:-//Washington Old Time Fiddlers Association - ECPv6.15.12.2//NONSGML v1.0//EN
CALSCALE:GREGORIAN
METHOD:PUBLISH
X-WR-CALNAME:Washington Old Time Fiddlers Association
X-ORIGINAL-URL:https://wotfa.org
X-WR-CALDESC:Events for Washington Old Time Fiddlers Association
REFRESH-INTERVAL;VALUE=DURATION:PT1H
X-Robots-Tag:noindex
X-PUBLISHED-TTL:PT1H
BEGIN:VTIMEZONE
TZID:America/Los_Angeles
BEGIN:DAYLIGHT
TZOFFSETFROM:-0800
TZOFFSETTO:-0700
TZNAME:PDT
DTSTART:20220313T100000
END:DAYLIGHT
BEGIN:STANDARD
TZOFFSETFROM:-0700
TZOFFSETTO:-0800
TZNAME:PST
DTSTART:20221106T090000
END:STANDARD
BEGIN:DAYLIGHT
TZOFFSETFROM:-0800
TZOFFSETTO:-0700
TZNAME:PDT
DTSTART:20230312T100000
END:DAYLIGHT
BEGIN:STANDARD
TZOFFSETFROM:-0700
TZOFFSETTO:-0800
TZNAME:PST
DTSTART:20231105T090000
END:STANDARD
BEGIN:DAYLIGHT
TZOFFSETFROM:-0800
TZOFFSETTO:-0700
TZNAME:PDT
DTSTART:20240310T100000
END:DAYLIGHT
BEGIN:STANDARD
TZOFFSETFROM:-0700
TZOFFSETTO:-0800
TZNAME:PST
DTSTART:20241103T090000
END:STANDARD
END:VTIMEZONE
BEGIN:VEVENT
DTSTART;TZID=America/Los_Angeles:20230825T150000
DTEND;TZID=America/Los_Angeles:20230825T160000
DTSTAMP:20260423T110616
CREATED:20230803T014223Z
LAST-MODIFIED:20230803T014223Z
UID:10002091-1692975600-1692979200@wotfa.org
SUMMARY:District 4 - Alpine Ridge Playout
DESCRIPTION:Friday Aug. 25th. Alpine Ridge Play 3-4 pm\, 401 N. 17th.MV
URL:https://wotfa.org/event/district-4-alpine-ridge-playout/
LOCATION:Alpine Ridge Retirement Apartments\, 401 North 17th Street\, Mount Vernon\, 98273
CATEGORIES:District 4,Playout
ATTACH;FMTTYPE=image/jpeg:https://wotfa.org/wp-content/uploads/2023/08/alpine-ridge.jpg
END:VEVENT
END:VCALENDAR