BEGIN:VCALENDAR
VERSION:2.0
PRODID:-//Washington Old Time Fiddlers Association - ECPv6.15.12.2//NONSGML v1.0//EN
CALSCALE:GREGORIAN
METHOD:PUBLISH
X-WR-CALNAME:Washington Old Time Fiddlers Association
X-ORIGINAL-URL:https://wotfa.org
X-WR-CALDESC:Events for Washington Old Time Fiddlers Association
REFRESH-INTERVAL;VALUE=DURATION:PT1H
X-Robots-Tag:noindex
X-PUBLISHED-TTL:PT1H
BEGIN:VTIMEZONE
TZID:America/Los_Angeles
BEGIN:DAYLIGHT
TZOFFSETFROM:-0800
TZOFFSETTO:-0700
TZNAME:PDT
DTSTART:20230312T100000
END:DAYLIGHT
BEGIN:STANDARD
TZOFFSETFROM:-0700
TZOFFSETTO:-0800
TZNAME:PST
DTSTART:20231105T090000
END:STANDARD
BEGIN:DAYLIGHT
TZOFFSETFROM:-0800
TZOFFSETTO:-0700
TZNAME:PDT
DTSTART:20240310T100000
END:DAYLIGHT
BEGIN:STANDARD
TZOFFSETFROM:-0700
TZOFFSETTO:-0800
TZNAME:PST
DTSTART:20241103T090000
END:STANDARD
BEGIN:DAYLIGHT
TZOFFSETFROM:-0800
TZOFFSETTO:-0700
TZNAME:PDT
DTSTART:20250309T100000
END:DAYLIGHT
BEGIN:STANDARD
TZOFFSETFROM:-0700
TZOFFSETTO:-0800
TZNAME:PST
DTSTART:20251102T090000
END:STANDARD
END:VTIMEZONE
BEGIN:VEVENT
DTSTART;TZID=America/Los_Angeles:20241108T193000
DTEND;TZID=America/Los_Angeles:20241108T213000
DTSTAMP:20260423T092718
CREATED:20241031T204949Z
LAST-MODIFIED:20241031T204949Z
UID:10002970-1731094200-1731101400@wotfa.org
SUMMARY:Lonesome Ace Stringband
DESCRIPTION:Masters of their trade\, The Lonesome Ace Stringband bring grit\, skill and abandon to Americana music\, bridging old-time\, bluegrass and folk traditions into a seamless hybrid of original material that is at once fresh and timeless. \n\n\n\n\n\n\nThe trio’s sound is anchored in the fiddle and clawhammer banjo of John Showman and Chris Coole. They are joined by a rotating cast of extraordinary upright bassists (including founding member Max Malone\, James Mceleney\, and Lotus Wight). The band moves freely between a sound so commanding it doesn’t seem like it should be coming from a stringband\, to a sparse fragility that draws the listener closer.  Whether singing about climate change\, modern love\, BBQ techniques or life’s inevitable existential crises\, the band cuts to the core. They can also turn and churn out a tune with so much verve that it will make your heart spin and set the dance floor swirling.
URL:https://wotfa.org/event/lonesome-ace-stringband/
LOCATION:Columbia Theatre for the Performing Arts\, 1231 Vandercook Way\, Longview\, 98632
CATEGORIES:District 10,Featured,Show
ATTACH;FMTTYPE=image/jpeg:https://wotfa.org/wp-content/uploads/2024/10/Lonesome-Ace-Stringband.jpg
ORGANIZER;CN="Columbia Theatre Association":MAILTO:info@columbiatheatre.com
END:VEVENT
END:VCALENDAR