BEGIN:VCALENDAR
VERSION:2.0
PRODID:-//Washington Old Time Fiddlers Association - ECPv6.15.12.2//NONSGML v1.0//EN
CALSCALE:GREGORIAN
METHOD:PUBLISH
X-ORIGINAL-URL:https://wotfa.org
X-WR-CALDESC:Events for Washington Old Time Fiddlers Association
REFRESH-INTERVAL;VALUE=DURATION:PT1H
X-Robots-Tag:noindex
X-PUBLISHED-TTL:PT1H
BEGIN:VTIMEZONE
TZID:America/Los_Angeles
BEGIN:DAYLIGHT
TZOFFSETFROM:-0800
TZOFFSETTO:-0700
TZNAME:PDT
DTSTART:20230312T100000
END:DAYLIGHT
BEGIN:STANDARD
TZOFFSETFROM:-0700
TZOFFSETTO:-0800
TZNAME:PST
DTSTART:20231105T090000
END:STANDARD
BEGIN:DAYLIGHT
TZOFFSETFROM:-0800
TZOFFSETTO:-0700
TZNAME:PDT
DTSTART:20240310T100000
END:DAYLIGHT
BEGIN:STANDARD
TZOFFSETFROM:-0700
TZOFFSETTO:-0800
TZNAME:PST
DTSTART:20241103T090000
END:STANDARD
BEGIN:DAYLIGHT
TZOFFSETFROM:-0800
TZOFFSETTO:-0700
TZNAME:PDT
DTSTART:20250309T100000
END:DAYLIGHT
BEGIN:STANDARD
TZOFFSETFROM:-0700
TZOFFSETTO:-0800
TZNAME:PST
DTSTART:20251102T090000
END:STANDARD
BEGIN:DAYLIGHT
TZOFFSETFROM:-0800
TZOFFSETTO:-0700
TZNAME:PDT
DTSTART:20260308T100000
END:DAYLIGHT
BEGIN:STANDARD
TZOFFSETFROM:-0700
TZOFFSETTO:-0800
TZNAME:PST
DTSTART:20261101T090000
END:STANDARD
END:VTIMEZONE
BEGIN:VEVENT
DTSTART;TZID=America/Los_Angeles:20250207T100000
DTEND;TZID=America/Los_Angeles:20250207T120000
DTSTAMP:20260423T062315
CREATED:20250108T234801Z
LAST-MODIFIED:20250108T234801Z
UID:10003077-1738922400-1738929600@wotfa.org
SUMMARY:WOTFA DISTRICT 9 OPEN ACOUSTIC JAM & MEETING
DESCRIPTION:Please join WOTFA District 9 (Lewis & Thurston Counties) for our regular 1st Friday open acoustic jam & meeting on Friday\, February 7th from 10am-Noon at Faith Baptist Church\, located at 436 Coal Creek Rd in Chehalis.  To find the church take I-5 to exit 79\, then head EAST.  Take a LEFT onto N. National Ave and go 1/3 mile\, then turn RIGHT on Coal Creek Rd.  Go 1.1 miles\, then turn RIGHT at the church driveway.  We will be in the middle building.  There will be coffee and tea and some snacks but it won’t be a potluck. \nIf you have any questions please call or text me (Christie) at 360-791-5185
URL:https://wotfa.org/event/wotfa-district-9-open-acoustic-jam-meeting-2/
LOCATION:Faith Baptist Church\, 436 Coal Creek Rd\, Chehalis\, 98532
CATEGORIES:District 9,Jam Session,Meeting
ORGANIZER;CN="Christie Easter":MAILTO:mrwillys@aol.com
END:VEVENT
BEGIN:VEVENT
DTSTART;TZID=America/Los_Angeles:20250108T160000
DTEND;TZID=America/Los_Angeles:20250108T170000
DTSTAMP:20260423T062315
CREATED:20250108T234814Z
LAST-MODIFIED:20250108T234814Z
UID:10003076-1736352000-1736355600@wotfa.org
SUMMARY:January Colonial Stillwater Estates Playdate WOTFA District 9
DESCRIPTION:Please join us for our regular 2nd Wednesday of the month playdate at Colonial Stillwater Estates on Wednesday\, January 8th from 4:00pm-5:00pm.  The address for Colonial is 2700 Colonial Drive in Centralia\, just off Cooks Hill Rd and about 3/4 mile past Providence Centralia Hospital.  We will be in the big white building with pillars\, just inside the main doors and to the left.  There will be music and chords for all the tunes on the playlist\, in play order. \nIf you need more information or have questions please give me (Christie) a call or text at 360-791-5185
URL:https://wotfa.org/event/january-colonial-stillwater-estates-playdate-wotfa-district-9/
LOCATION:Colonial Stillwater Estates\, 2700 Colonial Drive\, Centralia\, 98531
CATEGORIES:District 9,Playout
ORGANIZER;CN="Christie Easter":MAILTO:mrwillys@aol.com
END:VEVENT
BEGIN:VEVENT
DTSTART;TZID=America/Los_Angeles:20241211T160000
DTEND;TZID=America/Los_Angeles:20241211T170000
DTSTAMP:20260423T062315
CREATED:20241215T151358Z
LAST-MODIFIED:20241215T151358Z
UID:10002973-1733932800-1733936400@wotfa.org
SUMMARY:WOTFA District 9 Colonial Stillwater Estates Playdate
DESCRIPTION:Please join us for our regular 2nd Wednesday of the month playdate at Colonial Stillwater Estates on Wednesday\, December 11th from 4:00pm-5:00pm.  Colonial is located at 2700 Colonial Drive in Centralia\, just off Cooks Hill Rd and about 3/4 mile past Providence Centralia Hospital.   We will be in the Residence Building which is the big white building with pillars.  The music parlor is just inside the main entrance and to the left.  If you have questions or need a copy of the December playlist please call or text me (Christie) at 360-791-5185
URL:https://wotfa.org/event/wotfa-district-9-colonial-stillwater-estates-playdate-2/
LOCATION:Colonial Stillwater Estates\, 2700 Colonial Drive\, Centralia\, 98531
CATEGORIES:Playout
ORGANIZER;CN="Christie Easter":MAILTO:mrwillys@aol.com
END:VEVENT
BEGIN:VEVENT
DTSTART;TZID=America/Los_Angeles:20241206T100000
DTEND;TZID=America/Los_Angeles:20241206T120000
DTSTAMP:20260423T062315
CREATED:20241215T151322Z
LAST-MODIFIED:20241226T203754Z
UID:10002972-1733479200-1733486400@wotfa.org
SUMMARY:WOTFA District 9 Open Acoustic Jam
DESCRIPTION:Please join us for our regular 1st Friday open acoustic jam on Friday\, December 6th from 10am to Noon at Faith Baptist Church\, located at 436 Coal Creek Rd in Chehalis.  To find the church\, take I-5 to exit 79\, then head EAST.  Take a LEFT on N. National Ave and go 1/3 mile\, then turn RIGHT on Coal Creek Rd and go 1.1 Miles.  The church will be on your RIGHT. \nWe will most likely be in the kitchen area for the December jam\, unless renovations are finished on the church\, in which case we will be in the middle building. \nThe jam is free and open to the public and is beginner friendly.  There will be coffee and tea and some snacks but it won’t be a potluck.  If you have questions or need more information gived me (Christie) a call or text at 360-791-5185.
URL:https://wotfa.org/event/wotfa-district-9-open-acoustic-jam/
LOCATION:Faith Baptist Church\, 436 Coal Creek Rd\, Chehalis\, 98532
CATEGORIES:Jam Session
ORGANIZER;CN="Christie Easter":MAILTO:mrwillys@aol.com
END:VEVENT
BEGIN:VEVENT
DTSTART;TZID=America/Los_Angeles:20241009T160000
DTEND;TZID=America/Los_Angeles:20241009T170000
DTSTAMP:20260423T062315
CREATED:20240928T235604Z
LAST-MODIFIED:20240928T235604Z
UID:10002931-1728489600-1728493200@wotfa.org
SUMMARY:Colonial Stillwater Estates October Playdate
DESCRIPTION:Please join WOTFA District 9 (Lewis & Thurston Counties) for our regular 2nd Wednesday Playdate at Colonial Stillwater Estates on Wednesday\, October 9th from 4:00pm-5:00pm.  The address for Colonial Stillwater Estates is 2700 Colonial Drive in Centralia.  It’s located just off Cooks Hill Rd (past Providence Centralia Hospital). \nPlease call or text me (Christie) at 360-791-5185 if you need a copy of the playlist for Colonial
URL:https://wotfa.org/event/colonial-stillwater-estates-october-playdate/
LOCATION:Colonial Stillwater Estates\, 2700 Colonial Drive\, Centralia\, 98531
CATEGORIES:District 9,Playout
ATTACH;FMTTYPE=image/jpeg:https://wotfa.org/wp-content/uploads/2024/03/Colonial-Residence-at-Stillwaters-Centralia.jpg
ORGANIZER;CN="Christie Easter":MAILTO:mrwillys@aol.com
END:VEVENT
BEGIN:VEVENT
DTSTART;TZID=America/Los_Angeles:20240907T130000
DTEND;TZID=America/Los_Angeles:20240907T140000
DTSTAMP:20260423T062315
CREATED:20240806T150540Z
LAST-MODIFIED:20240806T150540Z
UID:10002538-1725714000-1725717600@wotfa.org
SUMMARY:WOTFA District 9 September Colonial Stillwater Estates Playdate
DESCRIPTION:Please join WOTFA District 9 for our regular monthly playdate at Colonial Stillwater Estates Residence on SATURDAY\, SEPTEMBER 7TH FROM 1:00PM-2:00PM at Colonial Stillwater’s Annual Outdoor BBQ and Fundraiser.  We’ll be playing under the big archway at the entrance to the residence building\, located at 2700 Colonial Drive in Centralia\, just off Cooks Hill Rd. \nIf you have questions or need a copy of the September playdate please give me (Christie) a call or text at 360-791-5185
URL:https://wotfa.org/event/wotfa-district-9-september-colonial-stillwater-estates-playdate/
LOCATION:Colonial Stillwater Estates\, 2700 Colonial Drive\, Centralia\, 98531
CATEGORIES:District 9,Playout
ORGANIZER;CN="Christie Easter":MAILTO:mrwillys@aol.com
END:VEVENT
BEGIN:VEVENT
DTSTART;TZID=America/Los_Angeles:20240906T100000
DTEND;TZID=America/Los_Angeles:20240906T120000
DTSTAMP:20260423T062315
CREATED:20240806T150550Z
LAST-MODIFIED:20240806T150550Z
UID:10002539-1725616800-1725624000@wotfa.org
SUMMARY:WOTFA DISTRICT 9 MONTHLY ACOUSTIC JAM
DESCRIPTION:Please join us for our regular 1st Friday open acoustic jam and meeting on Friday\, September 6th from 10am-Noon at Faith Baptist Church\, located at 436 Coal Creek Rd in Chehalis\, just off I-5 exit 79.  To find the church\, take exit 79\, then head EAST.  Go LEFT on N. National Ave\, then a quick RIGHT onto Coal Creek Rd and go 1.1 miles\, then turn RIGHT into the church driveway.  We will be in the middle building.  There will be coffee and tea and some snacks but it won’t be a potluck. \nThe jam is free and open to the public and you do not have to be a WOTFA member to come to the jam.  Our jam is beginner friendly.  If you have questions or need more information please give me (Christied) a call or text at 360-791-5185.
URL:https://wotfa.org/event/wotfa-district-9-monthly-acoustic-jam/
LOCATION:Faith Baptist Church\, 436 Coal Creek Rd\, Chehalis\, 98532
CATEGORIES:District 9,Jam Session,Meeting,Open Jams
ORGANIZER;CN="Christie Easter":MAILTO:mrwillys@aol.com
END:VEVENT
BEGIN:VEVENT
DTSTART;TZID=America/Los_Angeles:20240815T140000
DTEND;TZID=America/Los_Angeles:20240815T170000
DTSTAMP:20260423T062315
CREATED:20240820T194657Z
LAST-MODIFIED:20240820T194657Z
UID:10002540-1723730400-1723741200@wotfa.org
SUMMARY:WOTFA District 9 Pop-UpJam @ LCHM
DESCRIPTION:Please join WOTFA District 9 for an impromptu acoustic jam happening on Thursday\, August 15th at 2:00pm at the Lewis County Historical Museum\, located at 599 NW Front Way in downtown Chehalis.\nTo find the museum take I-5 to exit 79\, then head EAST on Chamber Way. Take a RIGHT at the light on N National Ave go about 1/2 mile. The museum will be straight ahead of you. There is lots of parking in front of the museum with additional parking behind the building.\nThe jam will commence immediately following a brief ceremony at the museum to receive a 112 year old violin made by a C.L. Young of Chehalis in 1912 and being donated by it’s current owner\, Jim Corbett of Seattle. The day should be fairly cool\, and the museum is air conditioned as well.   Please call or text me (Christie) at 360-791-5185 for questions or more information.
URL:https://wotfa.org/event/wotfa-district-9-pop-upjam-lchm/
LOCATION:Lewis County Historical Museum\, 99 NW Front Way\, Chehalis\, 98532
CATEGORIES:District 9,Jam Session,Open Jams
ORGANIZER;CN="Christie Easter":MAILTO:mrwillys@aol.com
END:VEVENT
BEGIN:VEVENT
DTSTART;TZID=America/Los_Angeles:20240815T110000
DTEND;TZID=America/Los_Angeles:20240815T120000
DTSTAMP:20260423T062315
CREATED:20240806T150520Z
LAST-MODIFIED:20240806T150520Z
UID:10002537-1723719600-1723723200@wotfa.org
SUMMARY:SW Washington Fair District 9 Playdate
DESCRIPTION:Please join WOTFA District 9 for our Southwest Washington Fair Playdate on Thursday\, August 15th from 11:00am-Noon on the community stage at the fairgrounds.  We’ll be playing from our August playlist\, and the day can be hot and very sunny\, so wear a hat and bring some water for sure.  The stage is covered but faces East so we will be facing the sunny sky when we play. \nPlease let me know if you are planning on playing at the Fair and I will put you on the list for a gate pass.  They will most likely be at the will-call office on the South entrance to the fairgrounds\, close to the fair office.  You MUST be an active WOTFA member to play at any of our playdates\, so WOTFA’S insurance will cover you. \nGive me (Christie) a call or text at 360-791-5185 if you have questions or need a copy of the playlist for the fair. \nSee you there!
URL:https://wotfa.org/event/sw-washington-fair-district-9-playdate/
LOCATION:Southwest Washington Fair\, 2555 N National Ave\, Chehalis\, Wa
CATEGORIES:District 9,Playout
ORGANIZER;CN="Christie Easter":MAILTO:mrwillys@aol.com
END:VEVENT
BEGIN:VEVENT
DTSTART;TZID=America/Los_Angeles:20240807T160000
DTEND;TZID=America/Los_Angeles:20240807T170000
DTSTAMP:20260423T062315
CREATED:20240805T204640Z
LAST-MODIFIED:20240805T204640Z
UID:10002536-1723046400-1723050000@wotfa.org
SUMMARY:Colonial Stillwater Residence Playdate
DESCRIPTION:Please join WOTFA District 9 for our regular month playdate on Wednesday\, August 7th\, 2024 from 4:00pm-5:00pm at Colonial Stillwater Estates Residence building\, located at 2700 Colonial Drive in Centralia\, just off Cooks Hill Rd.  We’ll be playing in the Residence building\, which is the big white building with pillars.  We’ll be in the music parlor which is just inside the main entrance and to the left. \nIf you have questions or would like a copy of the August playlist please give me (Christie) a call or text at 360-791-5185
URL:https://wotfa.org/event/colonial-stillwater-residence-playdate/
LOCATION:Colonial Stillwater Estates\, 2700 Colonial Drive\, Centralia\, 98531
CATEGORIES:District 9,Playout
ORGANIZER;CN="Christie Easter":MAILTO:mrwillys@aol.com
END:VEVENT
BEGIN:VEVENT
DTSTART;TZID=America/Los_Angeles:20240503T100000
DTEND;TZID=America/Los_Angeles:20240503T120000
DTSTAMP:20260423T062315
CREATED:20240514T201604Z
LAST-MODIFIED:20240514T201604Z
UID:10002529-1714730400-1714737600@wotfa.org
SUMMARY:WOTFA District 9 Open Acoustic Jam & Meeting
DESCRIPTION:Please join WOTFA District 9 (Lewis & Thurston Counties) for our regular 1st Friday open acoustic jam and meeting on Friday\, May 3rd from 10am-Noon at Faith Baptist Church\, located at 436 Coal Creek Road in Chehalis. \nTo find the church\, take I-5 to exit 79\, then head EAST off the exit.\nTake a LEFT onto N. National Ave\, then a quick RIGHT onto Coal Creek Rd.  Go 1.1 miles on Coal creek Rd\, then turn RIGHT into the church driveway.  We will be in the middle building. \nThere will be coffee and tea and some snacks but it won’t be a potluck. \nThe jam is free and open to the public and you do not have to be a member to come to the jam. \nOur jam is beginner friendly \nFor more information call me (Christie) at 360-791-5185
URL:https://wotfa.org/event/wotfa-district-9-open-acoustic-jam-meeting/
LOCATION:Faith Baptist Church\, 436 Coal Creek Rd\, Chehalis\, 98532
CATEGORIES:District 9,Jam Session,Open Jams
ORGANIZER;CN="Christie Easter":MAILTO:mrwillys@aol.com
END:VEVENT
BEGIN:VEVENT
DTSTART;TZID=America/Los_Angeles:20240501T160000
DTEND;TZID=America/Los_Angeles:20240501T170000
DTSTAMP:20260423T062315
CREATED:20240514T201535Z
LAST-MODIFIED:20240514T201535Z
UID:10002528-1714579200-1714582800@wotfa.org
SUMMARY:Colonial Stillwater Estates Playdate
DESCRIPTION:Please join WOTFA District 9 on Wednesday\, May 1st 2024 from 4:00pm-5:00pm as we play our regular second Wednesday playdate at Colonial Stillwater Estates\, located at 2700 Colonial Drive in Centralia\, just past Providence Centralia Hospital off Cooks Hill Rd. We’ll be playing in the residence building which is the large white building with pillars in the front. There is lots of parking and the music parlor is just inside the main entrance and to the left.
URL:https://wotfa.org/event/colonial-stillwater-estates-playdate/
LOCATION:Colonial Stillwater Estates\, 2700 Colonial Drive\, Centralia\, 98531
CATEGORIES:District 9,Playout
ORGANIZER;CN="Christie Easter":MAILTO:mrwillys@aol.com
END:VEVENT
BEGIN:VEVENT
DTSTART;TZID=America/Los_Angeles:20240330T130000
DTEND;TZID=America/Los_Angeles:20240330T140000
DTSTAMP:20260423T062315
CREATED:20240309T235444Z
LAST-MODIFIED:20240309T235444Z
UID:10002521-1711803600-1711807200@wotfa.org
SUMMARY:WOTFA District 9 Village Concepts Chehalis Playdate (one time only)
DESCRIPTION:Please join us for a one-time-only playdate on Saturday\, March 30th from 1:00pm-2:00pm at Village Concepts Chehalis\, located at 2100 SW Woodland Circle in Chehalis\, just behind Steck Clinic.   We’ll be using the same playlist as the other playdates in March. \nIf you have questions or would like a copy of the playlist please give me (Christie) a call or text at 360-791-5185 \nPlease remember that WOTFA requires all persons performing at a playdate to be active WOTFA members so their insurance will cover you. WOTFA membership is easy and costs just $25 per year.  Go to www.wotfa.org to join
URL:https://wotfa.org/event/wotfa-district-9-village-concepts-chehalis-playdate-one-time-only/
LOCATION:Village Concepts Chehalis\, 2100 SW Woodland Circle\, Chehalis\, 98532
CATEGORIES:District 9,Playout
ATTACH;FMTTYPE=image/jpeg:https://wotfa.org/wp-content/uploads/2024/03/Village-Concepts-Chehalis.jpg
ORGANIZER;CN="Christie Easter":MAILTO:mrwillys@aol.com
END:VEVENT
BEGIN:VEVENT
DTSTART;TZID=America/Los_Angeles:20240319T180000
DTEND;TZID=America/Los_Angeles:20240319T190000
DTSTAMP:20260423T062315
CREATED:20240309T235206Z
LAST-MODIFIED:20240309T235228Z
UID:10002520-1710871200-1710874800@wotfa.org
SUMMARY:WOTFA District 9 Lewis County Historical Museum Playdate
DESCRIPTION:Please join us for a fun evening playdate at the Lewis County Historical Society’s Annual Dinner on Monday\, March 19th.   We’ll be playing from 6:00pm-7:00pm and dinner is included for everyone in our group who is attending\, not just the musicians.  It’s a huge dinner and a friendly crowd and we’ll be using the same playlist as we have for the other playdates this month.  If you have questions or would like a copy of the playlist please give me (Christie) a call or text at 360-791-5185
URL:https://wotfa.org/event/wotfa-district-9-lewis-county-historical-museum-playdate/
LOCATION:Lewis County Historical Museum\, 99 NW Front Way\, Chehalis\, 98532
CATEGORIES:District 9,Featured,Playout
ATTACH;FMTTYPE=image/jpeg:https://wotfa.org/wp-content/uploads/2024/03/Lewis-County-Historical-Society.jpg
ORGANIZER;CN="Christie Easter":MAILTO:mrwillys@aol.com
END:VEVENT
BEGIN:VEVENT
DTSTART;TZID=America/Los_Angeles:20240313T160000
DTEND;TZID=America/Los_Angeles:20240313T170000
DTSTAMP:20260423T062315
CREATED:20240309T234856Z
LAST-MODIFIED:20240309T234856Z
UID:10002519-1710345600-1710349200@wotfa.org
SUMMARY:WOTFA District 9 Colonial Stillwater Estates Playdate
DESCRIPTION:Please join us for our regular 2nd Wednesday of the month playdate at Colonial Stillwater Residence on Wednesday\, March 13th from 4:00pm-5:00pm.  Colonial is located at 2700 Colonial Drive in Centralia\, off Cooks Hill Rd and just beyond Providence Centralia Hospital.  We’ll be playing in the big white building with pillars in the front.  The music parlor is just inside the main doors to the left. \nPlease remember that to perform at the playdate you must be an active WOTFA member (so their insurance can cover you).  Joining or renewing is easy and costs just $25 per year.  Go to www.wotfa.org and click on the ‘membership’ tab
URL:https://wotfa.org/event/wotfa-district-9-colonial-stillwater-estates-playdate/
LOCATION:Colonial Stillwater Estates\, 2700 Colonial Drive\, Centralia\, 98531
CATEGORIES:District 9,Playout
ATTACH;FMTTYPE=image/jpeg:https://wotfa.org/wp-content/uploads/2024/03/Colonial-Residence-at-Stillwaters-Centralia.jpg
ORGANIZER;CN="Christie Easter":MAILTO:mrwillys@aol.com
END:VEVENT
BEGIN:VEVENT
DTSTART;TZID=America/Los_Angeles:20240311T193000
DTEND;TZID=America/Los_Angeles:20240311T200000
DTSTAMP:20260423T062315
CREATED:20240309T234602Z
LAST-MODIFIED:20240309T234602Z
UID:10002518-1710185400-1710187200@wotfa.org
SUMMARY:WOTFA District 9 PNWCO Concert Intermission Playdate
DESCRIPTION:Please join WOTFA District 9 for our March 11th playdate as we play for the Pacific Northwest Chamber Orchestra Concert during their intermission.  We’ll be playing three or four of our favorite tunes while the orchestra takes their break midway through the concert.   We will most likely be going onstage at about 7:45 or thereabouts and we’ll be playing the following tunes:  1) Boil The Cabbage-A   2)  Redwing-G   and 3) Soldiers Joy-D.  If time permits we’ll play Cripple Creek in A or Turkey In The Straw in G. \nThe PNWCO concert is free and starts at 7:00pm\, more information is available at their website www.pnwchamberorcestra.org
URL:https://wotfa.org/event/wotfa-district-9-pnwco-concert-intermission-playdate/
LOCATION:Centralia College Corbet Theater\, 600 Centralia College Blvd\, Centralia\, 98531
CATEGORIES:District 9,Playout
ATTACH;FMTTYPE=image/png:https://wotfa.org/wp-content/uploads/2024/03/PNWCO.png
ORGANIZER;CN="Christie Easter":MAILTO:mrwillys@aol.com
END:VEVENT
BEGIN:VEVENT
DTSTART;TZID=America/Los_Angeles:20240301T100000
DTEND;TZID=America/Los_Angeles:20240301T120000
DTSTAMP:20260423T062315
CREATED:20220808T231958Z
LAST-MODIFIED:20230310T235440Z
UID:10001764-1709287200-1709294400@wotfa.org
SUMMARY:District 9 Monthly Meeting and Jam
DESCRIPTION:DISTRICT:  9 (Lewis & Thurston Counties)\nCHAIRPERSON:  Christie Easter 360-791-5185. mrwillys@aol.com\nREPORTER:  Same\nMEETING & JAM:  1st Friday of every month 10 am-Noon Faith Baptist Church 436 Coal Creek Rd\, Chehalis\n \nLink to Chord Charts for Common Jam Tunes
URL:https://wotfa.org/event/district-9-monthly-meeting-and-jam/2024-03-01/
LOCATION:Faith Baptist Church\, 436 Coal Creek Rd\, Chehalis\, 98532
CATEGORIES:District 9
ATTACH;FMTTYPE=image/png:https://wotfa.org/wp-content/uploads/2020/10/district-9.png
ORGANIZER;CN="Christie Easter":MAILTO:mrwillys@aol.com
END:VEVENT
BEGIN:VEVENT
DTSTART;TZID=America/Los_Angeles:20240110T160000
DTEND;TZID=America/Los_Angeles:20240110T170000
DTSTAMP:20260423T062315
CREATED:20191231T225238Z
LAST-MODIFIED:20230208T032048Z
UID:10000983-1704902400-1704906000@wotfa.org
SUMMARY:Colonial Stillwater Estates Playdate
DESCRIPTION:Please join District 9 for our regular 2nd Wednesday playdate from 4:00pm-5:00pm on Wednesday\, January 8th at Colonial Stillwater Estates in Centralia.  Colonial is located at 2700 Colonial Drive very close to Providence Centralia Hospital.  We will be playing in the music parlor inside the main residence hall (the big white building with pillars).  We hope to see you there!
URL:https://wotfa.org/event/colonial-stillwater-estates-playdate-2/2024-01-10/
LOCATION:Colonial Stillwater Estates\, 2700 Colonial Drive\, Centralia\, 98531
CATEGORIES:District 9,Playout
ORGANIZER;CN="Christie Easter":MAILTO:mrwillys@aol.com
END:VEVENT
END:VCALENDAR