BEGIN:VCALENDAR
VERSION:2.0
PRODID:-//Washington Old Time Fiddlers Association - ECPv6.15.12.2//NONSGML v1.0//EN
CALSCALE:GREGORIAN
METHOD:PUBLISH
X-ORIGINAL-URL:https://wotfa.org
X-WR-CALDESC:Events for Washington Old Time Fiddlers Association
REFRESH-INTERVAL;VALUE=DURATION:PT1H
X-Robots-Tag:noindex
X-PUBLISHED-TTL:PT1H
BEGIN:VTIMEZONE
TZID:America/Los_Angeles
BEGIN:DAYLIGHT
TZOFFSETFROM:-0800
TZOFFSETTO:-0700
TZNAME:PDT
DTSTART:20250309T100000
END:DAYLIGHT
BEGIN:STANDARD
TZOFFSETFROM:-0700
TZOFFSETTO:-0800
TZNAME:PST
DTSTART:20251102T090000
END:STANDARD
BEGIN:DAYLIGHT
TZOFFSETFROM:-0800
TZOFFSETTO:-0700
TZNAME:PDT
DTSTART:20260308T100000
END:DAYLIGHT
BEGIN:STANDARD
TZOFFSETFROM:-0700
TZOFFSETTO:-0800
TZNAME:PST
DTSTART:20261101T090000
END:STANDARD
BEGIN:DAYLIGHT
TZOFFSETFROM:-0800
TZOFFSETTO:-0700
TZNAME:PDT
DTSTART:20270314T100000
END:DAYLIGHT
BEGIN:STANDARD
TZOFFSETFROM:-0700
TZOFFSETTO:-0800
TZNAME:PST
DTSTART:20271107T090000
END:STANDARD
END:VTIMEZONE
BEGIN:VEVENT
DTSTART;TZID=America/Los_Angeles:20260413T133000
DTEND;TZID=America/Los_Angeles:20260413T153000
DTSTAMP:20260423T093905
CREATED:20260106T214232Z
LAST-MODIFIED:20260106T223303Z
UID:10003270-1776087000-1776094200@wotfa.org
SUMMARY:District 8 - Circle Jam at Puyallup Senior Center
DESCRIPTION:Easy to find\, Easy to park – great little circle jam in a nice space.  All are welcome to join or listen
URL:https://wotfa.org/event/district-8-circle-jam-at-puyallup-senior-center-2/2026-04-13/
LOCATION:Puyallup Senior Activity Center\, 210 W Pioneer Ave\, Puyallup\, WA\, 98371\, United States
CATEGORIES:District 8,Jam Session,Open Jams
ATTACH;FMTTYPE=image/png:https://wotfa.org/wp-content/uploads/2022/02/puyallupsenior.png
END:VEVENT
BEGIN:VEVENT
DTSTART;TZID=America/Los_Angeles:20260416T140000
DTEND;TZID=America/Los_Angeles:20260416T160000
DTSTAMP:20260423T093905
CREATED:20240927T144652Z
LAST-MODIFIED:20260106T223636Z
UID:10003434-1776348000-1776355200@wotfa.org
SUMMARY:Weekly 3rd Thursday Afternoon Phinney Jam
DESCRIPTION:Thursday Afternoon Old-Time Jam  \n2:00 to 4:00 pm\, 1st\, 3rd\, 5th Thursdays at the Phinney Center in Seattle \nPlease check the weekly update (on Facebook or email) to make sure it’s happening:  \nFacebook: https://www.facebook.com/groups/oldtimeseattle   \nEmail: oldtimeseattle@groups.io  \nPhinney Center\, 6532 Phinney Ave N\, Seattle – Upper ‘Blue’ Bldg.\, Room 5 on the 3rd Floor\, (Elevator accessible) \n\n\nWe play “Old-time” instrumental fiddle tunes from the Southern U.S.\, Midwest\, and other regions for the most part\, on traditional acoustic instruments like you would find at a square dance\, such as fiddle\, banjo\, guitar and mandolin.  No drums or amplified instruments.  We play by ear and don’t use sheet music. \n\n\nWe welcome musicians of any age or experience level interested in playing with us\, or learning more about this kind of music though this is not a slow or beginner jam \n\n\nWeekly tune history: Thu Jam Tune List 2023 – Google Sheets  \n\n\nPlease park in the free parking area adjacent to the ‘Blue’ building where we play\, or in the lower lot near the brick bldg. \n\n\nNo need to bring a chair. Wear warm clothes depending on the weather: the windows are often open during the jam and it can get chilly \n\n\nAttendance is free\, but occasional volunteering for Phinney events would be much appreciated \n\n\nNo alcohol during the jam.  There are plenty of opportunities for libations and food afterwards at nearby establishments! \n\n\nWe follow all Phinney Center rules and policies \n\n\nCovid: Room 5\, where we play\, has high ceilings\, large windows which we often open for air ventilation\, and a HEPA air filter. Masks are strongly advised and please be vaccinated\, boosted\, and symptom free when you come to the jam.   \n\n\n  \n  \nPlease see the weekly update beforehand: https://www.facebook.com/groups/oldtimeseattle \n\n\nUpper ‘Blue’ Building\, 2nd floor\, Room 5 (Street Level\, but up the stairs from the upper parking lot) \n\n\n\n\nWe play “Old-time” instrumental fiddle tunes from the Southern U.S. (and other regions) for the most part\, on traditional acoustic instruments like you would find at a square dance such as fiddle\, banjo\, guitar and mandolin.   \n\n\nWe welcome musicians of any age or experience level interested in playing with us or learning more about this kind of music.  \n\n\nIntroduction and Guidelines: https://sites.google.com/view/old-time-jam-introduction  \n\n\nTunes Played: Thu Jam Tune List 2023 – Google Sheets  \n\n\nThe center asks us to use the on-site free parking in the upper or lower lots adjacent to the Blue building\, were we play\, or adjacent to the lower brick building. \n\n\nNo need to bring a chair. Bring warm clothes. The windows are open during the jam and it can get chilly\, even on warm days. \n\n\nThere is no cost\, but our occasional volunteering for Phinney events would be much appreciated. \n\n\nNo Alcohol during the jam\, but there are plenty of opportunities for libations and food afterwards at nearby establishments! \n\n\nWe adhere to all Phinney Center Rules and Policies. \n\n\nUpdated 7/12/2023
URL:https://wotfa.org/event/weekly-3rd-thursday-afternoon-phinney-jam/2026-04-16/
LOCATION:Phinney Neighborhood Center\, 6532 Phinney Avenue North\, Seattle\, 98103
CATEGORIES:District 6,Jam Session,Open Jams
ATTACH;FMTTYPE=image/jpeg:https://wotfa.org/wp-content/uploads/2023/09/PhinneyCenter-BlueBuilding.jpg
END:VEVENT
BEGIN:VEVENT
DTSTART;TZID=America/Los_Angeles:20260416T190000
DTEND;TZID=America/Los_Angeles:20260416T213000
DTSTAMP:20260423T093905
CREATED:20230811T232301Z
LAST-MODIFIED:20260106T223822Z
UID:10003794-1776366000-1776375000@wotfa.org
SUMMARY:Weekly Lake City Contra Dance
DESCRIPTION:Thursday nights; doors open at 7 pm \nDances: intro/refresher workshop 7:15 pm\, dancing 7:30 till 10:00 pm \nAdmission on a sliding scale $10 – 20 – pay what you can \nThe hall is well-ventilated and air-conditioned! \nFor more information call 206-525-0932\, or email sjnevins@gmail.com.
URL:https://wotfa.org/event/weekly-lake-city-contra-dance/2026-04-16/
LOCATION:Seattle Latvian Center\, 11710 3rd Avenue NE\, Seattle\, 98125
CATEGORIES:Contra Dance,District 6
ATTACH;FMTTYPE=image/png:https://wotfa.org/wp-content/uploads/2023/08/Lake-City.png
ORGANIZER;CN="Sherry Nevins":MAILTO:sjnevins@gmail.com
END:VEVENT
BEGIN:VEVENT
DTSTART;TZID=America/Los_Angeles:20260417T190000
DTEND;TZID=America/Los_Angeles:20260417T213000
DTSTAMP:20260423T093905
CREATED:20230811T233140Z
LAST-MODIFIED:20260106T223735Z
UID:10003519-1776452400-1776461400@wotfa.org
SUMMARY:Weekly Emerald City Contra Dance
DESCRIPTION:Emerald City Contra Dance \nwith the Seattle Folklore Society present Contra dancing every Friday at the Phinney Neighborhood Center \n6532 Phinney Avenue North\, Seattle (98103) \nin the Community Hall of the brick building\, near the lower parking lot \nBeginner’s workshop at 7:00 pm (or thereabouts). Dance from 7:30 pm to 10:00 pm. \n  \nAdmission prices (cash or check only): \n\nSliding scale $10-$20.\nStudents $5 with a school ID.\nFree for people under the age of 16.\n\nAdmission limited to 100 people. This total includes paying & non-paying dancers\, musicians\, callers\, children\, and adults acting like children. (In short\, everyone.) \nFirst time contra dancers get a coupon for free admission to their next dance.\nCoupon redemption limited to first five coupons on any single night. \nFollow us on Facebook. Find items that you left behind on Facebook. \nPlease help the PNA achieve their sustainability goals. Consider carpooling\, walking\, biking\, or riding the bus to the dance. If you drive\, please park in the PNA parking lots. \nAll dances taught. No partner necessary.\nLight\, comfortable clothing recommended.\nPlease join us without perfumes\, colognes\, aftershave\, scented lotions\, etc. \n\nMore information for dancers.\nInformation for bands and callers.\nPast caller set lists.\nBands and callers: we’ll have an online booking form available soon. \nFor information not already posted here: 206-440-9839 or emeraldcitycontra@pobox.com
URL:https://wotfa.org/event/weekly-emerald-city-contra-dance/2026-04-17/
LOCATION:Phinney Neighborhood Center\, 6532 Phinney Avenue North\, Seattle\, 98103
CATEGORIES:Contra Dance,District 6
ATTACH;FMTTYPE=image/jpeg:https://wotfa.org/wp-content/uploads/2023/08/emerald-city.jpg
ORGANIZER;CN="Emerald City Contra Dace":MAILTO:emeraldcitycontra@pobox.com
END:VEVENT
BEGIN:VEVENT
DTSTART;VALUE=DATE:20260419
DTEND;VALUE=DATE:20260421
DTSTAMP:20260423T093905
CREATED:20260325T203036Z
LAST-MODIFIED:20260325T203110Z
UID:10004068-1776556800-1776729599@wotfa.org
SUMMARY:Northwest Regional Fiddle Contest
DESCRIPTION:A two-day regional fiddle contest. We have all age divisions and welcome all skill levels. This is our second year adding a junior and adult picking division with top 5 prizes. We are a NOTFC Inc. certified regional contest. For more details\, visit our website: www.northwestregionals.com
URL:https://wotfa.org/event/northwest-regional-fiddle-contest/
LOCATION:Trent Elementary Auditorium\, 3303 N Pines Rd\, Spokane Valley\, WA\, 99206
CATEGORIES:Contest,Featured
ATTACH;FMTTYPE=image/png:https://wotfa.org/wp-content/uploads/2026/03/Northwest_Fiddle_Contest_Crimson300a.png
ORGANIZER;CN="Northwest Regional Fiddle Contest":MAILTO:nwrfiddlecontest@gmail.com
END:VEVENT
BEGIN:VEVENT
DTSTART;TZID=America/Los_Angeles:20260419T140000
DTEND;TZID=America/Los_Angeles:20260419T170000
DTSTAMP:20260423T093905
CREATED:20251221T220031Z
LAST-MODIFIED:20260106T223420Z
UID:10003311-1776607200-1776618000@wotfa.org
SUMMARY:District 8 Monthly Jam (with a little meeting)
DESCRIPTION:3rd Sundays 2PM District 8 Meeting and Jam. We’ll have a short meeting followed by longer circle jam at 10205 44th Ave E\, Tacoma 98446. Behind the school where there’s plenty of parking. Bring a friend and an instrument. Meet some nice people! Finger foods welcome.
URL:https://wotfa.org/event/district-8-monthly-jam-with-a-little-meeting-3/2026-04-19/
LOCATION:Mid-County Community Center\, 10205 44th Ave E\, Tacoma\, WA\, 98446\, United States
CATEGORIES:District 8,Jam Session,Meeting,Open Jams
ATTACH;FMTTYPE=image/jpeg:https://wotfa.org/wp-content/uploads/2023/06/MCCC.jpg
END:VEVENT
END:VCALENDAR