BEGIN:VCALENDAR
VERSION:2.0
PRODID:-//Washington Old Time Fiddlers Association - ECPv6.15.12.2//NONSGML v1.0//EN
CALSCALE:GREGORIAN
METHOD:PUBLISH
X-ORIGINAL-URL:https://wotfa.org
X-WR-CALDESC:Events for Washington Old Time Fiddlers Association
REFRESH-INTERVAL;VALUE=DURATION:PT1H
X-Robots-Tag:noindex
X-PUBLISHED-TTL:PT1H
BEGIN:VTIMEZONE
TZID:America/Los_Angeles
BEGIN:DAYLIGHT
TZOFFSETFROM:-0800
TZOFFSETTO:-0700
TZNAME:PDT
DTSTART:20250309T100000
END:DAYLIGHT
BEGIN:STANDARD
TZOFFSETFROM:-0700
TZOFFSETTO:-0800
TZNAME:PST
DTSTART:20251102T090000
END:STANDARD
BEGIN:DAYLIGHT
TZOFFSETFROM:-0800
TZOFFSETTO:-0700
TZNAME:PDT
DTSTART:20260308T100000
END:DAYLIGHT
BEGIN:STANDARD
TZOFFSETFROM:-0700
TZOFFSETTO:-0800
TZNAME:PST
DTSTART:20261101T090000
END:STANDARD
BEGIN:DAYLIGHT
TZOFFSETFROM:-0800
TZOFFSETTO:-0700
TZNAME:PDT
DTSTART:20270314T100000
END:DAYLIGHT
BEGIN:STANDARD
TZOFFSETFROM:-0700
TZOFFSETTO:-0800
TZNAME:PST
DTSTART:20271107T090000
END:STANDARD
END:VTIMEZONE
BEGIN:VEVENT
DTSTART;TZID=America/Los_Angeles:20260406T133000
DTEND;TZID=America/Los_Angeles:20260406T153000
DTSTAMP:20260423T045614
CREATED:20260106T214232Z
LAST-MODIFIED:20260106T223303Z
UID:10003269-1775482200-1775489400@wotfa.org
SUMMARY:District 8 - Circle Jam at Puyallup Senior Center
DESCRIPTION:Easy to find\, Easy to park – great little circle jam in a nice space.  All are welcome to join or listen
URL:https://wotfa.org/event/district-8-circle-jam-at-puyallup-senior-center-2/2026-04-06/
LOCATION:Puyallup Senior Activity Center\, 210 W Pioneer Ave\, Puyallup\, WA\, 98371\, United States
CATEGORIES:District 8,Jam Session,Open Jams
ATTACH;FMTTYPE=image/png:https://wotfa.org/wp-content/uploads/2022/02/puyallupsenior.png
END:VEVENT
BEGIN:VEVENT
DTSTART;TZID=America/Los_Angeles:20260408T160000
DTEND;TZID=America/Los_Angeles:20260408T170000
DTSTAMP:20260423T045614
CREATED:20260407T020525Z
LAST-MODIFIED:20260407T020525Z
UID:10004070-1775664000-1775667600@wotfa.org
SUMMARY:District 9 April Colonial Stillwater Estates Playdate
DESCRIPTION:Please join us as we play our regular 2nd Wednesday of every month playdate at Colonial Stillwater Estates on Wednesday \, April 8th\, 2026 from 4:00pm-5:00pm.  Colonial is located at 2700 Colonial Drive in Centralia\, just off Cooks Hill Rd and about 3/4 mile past Providence Centralia Hospital. We will be playing in the Residence Building which is the big white building with pillars in the front. We will be playing in the music parlor which is just inside the main doors and to the left. \nWe will be using the April playlist for this playdate. If you have questions or need a copy of the playlist please give me (Christie) a call or text at 360-781-5185
URL:https://wotfa.org/event/district-9-april-colonial-stillwater-estates-playdate/
LOCATION:Colonial Stillwater Estates\, 2700 Colonial Drive\, Centralia\, 98531
CATEGORIES:District 9,Playout
ATTACH;FMTTYPE=image/png:https://wotfa.org/wp-content/uploads/2026/03/IMG_1093-1.png
ORGANIZER;CN="Christie Easter":MAILTO:mrwillys@aol.com
END:VEVENT
BEGIN:VEVENT
DTSTART;TZID=America/Los_Angeles:20260409T190000
DTEND;TZID=America/Los_Angeles:20260409T213000
DTSTAMP:20260423T045614
CREATED:20230811T232301Z
LAST-MODIFIED:20260106T223822Z
UID:10003793-1775761200-1775770200@wotfa.org
SUMMARY:Weekly Lake City Contra Dance
DESCRIPTION:Thursday nights; doors open at 7 pm \nDances: intro/refresher workshop 7:15 pm\, dancing 7:30 till 10:00 pm \nAdmission on a sliding scale $10 – 20 – pay what you can \nThe hall is well-ventilated and air-conditioned! \nFor more information call 206-525-0932\, or email sjnevins@gmail.com.
URL:https://wotfa.org/event/weekly-lake-city-contra-dance/2026-04-09/
LOCATION:Seattle Latvian Center\, 11710 3rd Avenue NE\, Seattle\, 98125
CATEGORIES:Contra Dance,District 6
ATTACH;FMTTYPE=image/png:https://wotfa.org/wp-content/uploads/2023/08/Lake-City.png
ORGANIZER;CN="Sherry Nevins":MAILTO:sjnevins@gmail.com
END:VEVENT
BEGIN:VEVENT
DTSTART;TZID=America/Los_Angeles:20260410T150000
DTEND;TZID=America/Los_Angeles:20260410T220000
DTSTAMP:20260423T045614
CREATED:20260106T213618Z
LAST-MODIFIED:20260106T213618Z
UID:10003198-1775833200-1775858400@wotfa.org
SUMMARY:District 16 Second Friday jam
DESCRIPTION:Just an Old Time jam (mostly) where we sit around in a circle and pass the mic.  All levels of players and all acoustic instruments welcome. \nCoffee and snacks served\, and more snacks are welcome! \n  \n 
URL:https://wotfa.org/event/district-16-second-friday-jam/2026-04-10/
LOCATION:Sisco Heights Community Club\, 13527 99th Ave. NE\, Arlington\, 98223
CATEGORIES:Jam Session
ATTACH;FMTTYPE=image/jpeg:https://wotfa.org/wp-content/uploads/2026/01/cat-and-fiddle-e1767735356927.jpeg
ORGANIZER;CN="Noel Lareau":MAILTO:noelula@aol.com
END:VEVENT
BEGIN:VEVENT
DTSTART;TZID=America/Los_Angeles:20260410T190000
DTEND;TZID=America/Los_Angeles:20260410T213000
DTSTAMP:20260423T045614
CREATED:20230811T233140Z
LAST-MODIFIED:20260106T223735Z
UID:10003518-1775847600-1775856600@wotfa.org
SUMMARY:Weekly Emerald City Contra Dance
DESCRIPTION:Emerald City Contra Dance \nwith the Seattle Folklore Society present Contra dancing every Friday at the Phinney Neighborhood Center \n6532 Phinney Avenue North\, Seattle (98103) \nin the Community Hall of the brick building\, near the lower parking lot \nBeginner’s workshop at 7:00 pm (or thereabouts). Dance from 7:30 pm to 10:00 pm. \n  \nAdmission prices (cash or check only): \n\nSliding scale $10-$20.\nStudents $5 with a school ID.\nFree for people under the age of 16.\n\nAdmission limited to 100 people. This total includes paying & non-paying dancers\, musicians\, callers\, children\, and adults acting like children. (In short\, everyone.) \nFirst time contra dancers get a coupon for free admission to their next dance.\nCoupon redemption limited to first five coupons on any single night. \nFollow us on Facebook. Find items that you left behind on Facebook. \nPlease help the PNA achieve their sustainability goals. Consider carpooling\, walking\, biking\, or riding the bus to the dance. If you drive\, please park in the PNA parking lots. \nAll dances taught. No partner necessary.\nLight\, comfortable clothing recommended.\nPlease join us without perfumes\, colognes\, aftershave\, scented lotions\, etc. \n\nMore information for dancers.\nInformation for bands and callers.\nPast caller set lists.\nBands and callers: we’ll have an online booking form available soon. \nFor information not already posted here: 206-440-9839 or emeraldcitycontra@pobox.com
URL:https://wotfa.org/event/weekly-emerald-city-contra-dance/2026-04-10/
LOCATION:Phinney Neighborhood Center\, 6532 Phinney Avenue North\, Seattle\, 98103
CATEGORIES:Contra Dance,District 6
ATTACH;FMTTYPE=image/jpeg:https://wotfa.org/wp-content/uploads/2023/08/emerald-city.jpg
ORGANIZER;CN="Emerald City Contra Dace":MAILTO:emeraldcitycontra@pobox.com
END:VEVENT
BEGIN:VEVENT
DTSTART;TZID=America/Los_Angeles:20260411T100000
DTEND;TZID=America/Los_Angeles:20260411T140000
DTSTAMP:20260423T045614
CREATED:20260407T020215Z
LAST-MODIFIED:20260407T020215Z
UID:10004075-1775901600-1775916000@wotfa.org
SUMMARY:District 15 Sequim Jam
DESCRIPTION:District 15 hosted jam. \nOpen to the public old time fiddle jam. \nFirst hour 10 t0 11 is a slow jam. \nSt. Luke’s Episcopal Church\, \n525 N. 5th\, Sequim
URL:https://wotfa.org/event/district-15-sequim-jam/
END:VEVENT
END:VCALENDAR