BEGIN:VCALENDAR
VERSION:2.0
PRODID:-//Washington Old Time Fiddlers Association - ECPv6.15.12.2//NONSGML v1.0//EN
CALSCALE:GREGORIAN
METHOD:PUBLISH
X-WR-CALNAME:Washington Old Time Fiddlers Association
X-ORIGINAL-URL:https://wotfa.org
X-WR-CALDESC:Events for Washington Old Time Fiddlers Association
REFRESH-INTERVAL;VALUE=DURATION:PT1H
X-Robots-Tag:noindex
X-PUBLISHED-TTL:PT1H
BEGIN:VTIMEZONE
TZID:America/Los_Angeles
BEGIN:DAYLIGHT
TZOFFSETFROM:-0800
TZOFFSETTO:-0700
TZNAME:PDT
DTSTART:20250309T100000
END:DAYLIGHT
BEGIN:STANDARD
TZOFFSETFROM:-0700
TZOFFSETTO:-0800
TZNAME:PST
DTSTART:20251102T090000
END:STANDARD
BEGIN:DAYLIGHT
TZOFFSETFROM:-0800
TZOFFSETTO:-0700
TZNAME:PDT
DTSTART:20260308T100000
END:DAYLIGHT
BEGIN:STANDARD
TZOFFSETFROM:-0700
TZOFFSETTO:-0800
TZNAME:PST
DTSTART:20261101T090000
END:STANDARD
BEGIN:DAYLIGHT
TZOFFSETFROM:-0800
TZOFFSETTO:-0700
TZNAME:PDT
DTSTART:20270314T100000
END:DAYLIGHT
BEGIN:STANDARD
TZOFFSETFROM:-0700
TZOFFSETTO:-0800
TZNAME:PST
DTSTART:20271107T090000
END:STANDARD
END:VTIMEZONE
BEGIN:VEVENT
DTSTART;TZID=America/Los_Angeles:20260209T133000
DTEND;TZID=America/Los_Angeles:20260209T153000
DTSTAMP:20260423T045546
CREATED:20260106T214232Z
LAST-MODIFIED:20260106T223303Z
UID:10003261-1770643800-1770651000@wotfa.org
SUMMARY:District 8 - Circle Jam at Puyallup Senior Center
DESCRIPTION:Easy to find\, Easy to park – great little circle jam in a nice space.  All are welcome to join or listen
URL:https://wotfa.org/event/district-8-circle-jam-at-puyallup-senior-center-2/2026-02-09/
LOCATION:Puyallup Senior Activity Center\, 210 W Pioneer Ave\, Puyallup\, WA\, 98371\, United States
CATEGORIES:District 8,Jam Session,Open Jams
ATTACH;FMTTYPE=image/png:https://wotfa.org/wp-content/uploads/2022/02/puyallupsenior.png
END:VEVENT
BEGIN:VEVENT
DTSTART;TZID=America/Los_Angeles:20260211T160000
DTEND;TZID=America/Los_Angeles:20260211T170000
DTSTAMP:20260423T045546
CREATED:20260213T030442Z
LAST-MODIFIED:20260213T030442Z
UID:10004053-1770825600-1770829200@wotfa.org
SUMMARY:February Colonial Stillwater Playdate
DESCRIPTION:Please join WOTFA District 9 as we play our regular second Wednesday of the month playdate at Colonial Stillwater Estates on Wednesday\, February 11th\, 2026 from 4:00 pm-5:00pm. Colonial is located at 2700 Colonial Drive in Centralia\, just off Cooks Hill Rd and about 3/4 mile past Providence Centralia Hospital.\nWe will be playing in the Residence Building\, which is the big white building with pillars. The music parlor is just inside the main entrance and to the left.  We will be using the February playlist for all play dates this month. \nIf you have questions or need more information please give me (Christie) a call or text at 360-791-5185
URL:https://wotfa.org/event/february-colonial-stillwater-playdate/
LOCATION:Colonial Stillwater Estates\, 2700 Colonial Drive\, Centralia\, 98531
CATEGORIES:District 9,Playout
ATTACH;FMTTYPE=image/png:https://wotfa.org/wp-content/uploads/2026/02/IMG_1092.png
ORGANIZER;CN="Christie Easter":MAILTO:mrwillys@aol.com
END:VEVENT
BEGIN:VEVENT
DTSTART;VALUE=DATE:20260212
DTEND;VALUE=DATE:20260216
DTSTAMP:20260423T045546
CREATED:20260209T163749Z
LAST-MODIFIED:20260209T163816Z
UID:10004051-1770854400-1771199999@wotfa.org
SUMMARY:Oly Old Time Festival
DESCRIPTION:Join us for the 16th Oly Old Time Festival! \nFebruary 12-15\, 2026\nAbout the Festival\n\nThe Olympia Old Time Festival (Olympia\, WA) is an annual music event dedicated to teaching\, learning\, and participating in the tradition of old-time music. Artists from around the US and Canada come to play concerts\, jam\, call dances\, and teach workshops in this beloved event well-known in the national Old Time Music scene. The festival began in 2008 as a grassroots passion project and in 2016 became a program of Arbutus Folk School. \nWe open with a jam at a downtown restaurant/brewery on Thursday night\, run concurrent workshops during the day and concerts/dances at night on Friday and Saturday\, and end on Sunday afternoon. Events for this festival unfold at multiple locations: Arbutus Folk School downtown\, and the South Bay Grange. \nWe offer amazing concerts and performances\, entertaining and exciting old time traditional dances\, and hands-on workshops that cover a wide variety of musical instruments\, singing styles\, traditional crafts\, and dances. Old-Time music is highly participatory\, with most fans participating in dances to the music and usually are musicians themselves. \n​The opportunity to learn from\, jam with\, and dance to music from well-known national artists is a key feature of the festival. Free daytime workshops cover topics like clawhammer banjo\, fiddle tunes in two keys\, hambone (body percussion)\, make a crankie\, two-step and waltz Cajun dancing\, and clogging\, all led by festival artists in addition to their nighttime performances and all-weekend jams. \n2026 Festival Schedule!\n(scroll to bottom for workshop schedule!)\n\n\n\n\n\nThursday 2/12\n​Kick Off Jam (Free)\n​6pm-9pm                        Ilk Lodge Brewery (Downtown Olympia)\n9pm until it ends          Mossy Bottom Records (Downtown Olympia)\n\n\n\n\n\n\n\n\n\n\n\n\nFriday 2/13\n\n\n​​Saturday 2/14\n\n\n\n\n\n\n\n\n\n\n\n\n\n\nDaytime Workshops (Free)\n1 1/2 hour long workshops\, scroll down for workshop details​Daytime Workshop Locations\n 12pm-4:30pm              Arbutus Folk School\n12pm-4:30pm              South Bay Grange \n\n​Friday Evening Events\n​(get tickets here!)\n​\nLounge Acts                  South Bay Grange\n5pm-6pm                     \nDear Crow6pm-7pm                     \nMississippi Hotdogs\n                            \nMain Concert               South Bay Grange\n7pm-10pm                 \nSquirrel Butter\nGolden Shoals\nAlum Ridge Boys and Ashlee\n​​\nSquare Dance             South Bay Grange\n10pm-12pm  \nThe Tallboys Reunion! \n​Caller: Connor Maguire    \n​\n​\n​\nJamming throughout and late\, late at Grange         \n\n\n\nDaytime Workshops (Free) \n1 1/2 hour long workshops\, scroll down for workshop detailsDaytime Workshop Locations\n 12pm-4:30pm              Arbutus Folk School\n12pm-4:30pm              South Bay Grange\n​ \n\nSaturday Evening Events\n(get tickets here!\n​\nLounge Acts                South Bay Grange\n5pm-6pm                     \nThe Tallboys Stringband6pm-7pm                     \nTradwife Stringband\n​​\nSquare Dance            South Bay Grange\n7pm-9pm  \nAlum Ridge Boys and Ashlee \n​Caller: Charmaine Slaven     \nHonky Tonk Dance\n9pm-11pm                  South Bay Grange\nMississippi Hotdogs \nLine Dancing\nSouth Bay Grange\n11pm – until it ends!  \n​\nJamming throughout and late\, late at Grange \n\n\n\n\n\n\n\n\n\n\n\n\n\nSunday 2/15 \nCrankie Show (Free)\n1pm-3pm                    South Bay GrangeWhat is a Crankie? \nA crankie is a centuries-old art form and story telling tradition that brings together music\, lyrics\, and art. It consists of a box with two scrolls of paper or some other material that is “cranked” to reveal images that are set to music and lyrics. If you have never seen a crankie show you are in for a treat!​Our crankie show will feature performances by Sue Truman and the Crankie Factory (with W.B. Reid and Jerry Gallaher)\, Zoe Leger\, and the Oly Old Time Festival crankie (made during Friday’s crankie-making workshop). \n​\n\n\n\n\n\n\n\n\n\n   \n\n\n\n\n\n\n\n   \n\n\n\n\n\n\n\n   \n\n\n\n\n\n\n\n\n\n\n\n\n\n\n\n2026 Workshop Schedule!\nWorkshop Locations: \nClick HERE for directions to workshop venuesWorkshops run from 1.5 – 2.5 hours (note the times for each workshop)\nNote the location: South Bay Grange or Arbutus Folk School\nYellow indicates especially family or kid friendly \n\n\n\n\n\n\n\n\n\n\n\n\n\nFriday Workshops\n\n\nSaturday Workshops\n\n\n\n\n\n\n\n\n\n\n\n\n\n\n\n\n\n\n\n\n\n\n\n\n\n\n\n\n\n\n\n\n\n\n\n\n\n\n\n\n12pm – 1:30pm\nOld Time Fiddle (all levels)\nSouth Bay Grange Hall\nCharlie Beck\nPlay some fun and accessible old time fiddle tunes.  Charlie will teach the particulars and then you’ll take ’em for a spin together.  Questions and participation will be welcome.12pm – 2:30pm (note this is a 2.5 hour workshop)\nCommunity Crankie Making (all levels) \nSouth Bay Grange Lounge\nEmily Teachout and Shanty Slater\nIllustrate a tune or ballad on a scroll of paper\, then perform it by illuminating it from behind and rolling it by in time to the music.  Emily and Shanty will demonstrate a crankie they’ve already made and then the class will make one together.  Bring yourself and your creativity.  All supplies provided.  There may be an opportunity to perform the crankie later in the week!12pm – 1:30pm\nOld Time Mandolin (Intermediate)\nArbutus Folk School Front Room\nAndrew Small\nTune up the old 8-string and explore all things mandolin! Spend time covering useful shapes\, chord voicings\, and other repeating patterns that will expand your facility on the instrument and can add variety and color to your playing. We’ll consult recordings of mandolin masters who demonstrate a variety of approaches to using the instrument in a traditional context. Along the way\, we’ll hammer home the three T’s – Tone\, Taste\, and Timing (although not necessarily in that order). If you love the mandolin\, this is the class for you! \n\n\n\n\n\n\n1:30pm – 3:00pm\nCajun Accordion (all levels)\nSouth Bay Grange Hall\nPaul Denison\nCome learn the basics of playing cajun ornamentation on the one row button accordion. All experience levels are welcome! Paul will have accordions in C and D.  \n1:30pm – 3:00pm\nUpright Bass (intermediate)\nTraditional Bass Playing\nArbutus Folk School Front Room\nRina Rossi\nBass players don’t usually play tons of notes per measure in an old-time setting\, so it’s how you play each note that counts. We’ll dig into how to be a bumping bass player. We’ll start with some basics like technique\, tone\, attack and length of sustain\, and go over chords/bass notes in the keys of G\, D\, A\, and C. We’ll then move on to pushing and pulling the beat\, note choices\, strategies for playing by ear in jams\, basic theory/chord patterns that you see in traditional music\, and getting comfortable backing up tunes at medium speeds.\n\n\n\n\n\n​2:30pm – 4:00pm\nFiddle Luthier\nSouth Bay Grange Lounge\nAnna Sandys\nDoes your fiddle need some care and feeding?  Come visit with Anna Sandys a luthier from Portland\, Oregon.  Anna draws from her expertise as a violin maker and fiddle refurbisher to help you troubleshoot issues\, and learn to maintain your instrument in peak condition.\n\n\n\n\n\n3:00pm – 4:30pm\nHoofin’ it! Flatfoot Dance (all levels)\nSouth Bay Grange Hall\nCharmaine Slaven\nLearn to accompany old-time music with rhythms you create with your feet. We’ll cover introductory steps\, and then explore interesting rhythms that intermediate dancers can add to their repertoire.​3:00pm – 4:30pm\nFiddle (Intermediate)\n​Intuitive Bowing \nArbutus Folk School Front Room\nJoe Fulton\nJoe\, fiddler in the Mississippi Hotdogs\, and formerly of the Tallboys\, will lead a workshop on intuitive bowing.  Joe’s known for his driving and danceable tunes so his insights are bound to enhance your playing.\n \n\n\n\n\n\n\n\n\n12pm – 1:30pm\nHarmony Singing with Andrew Small and Ashlee Watkins\nSouth Bay Grange Hall (all levels)\nAndrew Small and Ashlee Watkins \nDelve into the nitty gritty details of harmony singing through the traditional song repertoire of SW Virginia. Ideas covered will include shaping a harmony line\, stacking different parts\, and settling on the right key. Discuss stylistic choices involved in designing a harmony line as well as how to achieve a good vocal blend through phrasing\, pronunciation\, tone\, and intonation. Bring your voice and all of your questions about harmony singing. Recording devices are welcome and encouraged!12pm – 1:30pm \nCrankie Factory (all levels)\nSouth Bay Grange Lounge\nSue Truman\nCrankies are a 19th century stortelling art form involving a long scroll that is loaded into a viewing box and usually set to live music.  In this workshop\, you can make a matchbox crankie with The Crankie Factory!  Take home an adorable crankie along with a folkart bottle cap pie\, miniature rolling pin and tiny felted pumpkin!  You will have your own analog entertainment center!  You can color an illustrated scroll or create one of your own design.  All materials provided.12pm – 1:30pm\nFiddle C-Tunes (Intermediate)\nArbutus Folk School Front Room\nAmy Alvey\nOld time fiddlers are often intimidated by the key of C\, but they can be tons of fun! Let’s learn a couple of C tunes to expand our repertoire and demystify common phrases. \n\n\n\n\n\n\n1:30pm – 3:00pm\nAll Ages Jam (all levels family friendly)\nSouth Bay Grange Hall\nSam\, Charlie and Greta\nSam\, Charlie and Greta\, of Portland’s Triple File\, will lead a kid-oriented jam with familiar tunes.  All acoustic instruments welcome.  All interested youngsters are welcome to participate.  It’s helpful if there is some willingness to try picking up tunes by ear.  The focus will be on familiar\, accesible tunes.\n\n1:30pm – 3:00pm\nRagtime Jam (all instruments all levels)\nSouth Bay Grange Lounge\nAnna Sandys\nPlay county rags along with friends.  We’ll explore the keys of C\,F and Bb! All instruments welcome!​​ \n1:30pm – 3:00pm\nGuitar (intermediate)\nThe Groove is in your Hands!\nArbutus Folk School Front Room\nMark Killanski\nGuitar is the glue of a string band’s collective rhythm. We’ll explore many elements of this broad style\, including timing\, tone\, chord choices\, bass runs\, jam etiquette\, practice techniques\, and more. We’ll listen to a wide array of approaches to guitar across the Old Time genre and discuss this world of possibilities\, as well the history and development of the music.\n\n\n\n\n\n3:00pm – 4:30pm\nAll Ages Dance (family friendly)\nSouth Bay Grange Hall\nCaroline Oakley calling\nCaroline will teach all the necessary moves in a fun and gentle way to include all levels and ages.  Live music from the Shnoll Family Band plus Greta! The Schnoll Family Band features brothers Sam and Charlie\, along with their parents Kate and Steph and they’re joined by their pal Greta.   You can bet on this dance being a blast.  This is a square dance that is especially geared towards inclusion of youngsters.​ \n​3:00pm – 4:30pm\nClawhammer Banjo (intermediate)\nBacking Up the Singer on Clawhammer\nSouth Bay Grange Lounge\nCharlie Beck\nBanjos are a joy to play and sing with.  This workshop will use some great\, old time-y songs to peek at the banjo’s many plucky possibilities. With an emphasis on creating solid grooves\, you’ll delve into the interplay between the banjoist and the singer and other instrumentalists. Learn specific clawhammer techniques like the bumditty\, along with drop-thumbing\, and explore ideas for playing up the neck. Also chords will be shown\, scales will be revealed\, soloing will be explained\, songs will be sung and banjo jokes will be shared.​3:00pm – 4:30pm\nIntro to Mandolin (beginner)\nArbutus Folk School Front Room\nJack Dwyer\nWhether you are new to music entirely or just new to the mandolin\, this is the place to get you on your way. The mandolin can be either a lead or chord instrument so we’ll focus on a little of both.
URL:https://wotfa.org/event/oly-old-time-festival-2/
LOCATION:South Bay Grange\, 3918 Sleater Kinney Rd NE\, Olympia\, WA\, 98506\, United States
CATEGORIES:Featured,Festival,Open Jams,Show,Workshop
ATTACH;FMTTYPE=image/jpeg:https://wotfa.org/wp-content/uploads/2024/02/Oly.jpg
END:VEVENT
BEGIN:VEVENT
DTSTART;TZID=America/Los_Angeles:20260212T190000
DTEND;TZID=America/Los_Angeles:20260212T213000
DTSTAMP:20260423T045546
CREATED:20230811T232301Z
LAST-MODIFIED:20260106T223822Z
UID:10003785-1770922800-1770931800@wotfa.org
SUMMARY:Weekly Lake City Contra Dance
DESCRIPTION:Thursday nights; doors open at 7 pm \nDances: intro/refresher workshop 7:15 pm\, dancing 7:30 till 10:00 pm \nAdmission on a sliding scale $10 – 20 – pay what you can \nThe hall is well-ventilated and air-conditioned! \nFor more information call 206-525-0932\, or email sjnevins@gmail.com.
URL:https://wotfa.org/event/weekly-lake-city-contra-dance/2026-02-12/
LOCATION:Seattle Latvian Center\, 11710 3rd Avenue NE\, Seattle\, 98125
CATEGORIES:Contra Dance,District 6
ATTACH;FMTTYPE=image/png:https://wotfa.org/wp-content/uploads/2023/08/Lake-City.png
ORGANIZER;CN="Sherry Nevins":MAILTO:sjnevins@gmail.com
END:VEVENT
BEGIN:VEVENT
DTSTART;TZID=America/Los_Angeles:20260213T150000
DTEND;TZID=America/Los_Angeles:20260213T220000
DTSTAMP:20260423T045546
CREATED:20260106T213618Z
LAST-MODIFIED:20260106T213618Z
UID:10003196-1770994800-1771020000@wotfa.org
SUMMARY:District 16 Second Friday jam
DESCRIPTION:Just an Old Time jam (mostly) where we sit around in a circle and pass the mic.  All levels of players and all acoustic instruments welcome. \nCoffee and snacks served\, and more snacks are welcome! \n  \n 
URL:https://wotfa.org/event/district-16-second-friday-jam/2026-02-13/
LOCATION:Sisco Heights Community Club\, 13527 99th Ave. NE\, Arlington\, 98223
CATEGORIES:Jam Session
ATTACH;FMTTYPE=image/jpeg:https://wotfa.org/wp-content/uploads/2026/01/cat-and-fiddle-e1767735356927.jpeg
ORGANIZER;CN="Noel Lareau":MAILTO:noelula@aol.com
END:VEVENT
BEGIN:VEVENT
DTSTART;TZID=America/Los_Angeles:20260213T190000
DTEND;TZID=America/Los_Angeles:20260213T213000
DTSTAMP:20260423T045546
CREATED:20230811T233140Z
LAST-MODIFIED:20260106T223735Z
UID:10003510-1771009200-1771018200@wotfa.org
SUMMARY:Weekly Emerald City Contra Dance
DESCRIPTION:Emerald City Contra Dance \nwith the Seattle Folklore Society present Contra dancing every Friday at the Phinney Neighborhood Center \n6532 Phinney Avenue North\, Seattle (98103) \nin the Community Hall of the brick building\, near the lower parking lot \nBeginner’s workshop at 7:00 pm (or thereabouts). Dance from 7:30 pm to 10:00 pm. \n  \nAdmission prices (cash or check only): \n\nSliding scale $10-$20.\nStudents $5 with a school ID.\nFree for people under the age of 16.\n\nAdmission limited to 100 people. This total includes paying & non-paying dancers\, musicians\, callers\, children\, and adults acting like children. (In short\, everyone.) \nFirst time contra dancers get a coupon for free admission to their next dance.\nCoupon redemption limited to first five coupons on any single night. \nFollow us on Facebook. Find items that you left behind on Facebook. \nPlease help the PNA achieve their sustainability goals. Consider carpooling\, walking\, biking\, or riding the bus to the dance. If you drive\, please park in the PNA parking lots. \nAll dances taught. No partner necessary.\nLight\, comfortable clothing recommended.\nPlease join us without perfumes\, colognes\, aftershave\, scented lotions\, etc. \n\nMore information for dancers.\nInformation for bands and callers.\nPast caller set lists.\nBands and callers: we’ll have an online booking form available soon. \nFor information not already posted here: 206-440-9839 or emeraldcitycontra@pobox.com
URL:https://wotfa.org/event/weekly-emerald-city-contra-dance/2026-02-13/
LOCATION:Phinney Neighborhood Center\, 6532 Phinney Avenue North\, Seattle\, 98103
CATEGORIES:Contra Dance,District 6
ATTACH;FMTTYPE=image/jpeg:https://wotfa.org/wp-content/uploads/2023/08/emerald-city.jpg
ORGANIZER;CN="Emerald City Contra Dace":MAILTO:emeraldcitycontra@pobox.com
END:VEVENT
BEGIN:VEVENT
DTSTART;TZID=America/Los_Angeles:20260215T140000
DTEND;TZID=America/Los_Angeles:20260215T170000
DTSTAMP:20260423T045546
CREATED:20251221T220031Z
LAST-MODIFIED:20260106T223420Z
UID:10003309-1771164000-1771174800@wotfa.org
SUMMARY:District 8 Monthly Jam (with a little meeting)
DESCRIPTION:3rd Sundays 2PM District 8 Meeting and Jam. We’ll have a short meeting followed by longer circle jam at 10205 44th Ave E\, Tacoma 98446. Behind the school where there’s plenty of parking. Bring a friend and an instrument. Meet some nice people! Finger foods welcome.
URL:https://wotfa.org/event/district-8-monthly-jam-with-a-little-meeting-3/2026-02-15/
LOCATION:Mid-County Community Center\, 10205 44th Ave E\, Tacoma\, WA\, 98446\, United States
CATEGORIES:District 8,Jam Session,Meeting,Open Jams
ATTACH;FMTTYPE=image/jpeg:https://wotfa.org/wp-content/uploads/2023/06/MCCC.jpg
END:VEVENT
END:VCALENDAR