BEGIN:VCALENDAR
VERSION:2.0
PRODID:-//Washington Old Time Fiddlers Association - ECPv6.15.12.2//NONSGML v1.0//EN
CALSCALE:GREGORIAN
METHOD:PUBLISH
X-WR-CALNAME:Washington Old Time Fiddlers Association
X-ORIGINAL-URL:https://wotfa.org
X-WR-CALDESC:Events for Washington Old Time Fiddlers Association
REFRESH-INTERVAL;VALUE=DURATION:PT1H
X-Robots-Tag:noindex
X-PUBLISHED-TTL:PT1H
BEGIN:VTIMEZONE
TZID:America/Los_Angeles
BEGIN:DAYLIGHT
TZOFFSETFROM:-0800
TZOFFSETTO:-0700
TZNAME:PDT
DTSTART:20250309T100000
END:DAYLIGHT
BEGIN:STANDARD
TZOFFSETFROM:-0700
TZOFFSETTO:-0800
TZNAME:PST
DTSTART:20251102T090000
END:STANDARD
BEGIN:DAYLIGHT
TZOFFSETFROM:-0800
TZOFFSETTO:-0700
TZNAME:PDT
DTSTART:20260308T100000
END:DAYLIGHT
BEGIN:STANDARD
TZOFFSETFROM:-0700
TZOFFSETTO:-0800
TZNAME:PST
DTSTART:20261101T090000
END:STANDARD
BEGIN:DAYLIGHT
TZOFFSETFROM:-0800
TZOFFSETTO:-0700
TZNAME:PDT
DTSTART:20270314T100000
END:DAYLIGHT
BEGIN:STANDARD
TZOFFSETFROM:-0700
TZOFFSETTO:-0800
TZNAME:PST
DTSTART:20271107T090000
END:STANDARD
END:VTIMEZONE
BEGIN:VEVENT
DTSTART;TZID=America/Los_Angeles:20260126T133000
DTEND;TZID=America/Los_Angeles:20260126T153000
DTSTAMP:20260423T092429
CREATED:20260106T214232Z
LAST-MODIFIED:20260106T223303Z
UID:10003259-1769434200-1769441400@wotfa.org
SUMMARY:District 8 - Circle Jam at Puyallup Senior Center
DESCRIPTION:Easy to find\, Easy to park – great little circle jam in a nice space.  All are welcome to join or listen
URL:https://wotfa.org/event/district-8-circle-jam-at-puyallup-senior-center-2/2026-01-26/
LOCATION:Puyallup Senior Activity Center\, 210 W Pioneer Ave\, Puyallup\, WA\, 98371\, United States
CATEGORIES:District 8,Jam Session,Open Jams
ATTACH;FMTTYPE=image/png:https://wotfa.org/wp-content/uploads/2022/02/puyallupsenior.png
END:VEVENT
BEGIN:VEVENT
DTSTART;TZID=America/Los_Angeles:20260128T153000
DTEND;TZID=America/Los_Angeles:20260128T163000
DTSTAMP:20260423T092429
CREATED:20260110T045438Z
LAST-MODIFIED:20260110T045438Z
UID:10004042-1769614200-1769617800@wotfa.org
SUMMARY:Sharon Care Center Playdate
DESCRIPTION:Please join WOTFA District 9 for our 4th Friday of the month playdate on January 28th\, 2026 from 3:30 pm-4:30 pm at Sharon Care Center\, located at 1509 Harrison Ave in Centralia. To find Sharon Care take I-5 to the Harrison Ave exit and head West on Harrison Ave past the Safeway. Go about a mile\, then take a left just past the Dollar General Store on Fords Prairie Ave. Sharon Care will be on your right. Go all the way to the back of the building and park\, the main entrance is there. We will be playing in the skilled dining room\, which is just a short distance inside.\nWe will be using the January playlist.
URL:https://wotfa.org/event/sharon-care-center-playdate-2/
LOCATION:Sharon Care Center\, 1509 Harrison Ave\, Centralia\, 98531
CATEGORIES:District 9,Playout
ATTACH;FMTTYPE=image/png:https://wotfa.org/wp-content/uploads/2026/01/IMG_1092.png
ORGANIZER;CN="Christie Easter":MAILTO:mrwillys@aol.com
END:VEVENT
BEGIN:VEVENT
DTSTART;TZID=America/Los_Angeles:20260129T190000
DTEND;TZID=America/Los_Angeles:20260129T213000
DTSTAMP:20260423T092429
CREATED:20230811T232301Z
LAST-MODIFIED:20260106T223822Z
UID:10003783-1769713200-1769722200@wotfa.org
SUMMARY:Weekly Lake City Contra Dance
DESCRIPTION:Thursday nights; doors open at 7 pm \nDances: intro/refresher workshop 7:15 pm\, dancing 7:30 till 10:00 pm \nAdmission on a sliding scale $10 – 20 – pay what you can \nThe hall is well-ventilated and air-conditioned! \nFor more information call 206-525-0932\, or email sjnevins@gmail.com.
URL:https://wotfa.org/event/weekly-lake-city-contra-dance/2026-01-29/
LOCATION:Seattle Latvian Center\, 11710 3rd Avenue NE\, Seattle\, 98125
CATEGORIES:Contra Dance,District 6
ATTACH;FMTTYPE=image/png:https://wotfa.org/wp-content/uploads/2023/08/Lake-City.png
ORGANIZER;CN="Sherry Nevins":MAILTO:sjnevins@gmail.com
END:VEVENT
BEGIN:VEVENT
DTSTART;TZID=America/Los_Angeles:20260130T150000
DTEND;TZID=America/Los_Angeles:20260130T160000
DTSTAMP:20260423T092429
CREATED:20260110T045537Z
LAST-MODIFIED:20260110T045537Z
UID:10004043-1769785200-1769788800@wotfa.org
SUMMARY:Woodland Village Playdate
DESCRIPTION:Please join us as we play a one-time-only playdate at Village Concepts of Chehalis (Woodland Village)\, on Friday\, January 30th from 3:00 pm-4:00 pm. Woodland is located at 2100 SW Woodland Circle in Chehalis\, just behind Steck Medical Clinic. There is lots of parking in front of the main building and we will be playing in the big dining room just inside the main entrance.  We will be using the January playlist for this playdate.
URL:https://wotfa.org/event/woodland-village-playdate/
LOCATION:Village Concepts Chehalis\, 2100 SW Woodland Circle\, Chehalis\, 98532
CATEGORIES:District 9,Playout
ATTACH;FMTTYPE=image/png:https://wotfa.org/wp-content/uploads/2026/01/IMG_1092-1.png
ORGANIZER;CN="Christie Easter":MAILTO:mrwillys@aol.com
END:VEVENT
BEGIN:VEVENT
DTSTART;TZID=America/Los_Angeles:20260130T190000
DTEND;TZID=America/Los_Angeles:20260130T213000
DTSTAMP:20260423T092429
CREATED:20230811T233140Z
LAST-MODIFIED:20260106T223735Z
UID:10003508-1769799600-1769808600@wotfa.org
SUMMARY:Weekly Emerald City Contra Dance
DESCRIPTION:Emerald City Contra Dance \nwith the Seattle Folklore Society present Contra dancing every Friday at the Phinney Neighborhood Center \n6532 Phinney Avenue North\, Seattle (98103) \nin the Community Hall of the brick building\, near the lower parking lot \nBeginner’s workshop at 7:00 pm (or thereabouts). Dance from 7:30 pm to 10:00 pm. \n  \nAdmission prices (cash or check only): \n\nSliding scale $10-$20.\nStudents $5 with a school ID.\nFree for people under the age of 16.\n\nAdmission limited to 100 people. This total includes paying & non-paying dancers\, musicians\, callers\, children\, and adults acting like children. (In short\, everyone.) \nFirst time contra dancers get a coupon for free admission to their next dance.\nCoupon redemption limited to first five coupons on any single night. \nFollow us on Facebook. Find items that you left behind on Facebook. \nPlease help the PNA achieve their sustainability goals. Consider carpooling\, walking\, biking\, or riding the bus to the dance. If you drive\, please park in the PNA parking lots. \nAll dances taught. No partner necessary.\nLight\, comfortable clothing recommended.\nPlease join us without perfumes\, colognes\, aftershave\, scented lotions\, etc. \n\nMore information for dancers.\nInformation for bands and callers.\nPast caller set lists.\nBands and callers: we’ll have an online booking form available soon. \nFor information not already posted here: 206-440-9839 or emeraldcitycontra@pobox.com
URL:https://wotfa.org/event/weekly-emerald-city-contra-dance/2026-01-30/
LOCATION:Phinney Neighborhood Center\, 6532 Phinney Avenue North\, Seattle\, 98103
CATEGORIES:Contra Dance,District 6
ATTACH;FMTTYPE=image/jpeg:https://wotfa.org/wp-content/uploads/2023/08/emerald-city.jpg
ORGANIZER;CN="Emerald City Contra Dace":MAILTO:emeraldcitycontra@pobox.com
END:VEVENT
BEGIN:VEVENT
DTSTART;TZID=America/Los_Angeles:20260201T140000
DTEND;TZID=America/Los_Angeles:20260201T163000
DTSTAMP:20260423T092429
CREATED:20260107T142810Z
LAST-MODIFIED:20260107T143139Z
UID:10004041-1769954400-1769963400@wotfa.org
SUMMARY:North East Jam at Kingsgate Library
DESCRIPTION:Join us for an open old-time jam at the Kingsgate Library in Kirkland! All instruments and experience levels are welcome—whether you’re a seasoned fiddler\, a clawhammer banjo player\, or just curious and want to listen. We’ll be playing traditional old-time tunes in a relaxed\, inclusive circle. Bring your instrument\, a tune or two\, and your love of old-time music. Listeners are welcome too!
URL:https://wotfa.org/event/north-east-jam-at-kingsgate-library/
LOCATION:Kingsgate Library Meeting Room\, 12315 NE 143rd Street\, Kirkland\, 98034\, United States
CATEGORIES:District 16,District 6,Jam Session,Open Jams
ATTACH;FMTTYPE=image/png:https://wotfa.org/wp-content/uploads/2026/01/09_21-Libraries-1200_640_0027_Kingsgate.png
ORGANIZER;CN="Tyler Hagood":MAILTO:jt-hagood@outlook.com
END:VEVENT
END:VCALENDAR