BEGIN:VCALENDAR
VERSION:2.0
PRODID:-//Washington Old Time Fiddlers Association - ECPv6.15.12.2//NONSGML v1.0//EN
CALSCALE:GREGORIAN
METHOD:PUBLISH
X-WR-CALNAME:Washington Old Time Fiddlers Association
X-ORIGINAL-URL:https://wotfa.org
X-WR-CALDESC:Events for Washington Old Time Fiddlers Association
REFRESH-INTERVAL;VALUE=DURATION:PT1H
X-Robots-Tag:noindex
X-PUBLISHED-TTL:PT1H
BEGIN:VTIMEZONE
TZID:America/Los_Angeles
BEGIN:DAYLIGHT
TZOFFSETFROM:-0800
TZOFFSETTO:-0700
TZNAME:PDT
DTSTART:20240310T100000
END:DAYLIGHT
BEGIN:STANDARD
TZOFFSETFROM:-0700
TZOFFSETTO:-0800
TZNAME:PST
DTSTART:20241103T090000
END:STANDARD
BEGIN:DAYLIGHT
TZOFFSETFROM:-0800
TZOFFSETTO:-0700
TZNAME:PDT
DTSTART:20250309T100000
END:DAYLIGHT
BEGIN:STANDARD
TZOFFSETFROM:-0700
TZOFFSETTO:-0800
TZNAME:PST
DTSTART:20251102T090000
END:STANDARD
BEGIN:DAYLIGHT
TZOFFSETFROM:-0800
TZOFFSETTO:-0700
TZNAME:PDT
DTSTART:20260308T100000
END:DAYLIGHT
BEGIN:STANDARD
TZOFFSETFROM:-0700
TZOFFSETTO:-0800
TZNAME:PST
DTSTART:20261101T090000
END:STANDARD
END:VTIMEZONE
BEGIN:VEVENT
DTSTART;TZID=America/Los_Angeles:20251112T160000
DTEND;TZID=America/Los_Angeles:20251112T170000
DTSTAMP:20260423T080135
CREATED:20251015T165603Z
LAST-MODIFIED:20251015T165603Z
UID:10003179-1762963200-1762966800@wotfa.org
SUMMARY:November Colonial Stillwater Estates Playdate
DESCRIPTION:Please join WOTFA District 9 for our regular 2nd Wednesday of the month Playdate on Wednesday\, November 12th\, 2025 from 4:00 pm-5:00 pm at Colonial Stillwater Estates\, located at 2700 Colonial Ave in Centralia.  To find Colonial take I-5 to the Mellon St exit\, go across the Chehalis River and past Providence Centralia Hospital\, then continue on Cooks Hill Rd about 3/4 mile past the Hospital and turn LEFT on Scammon Creek Rd\, the take a RIGHT on Colonial Ave and go through the gates.  We will be playing in the Residence Building which is the big white building on the left with pillars.  The music parlor is just inside the main entrance and on the left.  We will be using the November Playlist for all playdates this month. \nDon’t Forget-you must be a current WOTFA member to perform at a playdate.  Membership is only $25 at wotfa.org and joining after October includes you 2026 membership. \nIf you need more information or a copy of the November Playlist please give me (Christie) a call or text at 360-791-5185
URL:https://wotfa.org/event/november-colonial-stillwater-estates-playdate/
LOCATION:Colonial Stillwater Estates\, 2700 Colonial Drive\, Centralia\, 98531
CATEGORIES:District 9,Playout
ATTACH;FMTTYPE=image/jpeg:https://wotfa.org/wp-content/uploads/2025/10/NovColonialPic-2.jpeg
ORGANIZER;CN="Christie Easter":MAILTO:mrwillys@aol.com
END:VEVENT
BEGIN:VEVENT
DTSTART;TZID=America/Los_Angeles:20251113T190000
DTEND;TZID=America/Los_Angeles:20251113T213000
DTSTAMP:20260423T080136
CREATED:20230811T232301Z
LAST-MODIFIED:20260106T223822Z
UID:10003772-1763060400-1763069400@wotfa.org
SUMMARY:Weekly Lake City Contra Dance
DESCRIPTION:Thursday nights; doors open at 7 pm \nDances: intro/refresher workshop 7:15 pm\, dancing 7:30 till 10:00 pm \nAdmission on a sliding scale $10 – 20 – pay what you can \nThe hall is well-ventilated and air-conditioned! \nFor more information call 206-525-0932\, or email sjnevins@gmail.com.
URL:https://wotfa.org/event/weekly-lake-city-contra-dance/2025-11-13/
LOCATION:Seattle Latvian Center\, 11710 3rd Avenue NE\, Seattle\, 98125
CATEGORIES:Contra Dance,District 6
ATTACH;FMTTYPE=image/png:https://wotfa.org/wp-content/uploads/2023/08/Lake-City.png
ORGANIZER;CN="Sherry Nevins":MAILTO:sjnevins@gmail.com
END:VEVENT
BEGIN:VEVENT
DTSTART;TZID=America/Los_Angeles:20251114T190000
DTEND;TZID=America/Los_Angeles:20251114T213000
DTSTAMP:20260423T080136
CREATED:20230811T233140Z
LAST-MODIFIED:20260106T223735Z
UID:10003497-1763146800-1763155800@wotfa.org
SUMMARY:Weekly Emerald City Contra Dance
DESCRIPTION:Emerald City Contra Dance \nwith the Seattle Folklore Society present Contra dancing every Friday at the Phinney Neighborhood Center \n6532 Phinney Avenue North\, Seattle (98103) \nin the Community Hall of the brick building\, near the lower parking lot \nBeginner’s workshop at 7:00 pm (or thereabouts). Dance from 7:30 pm to 10:00 pm. \n  \nAdmission prices (cash or check only): \n\nSliding scale $10-$20.\nStudents $5 with a school ID.\nFree for people under the age of 16.\n\nAdmission limited to 100 people. This total includes paying & non-paying dancers\, musicians\, callers\, children\, and adults acting like children. (In short\, everyone.) \nFirst time contra dancers get a coupon for free admission to their next dance.\nCoupon redemption limited to first five coupons on any single night. \nFollow us on Facebook. Find items that you left behind on Facebook. \nPlease help the PNA achieve their sustainability goals. Consider carpooling\, walking\, biking\, or riding the bus to the dance. If you drive\, please park in the PNA parking lots. \nAll dances taught. No partner necessary.\nLight\, comfortable clothing recommended.\nPlease join us without perfumes\, colognes\, aftershave\, scented lotions\, etc. \n\nMore information for dancers.\nInformation for bands and callers.\nPast caller set lists.\nBands and callers: we’ll have an online booking form available soon. \nFor information not already posted here: 206-440-9839 or emeraldcitycontra@pobox.com
URL:https://wotfa.org/event/weekly-emerald-city-contra-dance/2025-11-14/
LOCATION:Phinney Neighborhood Center\, 6532 Phinney Avenue North\, Seattle\, 98103
CATEGORIES:Contra Dance,District 6
ATTACH;FMTTYPE=image/jpeg:https://wotfa.org/wp-content/uploads/2023/08/emerald-city.jpg
ORGANIZER;CN="Emerald City Contra Dace":MAILTO:emeraldcitycontra@pobox.com
END:VEVENT
BEGIN:VEVENT
DTSTART;TZID=America/Los_Angeles:20251115T110000
DTEND;TZID=America/Los_Angeles:20251115T150000
DTSTAMP:20260423T080136
CREATED:20251115T190034Z
LAST-MODIFIED:20251109T225111Z
UID:10003184-1763204400-1763218800@wotfa.org
SUMMARY:3rd Saturday Meeting and Jam - district 5
DESCRIPTION:11am start with an hour of “No music stands allowed” jamming. A short break at noon\, then a short meeting. After the meeting we jam until 3pm. A table will be set up for a finger-food potluck.
URL:https://wotfa.org/event/3rd-saturday-meeting-and-jam-district-5-2/2025-11-15/
LOCATION:Kitsap Square Dance Club\, 6800 W Belfair Valley Rd\, Bremerton\, WA\, 98312
CATEGORIES:District 5,Jam Session,Meeting,Open Jams
ATTACH;FMTTYPE=image/jpeg:https://wotfa.org/wp-content/uploads/2025/09/sqdh-1.jpg
ORGANIZER;CN="Kent McCabe":MAILTO:dkmccabe0723@gmail.com
END:VEVENT
BEGIN:VEVENT
DTSTART;TZID=America/Los_Angeles:20251115T110000
DTEND;TZID=America/Los_Angeles:20251115T150000
DTSTAMP:20260423T080136
CREATED:20251220T190059Z
LAST-MODIFIED:20251109T225055Z
UID:10003163-1763204400-1763218800@wotfa.org
SUMMARY:3rd Saturday Meeting and Jam - district 5
DESCRIPTION:11am start with an hour of “No music stands allowed” jamming. A short break at noon\, then a short meeting. After the meeting we jam until 3pm. A table will be set up for a finger-food potluck.
URL:https://wotfa.org/event/3rd-saturday-meeting-and-jam-district-5/2025-11-15/
LOCATION:Kitsap Square Dance Club\, 6800 W Belfair Valley Rd\, Bremerton\, WA\, 98312
CATEGORIES:District 5,Meeting,Open Jams
ATTACH;FMTTYPE=image/jpeg:https://wotfa.org/wp-content/uploads/2025/09/sqdh-1.jpg
ORGANIZER;CN="Kent McCabe":MAILTO:dkmccabe0723@gmail.com
END:VEVENT
BEGIN:VEVENT
DTSTART;TZID=America/Los_Angeles:20251115T183000
DTEND;TZID=America/Los_Angeles:20251115T210000
DTSTAMP:20260423T080136
CREATED:20251109T223432Z
LAST-MODIFIED:20251109T223432Z
UID:10003181-1763231400-1763240400@wotfa.org
SUMMARY:Old Time Music and Dance Party - Ohop Grange
DESCRIPTION:Presented by the District 8 Dance Band and The Ohop Grange \nAll dances taught on the spot\, by WOTFA’s own Amy Carrol
URL:https://wotfa.org/event/old-time-music-and-dance-party-ohop-grange/
LOCATION:Ohop Grange\, 41608 Mountain Highway East\, Eatonville\, 98328\, United States
CATEGORIES:Contra Dance,District 8,Family Dance,Featured,Square Dance
ATTACH;FMTTYPE=image/png:https://wotfa.org/wp-content/uploads/2025/11/sillouette-dancers.png
END:VEVENT
BEGIN:VEVENT
DTSTART;TZID=America/Los_Angeles:20251116T140000
DTEND;TZID=America/Los_Angeles:20251116T170000
DTSTAMP:20260423T080136
CREATED:20251116T223943Z
LAST-MODIFIED:20251109T224159Z
UID:10003182-1763301600-1763312400@wotfa.org
SUMMARY:District 8 Monthly Jam (with a little meeting)
DESCRIPTION:3rd Sundays 2PM District 8 Meeting and Jam. We’ll have a short meeting followed by longer circle jam at 10205 44th Ave E\, Tacoma 98446. Behind the school where there’s plenty of parking. Bring a friend and an instrument. Meet some nice people! Finger foods welcome.
URL:https://wotfa.org/event/district-8-monthly-jam-with-a-little-meeting-2/2025-11-16/
LOCATION:Mid-County Community Center\, 10205 44th Ave E\, Tacoma\, WA\, 98446\, United States
CATEGORIES:District 8,Jam Session,Meeting,Open Jams
ATTACH;FMTTYPE=image/jpeg:https://wotfa.org/wp-content/uploads/2023/06/MCCC.jpg
END:VEVENT
END:VCALENDAR