BEGIN:VCALENDAR
VERSION:2.0
PRODID:-//Washington Old Time Fiddlers Association - ECPv6.15.12.2//NONSGML v1.0//EN
CALSCALE:GREGORIAN
METHOD:PUBLISH
X-ORIGINAL-URL:https://wotfa.org
X-WR-CALDESC:Events for Washington Old Time Fiddlers Association
REFRESH-INTERVAL;VALUE=DURATION:PT1H
X-Robots-Tag:noindex
X-PUBLISHED-TTL:PT1H
BEGIN:VTIMEZONE
TZID:America/Los_Angeles
BEGIN:DAYLIGHT
TZOFFSETFROM:-0800
TZOFFSETTO:-0700
TZNAME:PDT
DTSTART:20240310T100000
END:DAYLIGHT
BEGIN:STANDARD
TZOFFSETFROM:-0700
TZOFFSETTO:-0800
TZNAME:PST
DTSTART:20241103T090000
END:STANDARD
BEGIN:DAYLIGHT
TZOFFSETFROM:-0800
TZOFFSETTO:-0700
TZNAME:PDT
DTSTART:20250309T100000
END:DAYLIGHT
BEGIN:STANDARD
TZOFFSETFROM:-0700
TZOFFSETTO:-0800
TZNAME:PST
DTSTART:20251102T090000
END:STANDARD
BEGIN:DAYLIGHT
TZOFFSETFROM:-0800
TZOFFSETTO:-0700
TZNAME:PDT
DTSTART:20260308T100000
END:DAYLIGHT
BEGIN:STANDARD
TZOFFSETFROM:-0700
TZOFFSETTO:-0800
TZNAME:PST
DTSTART:20261101T090000
END:STANDARD
END:VTIMEZONE
BEGIN:VEVENT
DTSTART;TZID=America/Los_Angeles:20251106T190000
DTEND;TZID=America/Los_Angeles:20251106T213000
DTSTAMP:20260423T110906
CREATED:20230811T232301Z
LAST-MODIFIED:20260106T223822Z
UID:10003771-1762455600-1762464600@wotfa.org
SUMMARY:Weekly Lake City Contra Dance
DESCRIPTION:Thursday nights; doors open at 7 pm \nDances: intro/refresher workshop 7:15 pm\, dancing 7:30 till 10:00 pm \nAdmission on a sliding scale $10 – 20 – pay what you can \nThe hall is well-ventilated and air-conditioned! \nFor more information call 206-525-0932\, or email sjnevins@gmail.com.
URL:https://wotfa.org/event/weekly-lake-city-contra-dance/2025-11-06/
LOCATION:Seattle Latvian Center\, 11710 3rd Avenue NE\, Seattle\, 98125
CATEGORIES:Contra Dance,District 6
ATTACH;FMTTYPE=image/png:https://wotfa.org/wp-content/uploads/2023/08/Lake-City.png
ORGANIZER;CN="Sherry Nevins":MAILTO:sjnevins@gmail.com
END:VEVENT
BEGIN:VEVENT
DTSTART;TZID=America/Los_Angeles:20251107T110000
DTEND;TZID=America/Los_Angeles:20251107T130000
DTSTAMP:20260423T110906
CREATED:20251015T165556Z
LAST-MODIFIED:20251015T165556Z
UID:10003178-1762513200-1762520400@wotfa.org
SUMMARY:District 9 NOVEMBER Jam & Meeting
DESCRIPTION:Please join WOTFA District (Lewis & Thurston Counties) for our regular 1st Friday of the month Open Acoustic Jam & Meeting on Friday\, November 7th\, 2025 from 11:00 am-1:00 pm at the Lewis County Historical Museum\, located at 599 NW Front Way in downtown Chehalis.  There is lots of parking on both sides of the museum\, and we will be jamming just inside the front doors.  There will be coffee and tea and some pastries but it won’t be a potluck.  The museum doesn’t charge us to use the facilities but does ask that if everyone could leave a few dollars in their donation jar at the main desk they would be grateful.  Grab your instrument or just you enthusiasm and come hear some great old time music in a family friendly atmosphere.  This is a beginner friendly jam. \nFor more information give me (Christie) a call or text at 360-791-5185
URL:https://wotfa.org/event/district-9-november-jam-meeting/
LOCATION:Lewis County Historical Museum\, 99 NW Front Way\, Chehalis\, 98532
CATEGORIES:District 9,Jam Session,Meeting,Open Jams
ATTACH;FMTTYPE=image/jpeg:https://wotfa.org/wp-content/uploads/2025/10/NovColonialPic-1.jpeg
ORGANIZER;CN="Christie Easter":MAILTO:mrwillys@aol.com
END:VEVENT
BEGIN:VEVENT
DTSTART;TZID=America/Los_Angeles:20251107T190000
DTEND;TZID=America/Los_Angeles:20251107T213000
DTSTAMP:20260423T110906
CREATED:20230811T233140Z
LAST-MODIFIED:20260106T223735Z
UID:10003496-1762542000-1762551000@wotfa.org
SUMMARY:Weekly Emerald City Contra Dance
DESCRIPTION:Emerald City Contra Dance \nwith the Seattle Folklore Society present Contra dancing every Friday at the Phinney Neighborhood Center \n6532 Phinney Avenue North\, Seattle (98103) \nin the Community Hall of the brick building\, near the lower parking lot \nBeginner’s workshop at 7:00 pm (or thereabouts). Dance from 7:30 pm to 10:00 pm. \n  \nAdmission prices (cash or check only): \n\nSliding scale $10-$20.\nStudents $5 with a school ID.\nFree for people under the age of 16.\n\nAdmission limited to 100 people. This total includes paying & non-paying dancers\, musicians\, callers\, children\, and adults acting like children. (In short\, everyone.) \nFirst time contra dancers get a coupon for free admission to their next dance.\nCoupon redemption limited to first five coupons on any single night. \nFollow us on Facebook. Find items that you left behind on Facebook. \nPlease help the PNA achieve their sustainability goals. Consider carpooling\, walking\, biking\, or riding the bus to the dance. If you drive\, please park in the PNA parking lots. \nAll dances taught. No partner necessary.\nLight\, comfortable clothing recommended.\nPlease join us without perfumes\, colognes\, aftershave\, scented lotions\, etc. \n\nMore information for dancers.\nInformation for bands and callers.\nPast caller set lists.\nBands and callers: we’ll have an online booking form available soon. \nFor information not already posted here: 206-440-9839 or emeraldcitycontra@pobox.com
URL:https://wotfa.org/event/weekly-emerald-city-contra-dance/2025-11-07/
LOCATION:Phinney Neighborhood Center\, 6532 Phinney Avenue North\, Seattle\, 98103
CATEGORIES:Contra Dance,District 6
ATTACH;FMTTYPE=image/jpeg:https://wotfa.org/wp-content/uploads/2023/08/emerald-city.jpg
ORGANIZER;CN="Emerald City Contra Dace":MAILTO:emeraldcitycontra@pobox.com
END:VEVENT
BEGIN:VEVENT
DTSTART;TZID=America/Los_Angeles:20251108T100000
DTEND;TZID=America/Los_Angeles:20251108T120000
DTSTAMP:20260423T110906
CREATED:20251020T022830Z
LAST-MODIFIED:20251020T022830Z
UID:10003180-1762596000-1762603200@wotfa.org
SUMMARY:WOTFA Fall Board Meeting
DESCRIPTION:If interested in attending\, email Tyler Hagood for a meeting link
URL:https://wotfa.org/event/wotfa-fall-board-meeting/
LOCATION:WA\, United States
CATEGORIES:Meeting
END:VEVENT
END:VCALENDAR