BEGIN:VCALENDAR
VERSION:2.0
PRODID:-//Washington Old Time Fiddlers Association - ECPv6.15.12.2//NONSGML v1.0//EN
CALSCALE:GREGORIAN
METHOD:PUBLISH
X-WR-CALNAME:Washington Old Time Fiddlers Association
X-ORIGINAL-URL:https://wotfa.org
X-WR-CALDESC:Events for Washington Old Time Fiddlers Association
REFRESH-INTERVAL;VALUE=DURATION:PT1H
X-Robots-Tag:noindex
X-PUBLISHED-TTL:PT1H
BEGIN:VTIMEZONE
TZID:America/Los_Angeles
BEGIN:DAYLIGHT
TZOFFSETFROM:-0800
TZOFFSETTO:-0700
TZNAME:PDT
DTSTART:20240310T100000
END:DAYLIGHT
BEGIN:STANDARD
TZOFFSETFROM:-0700
TZOFFSETTO:-0800
TZNAME:PST
DTSTART:20241103T090000
END:STANDARD
BEGIN:DAYLIGHT
TZOFFSETFROM:-0800
TZOFFSETTO:-0700
TZNAME:PDT
DTSTART:20250309T100000
END:DAYLIGHT
BEGIN:STANDARD
TZOFFSETFROM:-0700
TZOFFSETTO:-0800
TZNAME:PST
DTSTART:20251102T090000
END:STANDARD
BEGIN:DAYLIGHT
TZOFFSETFROM:-0800
TZOFFSETTO:-0700
TZNAME:PDT
DTSTART:20260308T100000
END:DAYLIGHT
BEGIN:STANDARD
TZOFFSETFROM:-0700
TZOFFSETTO:-0800
TZNAME:PST
DTSTART:20261101T090000
END:STANDARD
END:VTIMEZONE
BEGIN:VEVENT
DTSTART;TZID=America/Los_Angeles:20250825T133000
DTEND;TZID=America/Los_Angeles:20250825T153000
DTSTAMP:20260423T111747
CREATED:20240916T051114Z
LAST-MODIFIED:20240926T040737Z
UID:10002588-1756128600-1756135800@wotfa.org
SUMMARY:District 8 jam
DESCRIPTION:At the Puyallup Senior Activity Center 210 W Pioneer Ave STE 103\, Puyallup\, WA 98371> NOTE: closed on federal holidays.
URL:https://wotfa.org/event/district-8-jam/2025-08-25/
LOCATION:Puyallup Senior Activity Center\, 210 W Pioneer Ave\, Puyallup\, WA\, 98371\, United States
CATEGORIES:District 8,Jam Session,Open Jams
ATTACH;FMTTYPE=image/png:https://wotfa.org/wp-content/uploads/2022/02/puyallupsenior.png
END:VEVENT
BEGIN:VEVENT
DTSTART;TZID=America/Los_Angeles:20250826T130000
DTEND;TZID=America/Los_Angeles:20250826T160000
DTSTAMP:20260423T111747
CREATED:20240926T035821Z
LAST-MODIFIED:20240926T040118Z
UID:10002633-1756213200-1756224000@wotfa.org
SUMMARY:District 5 Tuesday Jams (2nd\, 4th\, and 5th Tuesdays at the Subway Sandwich Shop)
DESCRIPTION:District 5 Tuesday Jams: \n1st and 3rd Tuesday of each month at the Silverdale Mall. \n2nd\, 4th\, and 5th Tuesdays will be at the Subway Sandwich Shop\, 2238 NW Bucklin Hill Rd Suite 102\, Silverdale\, WA 98383. \nAll jams run 1-4pm.
URL:https://wotfa.org/event/district-5-tuesday-jams-2nd-4th-and-5th-tuesdays-at-the-subway-sandwich-shop-2/2025-08-26/
LOCATION:Subway\, 2238 NW Bucklin Hill Rd Suite 102\, Silverdale\, WA\, 98383\, United States
CATEGORIES:District 5,Jam Session,Open Jams
ORGANIZER;CN="Kent McCabe":MAILTO:dkmccabe0723@gmail.com
END:VEVENT
BEGIN:VEVENT
DTSTART;TZID=America/Los_Angeles:20250827T080000
DTEND;TZID=America/Los_Angeles:20250827T170000
DTSTAMP:20260423T111747
CREATED:20250807T211149Z
LAST-MODIFIED:20250807T211149Z
UID:10003140-1756281600-1756314000@wotfa.org
SUMMARY:Sharon Care Center Playdate
DESCRIPTION:Please join us as we play at Sharon Care Center on Wednesday\, August 27th from 3:30pm-4:30pm.  Sharon Care Center is located at 1509 Harrison Ave in Centralia.  To find Sharon Care Center take I-5 to Exit 82\, then take Harrison Ave West past the Safeway and continue on until you reach Fords Prairie Ave and take a LEFT\, then go all the way to the back of the building where the main entrance is located.  We will be playing in the Skilled Dining Room which is just a short way past the entrance.  We will be using the August Playlist for all playdates this month.
URL:https://wotfa.org/event/sharon-care-center-playdate/
LOCATION:Sharon Care Center\, 1509 Harrison Ave\, Centralia\, 98531
CATEGORIES:District 9,Playout
ORGANIZER;CN="Christie Easter":MAILTO:mrwillys@aol.com
END:VEVENT
BEGIN:VEVENT
DTSTART;TZID=America/Los_Angeles:20250828T190000
DTEND;TZID=America/Los_Angeles:20250828T213000
DTSTAMP:20260423T111747
CREATED:20230811T232301Z
LAST-MODIFIED:20260106T223822Z
UID:10002847-1756407600-1756416600@wotfa.org
SUMMARY:Weekly Lake City Contra Dance
DESCRIPTION:Thursday nights; doors open at 7 pm \nDances: intro/refresher workshop 7:15 pm\, dancing 7:30 till 10:00 pm \nAdmission on a sliding scale $10 – 20 – pay what you can \nThe hall is well-ventilated and air-conditioned! \nFor more information call 206-525-0932\, or email sjnevins@gmail.com.
URL:https://wotfa.org/event/weekly-lake-city-contra-dance/2025-08-28/
LOCATION:Seattle Latvian Center\, 11710 3rd Avenue NE\, Seattle\, 98125
CATEGORIES:Contra Dance,District 6
ATTACH;FMTTYPE=image/png:https://wotfa.org/wp-content/uploads/2023/08/Lake-City.png
ORGANIZER;CN="Sherry Nevins":MAILTO:sjnevins@gmail.com
END:VEVENT
BEGIN:VEVENT
DTSTART;VALUE=DATE:20250829
DTEND;VALUE=DATE:20250831
DTSTAMP:20260423T111747
CREATED:20250807T213000Z
LAST-MODIFIED:20250807T213000Z
UID:10003146-1756425600-1756598399@wotfa.org
SUMMARY:District 5 Labor Day Weekend Campout
DESCRIPTION:Join the Washington Old Time Fiddlers District 5 and Kitsap Square Dance Association for Camping and Jaming! \nPizza and Potluck Saturday Night.  Join the band for the Saturday night dance – Practice will be Saturday morning. \nContact Bob Blackburn to reserve camping (360) 307-8460.  $20/nightly
URL:https://wotfa.org/event/district-5-labor-day-weekend-campout-2/
LOCATION:Kitsap Square Dance Club\, 6800 W Belfair Valley Rd\, Bremerton\, WA\, 98312
CATEGORIES:Campout,District 5,Featured
ATTACH;FMTTYPE=image/jpeg:https://wotfa.org/wp-content/uploads/2018/11/20180831_190405-medium-1.jpg
END:VEVENT
BEGIN:VEVENT
DTSTART;TZID=America/Los_Angeles:20250829T140000
DTEND;TZID=America/Los_Angeles:20250829T160000
DTSTAMP:20260423T111747
CREATED:20240927T145408Z
LAST-MODIFIED:20240927T145455Z
UID:10002925-1756476000-1756483200@wotfa.org
SUMMARY:Columbia City Weekly Friday Jam
DESCRIPTION:Old Time Jam\nFridays\, 2-4pm\nColumbia City\nColumbia City Jam – Fridays in Columbia City\, in an alcove across the street from Lottie’s Lounge\, at 4900 Rainier Ave S\, 2-4pm\, organized by Tony Mates.
URL:https://wotfa.org/event/columbia-city-weekly-friday-jam-2/2025-08-29/
LOCATION:Lottie’s Lounge\, 4900 Rainier Ave S\, Seattle\, 98118
CATEGORIES:District 6,Jam Session,Open Jams
ATTACH;FMTTYPE=image/jpeg:https://wotfa.org/wp-content/uploads/2023/09/Lotties-01.0.0.1414286256.0.jpg
END:VEVENT
BEGIN:VEVENT
DTSTART;TZID=America/Los_Angeles:20250829T190000
DTEND;TZID=America/Los_Angeles:20250829T213000
DTSTAMP:20260423T111747
CREATED:20230811T233140Z
LAST-MODIFIED:20260106T223735Z
UID:10002788-1756494000-1756503000@wotfa.org
SUMMARY:Weekly Emerald City Contra Dance
DESCRIPTION:Emerald City Contra Dance \nwith the Seattle Folklore Society present Contra dancing every Friday at the Phinney Neighborhood Center \n6532 Phinney Avenue North\, Seattle (98103) \nin the Community Hall of the brick building\, near the lower parking lot \nBeginner’s workshop at 7:00 pm (or thereabouts). Dance from 7:30 pm to 10:00 pm. \n  \nAdmission prices (cash or check only): \n\nSliding scale $10-$20.\nStudents $5 with a school ID.\nFree for people under the age of 16.\n\nAdmission limited to 100 people. This total includes paying & non-paying dancers\, musicians\, callers\, children\, and adults acting like children. (In short\, everyone.) \nFirst time contra dancers get a coupon for free admission to their next dance.\nCoupon redemption limited to first five coupons on any single night. \nFollow us on Facebook. Find items that you left behind on Facebook. \nPlease help the PNA achieve their sustainability goals. Consider carpooling\, walking\, biking\, or riding the bus to the dance. If you drive\, please park in the PNA parking lots. \nAll dances taught. No partner necessary.\nLight\, comfortable clothing recommended.\nPlease join us without perfumes\, colognes\, aftershave\, scented lotions\, etc. \n\nMore information for dancers.\nInformation for bands and callers.\nPast caller set lists.\nBands and callers: we’ll have an online booking form available soon. \nFor information not already posted here: 206-440-9839 or emeraldcitycontra@pobox.com
URL:https://wotfa.org/event/weekly-emerald-city-contra-dance/2025-08-29/
LOCATION:Phinney Neighborhood Center\, 6532 Phinney Avenue North\, Seattle\, 98103
CATEGORIES:Contra Dance,District 6
ATTACH;FMTTYPE=image/jpeg:https://wotfa.org/wp-content/uploads/2023/08/emerald-city.jpg
ORGANIZER;CN="Emerald City Contra Dace":MAILTO:emeraldcitycontra@pobox.com
END:VEVENT
BEGIN:VEVENT
DTSTART;TZID=America/Los_Angeles:20250830T150000
DTEND;TZID=America/Los_Angeles:20250830T180000
DTSTAMP:20260423T111747
CREATED:20250103T214716Z
LAST-MODIFIED:20250103T214755Z
UID:10003045-1756566000-1756576800@wotfa.org
SUMMARY:Walk the Trail with Judy and Hal
DESCRIPTION:Leaving from the Cowboy Church\, the last Saturday of the Month \n211 Front Ave NW\nCastle Rock\, WA \nQuestions\, call Hal and Judy Hagen 360-200-0545
URL:https://wotfa.org/event/walk-the-trail-with-judy-and-hal/2025-08-30/
LOCATION:Cowboy Church\, 211 Front Ave NW\, Castle Rock\, WA\, 98611\, United States
CATEGORIES:District 10,Meeting
ATTACH;FMTTYPE=image/jpeg:https://wotfa.org/wp-content/uploads/2025/01/IMG_0294.jpeg
END:VEVENT
END:VCALENDAR