BEGIN:VCALENDAR
VERSION:2.0
PRODID:-//Washington Old Time Fiddlers Association - ECPv6.15.12.2//NONSGML v1.0//EN
CALSCALE:GREGORIAN
METHOD:PUBLISH
X-ORIGINAL-URL:https://wotfa.org
X-WR-CALDESC:Events for Washington Old Time Fiddlers Association
REFRESH-INTERVAL;VALUE=DURATION:PT1H
X-Robots-Tag:noindex
X-PUBLISHED-TTL:PT1H
BEGIN:VTIMEZONE
TZID:America/Los_Angeles
BEGIN:DAYLIGHT
TZOFFSETFROM:-0800
TZOFFSETTO:-0700
TZNAME:PDT
DTSTART:20240310T100000
END:DAYLIGHT
BEGIN:STANDARD
TZOFFSETFROM:-0700
TZOFFSETTO:-0800
TZNAME:PST
DTSTART:20241103T090000
END:STANDARD
BEGIN:DAYLIGHT
TZOFFSETFROM:-0800
TZOFFSETTO:-0700
TZNAME:PDT
DTSTART:20250309T100000
END:DAYLIGHT
BEGIN:STANDARD
TZOFFSETFROM:-0700
TZOFFSETTO:-0800
TZNAME:PST
DTSTART:20251102T090000
END:STANDARD
BEGIN:DAYLIGHT
TZOFFSETFROM:-0800
TZOFFSETTO:-0700
TZNAME:PDT
DTSTART:20260308T100000
END:DAYLIGHT
BEGIN:STANDARD
TZOFFSETFROM:-0700
TZOFFSETTO:-0800
TZNAME:PST
DTSTART:20261101T090000
END:STANDARD
END:VTIMEZONE
BEGIN:VEVENT
DTSTART;TZID=America/Los_Angeles:20250721T133000
DTEND;TZID=America/Los_Angeles:20250721T153000
DTSTAMP:20260423T093256
CREATED:20240916T051114Z
LAST-MODIFIED:20240926T040737Z
UID:10002583-1753104600-1753111800@wotfa.org
SUMMARY:District 8 jam
DESCRIPTION:At the Puyallup Senior Activity Center 210 W Pioneer Ave STE 103\, Puyallup\, WA 98371> NOTE: closed on federal holidays.
URL:https://wotfa.org/event/district-8-jam/2025-07-21/
LOCATION:Puyallup Senior Activity Center\, 210 W Pioneer Ave\, Puyallup\, WA\, 98371\, United States
CATEGORIES:District 8,Jam Session,Open Jams
ATTACH;FMTTYPE=image/png:https://wotfa.org/wp-content/uploads/2022/02/puyallupsenior.png
END:VEVENT
BEGIN:VEVENT
DTSTART;TZID=America/Los_Angeles:20250722T130000
DTEND;TZID=America/Los_Angeles:20250722T160000
DTSTAMP:20260423T093256
CREATED:20240926T035821Z
LAST-MODIFIED:20240926T040118Z
UID:10002632-1753189200-1753200000@wotfa.org
SUMMARY:District 5 Tuesday Jams (2nd\, 4th\, and 5th Tuesdays at the Subway Sandwich Shop)
DESCRIPTION:District 5 Tuesday Jams: \n1st and 3rd Tuesday of each month at the Silverdale Mall. \n2nd\, 4th\, and 5th Tuesdays will be at the Subway Sandwich Shop\, 2238 NW Bucklin Hill Rd Suite 102\, Silverdale\, WA 98383. \nAll jams run 1-4pm.
URL:https://wotfa.org/event/district-5-tuesday-jams-2nd-4th-and-5th-tuesdays-at-the-subway-sandwich-shop-2/2025-07-22/
LOCATION:Subway\, 2238 NW Bucklin Hill Rd Suite 102\, Silverdale\, WA\, 98383\, United States
CATEGORIES:District 5,Jam Session,Open Jams
ORGANIZER;CN="Kent McCabe":MAILTO:dkmccabe0723@gmail.com
END:VEVENT
BEGIN:VEVENT
DTSTART;TZID=America/Los_Angeles:20250723T153000
DTEND;TZID=America/Los_Angeles:20250723T163000
DTSTAMP:20260423T093256
CREATED:20250807T210902Z
LAST-MODIFIED:20250807T210902Z
UID:10003136-1753284600-1753288200@wotfa.org
SUMMARY:Sharon Care Playdate July 2025
DESCRIPTION:Please WOTFA District 9 for a playdate at Sharon Care Center on Wednesday\, July 23rd\, 2025 from 3:30pm-4:30pm.  Sharon Care Center is located at 1509 Harrison Ave in Centralia\, just off I-5 Exit 82 (Harrison Ave Exit).  The parking lot for Sharon Care is all the way at the back of the facility and we will be playing in the skilled dining room.  We’ll be using the July playlist and there will be music and chords for all the tunes in the playlist for anyone who wants them. \nPlease feel free to give me (Christie) a call of text at 360-791-5185 if you have questions or need a copy of the July playlist.
URL:https://wotfa.org/event/sharon-care-playdate-july-2025/
LOCATION:Sharon Care Center\, 1509 Harrison Ave\, Centralia\, 98531
CATEGORIES:District 9,Playout
ORGANIZER;CN="Christie Easter":MAILTO:mrwillys@aol.com
END:VEVENT
BEGIN:VEVENT
DTSTART;TZID=America/Los_Angeles:20250724T190000
DTEND;TZID=America/Los_Angeles:20250724T213000
DTSTAMP:20260423T093256
CREATED:20230811T232301Z
LAST-MODIFIED:20260106T223822Z
UID:10002842-1753383600-1753392600@wotfa.org
SUMMARY:Weekly Lake City Contra Dance
DESCRIPTION:Thursday nights; doors open at 7 pm \nDances: intro/refresher workshop 7:15 pm\, dancing 7:30 till 10:00 pm \nAdmission on a sliding scale $10 – 20 – pay what you can \nThe hall is well-ventilated and air-conditioned! \nFor more information call 206-525-0932\, or email sjnevins@gmail.com.
URL:https://wotfa.org/event/weekly-lake-city-contra-dance/2025-07-24/
LOCATION:Seattle Latvian Center\, 11710 3rd Avenue NE\, Seattle\, 98125
CATEGORIES:Contra Dance,District 6
ATTACH;FMTTYPE=image/png:https://wotfa.org/wp-content/uploads/2023/08/Lake-City.png
ORGANIZER;CN="Sherry Nevins":MAILTO:sjnevins@gmail.com
END:VEVENT
BEGIN:VEVENT
DTSTART;TZID=America/Los_Angeles:20250725T140000
DTEND;TZID=America/Los_Angeles:20250725T160000
DTSTAMP:20260423T093256
CREATED:20240927T145408Z
LAST-MODIFIED:20240927T145455Z
UID:10002920-1753452000-1753459200@wotfa.org
SUMMARY:Columbia City Weekly Friday Jam
DESCRIPTION:Old Time Jam\nFridays\, 2-4pm\nColumbia City\nColumbia City Jam – Fridays in Columbia City\, in an alcove across the street from Lottie’s Lounge\, at 4900 Rainier Ave S\, 2-4pm\, organized by Tony Mates.
URL:https://wotfa.org/event/columbia-city-weekly-friday-jam-2/2025-07-25/
LOCATION:Lottie’s Lounge\, 4900 Rainier Ave S\, Seattle\, 98118
CATEGORIES:District 6,Jam Session,Open Jams
ATTACH;FMTTYPE=image/jpeg:https://wotfa.org/wp-content/uploads/2023/09/Lotties-01.0.0.1414286256.0.jpg
END:VEVENT
BEGIN:VEVENT
DTSTART;TZID=America/Los_Angeles:20250725T150000
DTEND;TZID=America/Los_Angeles:20250725T230000
DTSTAMP:20260423T093256
CREATED:20251128T230028Z
LAST-MODIFIED:20260106T223542Z
UID:10002680-1753455600-1753484400@wotfa.org
SUMMARY:WOTFA District 16 4th Friday jam and (short) business meeting
DESCRIPTION:The title says it all! – well\, most. \nThis is a friendly\, non-threatening\, circle-jam\, and a lot of fun.  Acoustic instrument players of all ages and levels welcomed\, as are listeners and (if we are lucky) dancers.  Singing\, sheet music and ear-learners all appreciated.  Business meeting is short and non-contentious.  We serve coffee and have cocoa and tea available; snacks are up to the participants. \n2nd and 4th Friday jams continue through the year\,   with the exceptions of Christmas Eve\, Christmas Day\, and  Thanksgiving.
URL:https://wotfa.org/event/wotfa-d14-4th-friday-jam-and-short-business-meeting/2025-07-25/
LOCATION:Sisco Heights Community Club\, 13527 99th Ave. NE\, Arlington\, 98223
CATEGORIES:District 16,Jam Session,Meeting,Open Jams
ATTACH;FMTTYPE=image/jpeg:https://wotfa.org/wp-content/uploads/2024/09/cat-and-fiddle-e1727392607751.jpeg
ORGANIZER;CN="Noel Lareau":MAILTO:noelula@aol.com
END:VEVENT
BEGIN:VEVENT
DTSTART;TZID=America/Los_Angeles:20250725T183000
DTEND;TZID=America/Los_Angeles:20250725T210000
DTSTAMP:20260423T093256
CREATED:20240927T133122Z
LAST-MODIFIED:20240927T133158Z
UID:10002693-1753468200-1753477200@wotfa.org
SUMMARY:District 4 Monthly 4th Friday Jam
DESCRIPTION:Monthly Jam: Every 2nd and 4th Friday\, 6:30 – 9:00 PM\, All are welcome! @ M/V Sr. Ctr. 1401 Cleveland Ave\, Mount Vernon.
URL:https://wotfa.org/event/district-4-monthly-4th-friday-jam/2025-07-25/
LOCATION:Mt. Vernon Senior Center\, 1401 Cleveland St\, Mt. Vernon\, WA\, 98273\, United States
CATEGORIES:District 4,Jam Session,Open Jams
ATTACH;FMTTYPE=image/png:https://wotfa.org/wp-content/uploads/2020/10/district-4.png
END:VEVENT
BEGIN:VEVENT
DTSTART;TZID=America/Los_Angeles:20250725T190000
DTEND;TZID=America/Los_Angeles:20250725T213000
DTSTAMP:20260423T093256
CREATED:20230811T233140Z
LAST-MODIFIED:20260106T223735Z
UID:10002783-1753470000-1753479000@wotfa.org
SUMMARY:Weekly Emerald City Contra Dance
DESCRIPTION:Emerald City Contra Dance \nwith the Seattle Folklore Society present Contra dancing every Friday at the Phinney Neighborhood Center \n6532 Phinney Avenue North\, Seattle (98103) \nin the Community Hall of the brick building\, near the lower parking lot \nBeginner’s workshop at 7:00 pm (or thereabouts). Dance from 7:30 pm to 10:00 pm. \n  \nAdmission prices (cash or check only): \n\nSliding scale $10-$20.\nStudents $5 with a school ID.\nFree for people under the age of 16.\n\nAdmission limited to 100 people. This total includes paying & non-paying dancers\, musicians\, callers\, children\, and adults acting like children. (In short\, everyone.) \nFirst time contra dancers get a coupon for free admission to their next dance.\nCoupon redemption limited to first five coupons on any single night. \nFollow us on Facebook. Find items that you left behind on Facebook. \nPlease help the PNA achieve their sustainability goals. Consider carpooling\, walking\, biking\, or riding the bus to the dance. If you drive\, please park in the PNA parking lots. \nAll dances taught. No partner necessary.\nLight\, comfortable clothing recommended.\nPlease join us without perfumes\, colognes\, aftershave\, scented lotions\, etc. \n\nMore information for dancers.\nInformation for bands and callers.\nPast caller set lists.\nBands and callers: we’ll have an online booking form available soon. \nFor information not already posted here: 206-440-9839 or emeraldcitycontra@pobox.com
URL:https://wotfa.org/event/weekly-emerald-city-contra-dance/2025-07-25/
LOCATION:Phinney Neighborhood Center\, 6532 Phinney Avenue North\, Seattle\, 98103
CATEGORIES:Contra Dance,District 6
ATTACH;FMTTYPE=image/jpeg:https://wotfa.org/wp-content/uploads/2023/08/emerald-city.jpg
ORGANIZER;CN="Emerald City Contra Dace":MAILTO:emeraldcitycontra@pobox.com
END:VEVENT
BEGIN:VEVENT
DTSTART;TZID=America/Los_Angeles:20250726T110000
DTEND;TZID=America/Los_Angeles:20250726T150000
DTSTAMP:20260423T093256
CREATED:20240927T140033Z
LAST-MODIFIED:20240927T140432Z
UID:10002731-1753527600-1753542000@wotfa.org
SUMMARY:District 15 Monthly Jam
DESCRIPTION:Open Jam\nFourth Saturday from 11AM to 3PM\nTri Area Community Center\n10 West Valley Road\nChimacum
URL:https://wotfa.org/event/district-15-monthly-jam/2025-07-26/
LOCATION:Tri-Area Community Center\, 10 W. Valley Road\, Chimacum\, WA\, 98325\, United States
CATEGORIES:District 15,Jam Session,Open Jams
ATTACH;FMTTYPE=image/png:https://wotfa.org/wp-content/uploads/2020/10/district-15.png
ORGANIZER;CN="Rita Alberti":MAILTO:daveandrita2025@gmail.com
END:VEVENT
BEGIN:VEVENT
DTSTART;TZID=America/Los_Angeles:20250726T150000
DTEND;TZID=America/Los_Angeles:20250726T180000
DTSTAMP:20260423T093256
CREATED:20250103T214716Z
LAST-MODIFIED:20250103T214755Z
UID:10003044-1753542000-1753552800@wotfa.org
SUMMARY:Walk the Trail with Judy and Hal
DESCRIPTION:Leaving from the Cowboy Church\, the last Saturday of the Month \n211 Front Ave NW\nCastle Rock\, WA \nQuestions\, call Hal and Judy Hagen 360-200-0545
URL:https://wotfa.org/event/walk-the-trail-with-judy-and-hal/2025-07-26/
LOCATION:Cowboy Church\, 211 Front Ave NW\, Castle Rock\, WA\, 98611\, United States
CATEGORIES:District 10,Meeting
ATTACH;FMTTYPE=image/jpeg:https://wotfa.org/wp-content/uploads/2025/01/IMG_0294.jpeg
END:VEVENT
BEGIN:VEVENT
DTSTART;TZID=America/Los_Angeles:20250727T090000
DTEND;TZID=America/Los_Angeles:20250801T170000
DTSTAMP:20260423T093256
CREATED:20250407T194936Z
LAST-MODIFIED:20250407T194936Z
UID:10003106-1753606800-1754067600@wotfa.org
SUMMARY:Fiddle Camp 2025
DESCRIPTION:Registration is now open!  https://wotfa.org/fiddle-camp-2025-registration/\nEach year since the 80s the Washington Old Time Fiddlers Association hosts a week long fiddle camp and workshop at our Annual Convention.  This is a members only event\, which features some of the most renowned instructors from around the Pacific Northwest.  In the past\, we’ve had an average of around 320 students participating in classes.  Campers also enjoy the opportunity to participate in jam sessions and social dances that can last ’til the wee hours of the morning.  Activities include mini-workshops\, social events\, dances\, contests\, and evening shows.  Students range in age from 5-95.  There is something for everyone! \nPlease use the form below to register. You can find descriptions of the classes at fiddlecamp.wotfa.org. \nT-Shirts and Fiddle Camp Swag can be found at our Bonfire Store: https://www.bonfire.com/store/wotfa/\nand our Redbubble shop: https://www.redbubble.com/people/WOTFA/shop
URL:https://wotfa.org/event/fiddle-camp-2025/
LOCATION:Chelan County Expo Center\, 5700 Wescott Dr\, Cashmere\, WA\, 98815\, United States
CATEGORIES:Campout,Contest,District 10,District 11,District 12,District 15,District 16,District 17,District 2,District 3,District 4,District 5,District 6,District 7,District 8,District 9,Family Dance,Featured,Workshop
ATTACH;FMTTYPE=image/png:https://wotfa.org/wp-content/uploads/2025/04/Outdoor-Jam-Color.png
END:VEVENT
END:VCALENDAR