BEGIN:VCALENDAR
VERSION:2.0
PRODID:-//Washington Old Time Fiddlers Association - ECPv6.15.12.2//NONSGML v1.0//EN
CALSCALE:GREGORIAN
METHOD:PUBLISH
X-ORIGINAL-URL:https://wotfa.org
X-WR-CALDESC:Events for Washington Old Time Fiddlers Association
REFRESH-INTERVAL;VALUE=DURATION:PT1H
X-Robots-Tag:noindex
X-PUBLISHED-TTL:PT1H
BEGIN:VTIMEZONE
TZID:America/Los_Angeles
BEGIN:DAYLIGHT
TZOFFSETFROM:-0800
TZOFFSETTO:-0700
TZNAME:PDT
DTSTART:20230312T100000
END:DAYLIGHT
BEGIN:STANDARD
TZOFFSETFROM:-0700
TZOFFSETTO:-0800
TZNAME:PST
DTSTART:20231105T090000
END:STANDARD
BEGIN:DAYLIGHT
TZOFFSETFROM:-0800
TZOFFSETTO:-0700
TZNAME:PDT
DTSTART:20240310T100000
END:DAYLIGHT
BEGIN:STANDARD
TZOFFSETFROM:-0700
TZOFFSETTO:-0800
TZNAME:PST
DTSTART:20241103T090000
END:STANDARD
BEGIN:DAYLIGHT
TZOFFSETFROM:-0800
TZOFFSETTO:-0700
TZNAME:PDT
DTSTART:20250309T100000
END:DAYLIGHT
BEGIN:STANDARD
TZOFFSETFROM:-0700
TZOFFSETTO:-0800
TZNAME:PST
DTSTART:20251102T090000
END:STANDARD
END:VTIMEZONE
BEGIN:VEVENT
DTSTART;TZID=America/Los_Angeles:20241021T133000
DTEND;TZID=America/Los_Angeles:20241021T153000
DTSTAMP:20260423T045609
CREATED:20240916T051114Z
LAST-MODIFIED:20240926T040737Z
UID:10002544-1729517400-1729524600@wotfa.org
SUMMARY:District 8 jam
DESCRIPTION:At the Puyallup Senior Activity Center 210 W Pioneer Ave STE 103\, Puyallup\, WA 98371> NOTE: closed on federal holidays.
URL:https://wotfa.org/event/district-8-jam/2024-10-21/
LOCATION:Puyallup Senior Activity Center\, 210 W Pioneer Ave\, Puyallup\, WA\, 98371\, United States
CATEGORIES:District 8,Jam Session,Open Jams
ATTACH;FMTTYPE=image/png:https://wotfa.org/wp-content/uploads/2022/02/puyallupsenior.png
END:VEVENT
BEGIN:VEVENT
DTSTART;TZID=America/Los_Angeles:20241021T173000
DTEND;TZID=America/Los_Angeles:20241021T193000
DTSTAMP:20260423T045609
CREATED:20231107T005117Z
LAST-MODIFIED:20231107T012715Z
UID:10002432-1729531800-1729539000@wotfa.org
SUMMARY:District 8 Dance Band Practice
DESCRIPTION:Come learn and play with the district 8 dance band\, the 1st and 3rd Monday evening each month at the Mid County Community Center
URL:https://wotfa.org/event/district-8-dance-band-practice-2/2024-10-21/
LOCATION:Mid-County Community Center\, 10205 44th Ave E\, Tacoma\, WA\, 98446\, United States
CATEGORIES:District 8,Jam Session,Open Jams,Workshop
ATTACH;FMTTYPE=image/jpeg:https://wotfa.org/wp-content/uploads/2023/11/contra.jpeg
END:VEVENT
BEGIN:VEVENT
DTSTART;TZID=America/Los_Angeles:20241021T180000
DTEND;TZID=America/Los_Angeles:20241021T200000
DTSTAMP:20260423T045609
CREATED:20240820T194707Z
LAST-MODIFIED:20240820T194707Z
UID:10002541-1729533600-1729540800@wotfa.org
SUMMARY:Old Time Music and Dance Party
DESCRIPTION:Presented by the District 8 Dance Band
URL:https://wotfa.org/event/old-time-music-and-dance-party/
LOCATION:Mid-County Community Center\, 10205 44th Ave E\, Tacoma\, WA\, 98446\, United States
CATEGORIES:Contra Dance,District 8,Family Dance,Featured,Square Dance
ATTACH;FMTTYPE=image/jpeg:https://wotfa.org/wp-content/uploads/2024/08/D8-Dance-Party.jpg
END:VEVENT
BEGIN:VEVENT
DTSTART;TZID=America/Los_Angeles:20241022T130000
DTEND;TZID=America/Los_Angeles:20241022T160000
DTSTAMP:20260423T045609
CREATED:20240926T035821Z
LAST-MODIFIED:20240926T040118Z
UID:10002619-1729602000-1729612800@wotfa.org
SUMMARY:District 5 Tuesday Jams (2nd\, 4th\, and 5th Tuesdays at the Subway Sandwich Shop)
DESCRIPTION:District 5 Tuesday Jams: \n1st and 3rd Tuesday of each month at the Silverdale Mall. \n2nd\, 4th\, and 5th Tuesdays will be at the Subway Sandwich Shop\, 2238 NW Bucklin Hill Rd Suite 102\, Silverdale\, WA 98383. \nAll jams run 1-4pm.
URL:https://wotfa.org/event/district-5-tuesday-jams-2nd-4th-and-5th-tuesdays-at-the-subway-sandwich-shop-2/2024-10-22/
LOCATION:Subway\, 2238 NW Bucklin Hill Rd Suite 102\, Silverdale\, WA\, 98383\, United States
CATEGORIES:District 5,Jam Session,Open Jams
ORGANIZER;CN="Kent McCabe":MAILTO:dkmccabe0723@gmail.com
END:VEVENT
BEGIN:VEVENT
DTSTART;TZID=America/Los_Angeles:20241024T190000
DTEND;TZID=America/Los_Angeles:20241024T213000
DTSTAMP:20260423T045609
CREATED:20230811T232301Z
LAST-MODIFIED:20260106T223822Z
UID:10002803-1729796400-1729805400@wotfa.org
SUMMARY:Weekly Lake City Contra Dance
DESCRIPTION:Thursday nights; doors open at 7 pm \nDances: intro/refresher workshop 7:15 pm\, dancing 7:30 till 10:00 pm \nAdmission on a sliding scale $10 – 20 – pay what you can \nThe hall is well-ventilated and air-conditioned! \nFor more information call 206-525-0932\, or email sjnevins@gmail.com.
URL:https://wotfa.org/event/weekly-lake-city-contra-dance/2024-10-24/
LOCATION:Seattle Latvian Center\, 11710 3rd Avenue NE\, Seattle\, 98125
CATEGORIES:Contra Dance,District 6
ATTACH;FMTTYPE=image/png:https://wotfa.org/wp-content/uploads/2023/08/Lake-City.png
ORGANIZER;CN="Sherry Nevins":MAILTO:sjnevins@gmail.com
END:VEVENT
BEGIN:VEVENT
DTSTART;TZID=America/Los_Angeles:20241025T140000
DTEND;TZID=America/Los_Angeles:20241025T160000
DTSTAMP:20260423T045609
CREATED:20240927T145408Z
LAST-MODIFIED:20240927T145455Z
UID:10002881-1729864800-1729872000@wotfa.org
SUMMARY:Columbia City Weekly Friday Jam
DESCRIPTION:Old Time Jam\nFridays\, 2-4pm\nColumbia City\nColumbia City Jam – Fridays in Columbia City\, in an alcove across the street from Lottie’s Lounge\, at 4900 Rainier Ave S\, 2-4pm\, organized by Tony Mates.
URL:https://wotfa.org/event/columbia-city-weekly-friday-jam-2/2024-10-25/
LOCATION:Lottie’s Lounge\, 4900 Rainier Ave S\, Seattle\, 98118
CATEGORIES:District 6,Jam Session,Open Jams
ATTACH;FMTTYPE=image/jpeg:https://wotfa.org/wp-content/uploads/2023/09/Lotties-01.0.0.1414286256.0.jpg
END:VEVENT
BEGIN:VEVENT
DTSTART;TZID=America/Los_Angeles:20241025T150000
DTEND;TZID=America/Los_Angeles:20241025T230000
DTSTAMP:20260423T045609
CREATED:20251128T230028Z
LAST-MODIFIED:20260106T223542Z
UID:10002671-1729868400-1729897200@wotfa.org
SUMMARY:WOTFA District 16 4th Friday jam and (short) business meeting
DESCRIPTION:The title says it all! – well\, most. \nThis is a friendly\, non-threatening\, circle-jam\, and a lot of fun.  Acoustic instrument players of all ages and levels welcomed\, as are listeners and (if we are lucky) dancers.  Singing\, sheet music and ear-learners all appreciated.  Business meeting is short and non-contentious.  We serve coffee and have cocoa and tea available; snacks are up to the participants. \n2nd and 4th Friday jams continue through the year\,   with the exceptions of Christmas Eve\, Christmas Day\, and  Thanksgiving.
URL:https://wotfa.org/event/wotfa-d14-4th-friday-jam-and-short-business-meeting/2024-10-25/
LOCATION:Sisco Heights Community Club\, 13527 99th Ave. NE\, Arlington\, 98223
CATEGORIES:District 16,Jam Session,Meeting,Open Jams
ATTACH;FMTTYPE=image/jpeg:https://wotfa.org/wp-content/uploads/2024/09/cat-and-fiddle-e1727392607751.jpeg
ORGANIZER;CN="Noel Lareau":MAILTO:noelula@aol.com
END:VEVENT
BEGIN:VEVENT
DTSTART;TZID=America/Los_Angeles:20241025T183000
DTEND;TZID=America/Los_Angeles:20241025T210000
DTSTAMP:20260423T045609
CREATED:20240927T133122Z
LAST-MODIFIED:20240927T133158Z
UID:10002684-1729881000-1729890000@wotfa.org
SUMMARY:District 4 Monthly 4th Friday Jam
DESCRIPTION:Monthly Jam: Every 2nd and 4th Friday\, 6:30 – 9:00 PM\, All are welcome! @ M/V Sr. Ctr. 1401 Cleveland Ave\, Mount Vernon.
URL:https://wotfa.org/event/district-4-monthly-4th-friday-jam/2024-10-25/
LOCATION:Mt. Vernon Senior Center\, 1401 Cleveland St\, Mt. Vernon\, WA\, 98273\, United States
CATEGORIES:District 4,Jam Session,Open Jams
ATTACH;FMTTYPE=image/png:https://wotfa.org/wp-content/uploads/2020/10/district-4.png
END:VEVENT
BEGIN:VEVENT
DTSTART;TZID=America/Los_Angeles:20241025T190000
DTEND;TZID=America/Los_Angeles:20241025T213000
DTSTAMP:20260423T045609
CREATED:20230811T233140Z
LAST-MODIFIED:20260106T223735Z
UID:10002744-1729882800-1729891800@wotfa.org
SUMMARY:Weekly Emerald City Contra Dance
DESCRIPTION:Emerald City Contra Dance \nwith the Seattle Folklore Society present Contra dancing every Friday at the Phinney Neighborhood Center \n6532 Phinney Avenue North\, Seattle (98103) \nin the Community Hall of the brick building\, near the lower parking lot \nBeginner’s workshop at 7:00 pm (or thereabouts). Dance from 7:30 pm to 10:00 pm. \n  \nAdmission prices (cash or check only): \n\nSliding scale $10-$20.\nStudents $5 with a school ID.\nFree for people under the age of 16.\n\nAdmission limited to 100 people. This total includes paying & non-paying dancers\, musicians\, callers\, children\, and adults acting like children. (In short\, everyone.) \nFirst time contra dancers get a coupon for free admission to their next dance.\nCoupon redemption limited to first five coupons on any single night. \nFollow us on Facebook. Find items that you left behind on Facebook. \nPlease help the PNA achieve their sustainability goals. Consider carpooling\, walking\, biking\, or riding the bus to the dance. If you drive\, please park in the PNA parking lots. \nAll dances taught. No partner necessary.\nLight\, comfortable clothing recommended.\nPlease join us without perfumes\, colognes\, aftershave\, scented lotions\, etc. \n\nMore information for dancers.\nInformation for bands and callers.\nPast caller set lists.\nBands and callers: we’ll have an online booking form available soon. \nFor information not already posted here: 206-440-9839 or emeraldcitycontra@pobox.com
URL:https://wotfa.org/event/weekly-emerald-city-contra-dance/2024-10-25/
LOCATION:Phinney Neighborhood Center\, 6532 Phinney Avenue North\, Seattle\, 98103
CATEGORIES:Contra Dance,District 6
ATTACH;FMTTYPE=image/jpeg:https://wotfa.org/wp-content/uploads/2023/08/emerald-city.jpg
ORGANIZER;CN="Emerald City Contra Dace":MAILTO:emeraldcitycontra@pobox.com
END:VEVENT
BEGIN:VEVENT
DTSTART;TZID=America/Los_Angeles:20241026T110000
DTEND;TZID=America/Los_Angeles:20241026T150000
DTSTAMP:20260423T045609
CREATED:20240927T140033Z
LAST-MODIFIED:20240927T140432Z
UID:10002722-1729940400-1729954800@wotfa.org
SUMMARY:District 15 Monthly Jam
DESCRIPTION:Open Jam\nFourth Saturday from 11AM to 3PM\nTri Area Community Center\n10 West Valley Road\nChimacum
URL:https://wotfa.org/event/district-15-monthly-jam/2024-10-26/
LOCATION:Tri-Area Community Center\, 10 W. Valley Road\, Chimacum\, WA\, 98325\, United States
CATEGORIES:District 15,Jam Session,Open Jams
ATTACH;FMTTYPE=image/png:https://wotfa.org/wp-content/uploads/2020/10/district-15.png
ORGANIZER;CN="Rita Alberti":MAILTO:daveandrita2025@gmail.com
END:VEVENT
BEGIN:VEVENT
DTSTART;TZID=America/Los_Angeles:20241026T130000
DTEND;TZID=America/Los_Angeles:20241026T160000
DTSTAMP:20260423T045609
CREATED:20231223T221547Z
LAST-MODIFIED:20231223T221547Z
UID:10002460-1729947600-1729958400@wotfa.org
SUMMARY:District 6 Jam
DESCRIPTION:We get together just to jam\, learn and socialize once a month.  It’s really a fun time to play music together.  If there is interest\, we usually have someone who will teach a lesson on guitar or mandolin and we also try to schedule fiddle teachers on certain months.  All are welcome.  Come anytime you like. \nThe District 6 jams are on the fourth Sat. in Sep\, Oct\, Jan\, Feb\, and March only.\n(There are no fourth saturday jams in Apr\, May\, June\, July\, Aug\, Nov or Dec.)
URL:https://wotfa.org/event/district-6-jam/2024-10-26/
LOCATION:Des Moines Masonic Lodge\, 2208 S 223rd St\, Des Moines\, WA\, 98198\, United States
CATEGORIES:District 6,Jam Session,Open Jams
ATTACH;FMTTYPE=image/jpeg:https://wotfa.org/wp-content/uploads/2023/12/xmas10-scaled.jpg
ORGANIZER;CN="Bernie Turner":MAILTO:bernus.turner@comcast.net
END:VEVENT
END:VCALENDAR