BEGIN:VCALENDAR
VERSION:2.0
PRODID:-//Washington Old Time Fiddlers Association - ECPv6.15.12.2//NONSGML v1.0//EN
CALSCALE:GREGORIAN
METHOD:PUBLISH
X-ORIGINAL-URL:https://wotfa.org
X-WR-CALDESC:Events for Washington Old Time Fiddlers Association
REFRESH-INTERVAL;VALUE=DURATION:PT1H
X-Robots-Tag:noindex
X-PUBLISHED-TTL:PT1H
BEGIN:VTIMEZONE
TZID:America/Los_Angeles
BEGIN:DAYLIGHT
TZOFFSETFROM:-0800
TZOFFSETTO:-0700
TZNAME:PDT
DTSTART:20230312T100000
END:DAYLIGHT
BEGIN:STANDARD
TZOFFSETFROM:-0700
TZOFFSETTO:-0800
TZNAME:PST
DTSTART:20231105T090000
END:STANDARD
BEGIN:DAYLIGHT
TZOFFSETFROM:-0800
TZOFFSETTO:-0700
TZNAME:PDT
DTSTART:20240310T100000
END:DAYLIGHT
BEGIN:STANDARD
TZOFFSETFROM:-0700
TZOFFSETTO:-0800
TZNAME:PST
DTSTART:20241103T090000
END:STANDARD
BEGIN:DAYLIGHT
TZOFFSETFROM:-0800
TZOFFSETTO:-0700
TZNAME:PDT
DTSTART:20250309T100000
END:DAYLIGHT
BEGIN:STANDARD
TZOFFSETFROM:-0700
TZOFFSETTO:-0800
TZNAME:PST
DTSTART:20251102T090000
END:STANDARD
END:VTIMEZONE
BEGIN:VEVENT
DTSTART;TZID=America/Los_Angeles:20241007T173000
DTEND;TZID=America/Los_Angeles:20241007T193000
DTSTAMP:20260423T045619
CREATED:20231107T005013Z
LAST-MODIFIED:20231107T012801Z
UID:10002444-1728322200-1728329400@wotfa.org
SUMMARY:District 8 Dance Band Practice
DESCRIPTION:Come learn and play with the district 8 dance band\, the 1st and 3rd Monday evening each month at the Mid County Community Center
URL:https://wotfa.org/event/district-8-dance-band-practice/2024-10-07/
LOCATION:Mid-County Community Center\, 10205 44th Ave E\, Tacoma\, WA\, 98446\, United States
CATEGORIES:District 8,Jam Session,Open Jams,Workshop
ATTACH;FMTTYPE=image/jpeg:https://wotfa.org/wp-content/uploads/2023/11/contra.jpeg
END:VEVENT
BEGIN:VEVENT
DTSTART;TZID=America/Los_Angeles:20241008T130000
DTEND;TZID=America/Los_Angeles:20241008T160000
DTSTAMP:20260423T045619
CREATED:20240926T035329Z
LAST-MODIFIED:20240926T040151Z
UID:10002618-1728392400-1728403200@wotfa.org
SUMMARY:District 5 Tuesday Jams (2nd\, 4th\, and 5th Tuesdays at the Subway Sandwich Shop)
DESCRIPTION:District 5 Tuesday Jams: \n1st and 3rd Tuesday of each month at the Silverdale Mall. \n2nd\, 4th\, and 5th Tuesdays will be at the Subway Sandwich Shop\, 2238 NW Bucklin Hill Rd Suite 102\, Silverdale\, WA 98383. \nAll jams run 1-4pm.
URL:https://wotfa.org/event/district-5-tuesday-jams-2nd-4th-and-5th-tuesdays-at-the-subway-sandwich-shop/2024-10-08/
LOCATION:Subway\, 2238 NW Bucklin Hill Rd Suite 102\, Silverdale\, WA\, 98383\, United States
CATEGORIES:District 5,Jam Session,Open Jams
ORGANIZER;CN="Kent McCabe":MAILTO:dkmccabe0723@gmail.com
END:VEVENT
BEGIN:VEVENT
DTSTART;TZID=America/Los_Angeles:20241009T160000
DTEND;TZID=America/Los_Angeles:20241009T170000
DTSTAMP:20260423T045619
CREATED:20240928T235604Z
LAST-MODIFIED:20240928T235604Z
UID:10002931-1728489600-1728493200@wotfa.org
SUMMARY:Colonial Stillwater Estates October Playdate
DESCRIPTION:Please join WOTFA District 9 (Lewis & Thurston Counties) for our regular 2nd Wednesday Playdate at Colonial Stillwater Estates on Wednesday\, October 9th from 4:00pm-5:00pm.  The address for Colonial Stillwater Estates is 2700 Colonial Drive in Centralia.  It’s located just off Cooks Hill Rd (past Providence Centralia Hospital). \nPlease call or text me (Christie) at 360-791-5185 if you need a copy of the playlist for Colonial
URL:https://wotfa.org/event/colonial-stillwater-estates-october-playdate/
LOCATION:Colonial Stillwater Estates\, 2700 Colonial Drive\, Centralia\, 98531
CATEGORIES:District 9,Playout
ATTACH;FMTTYPE=image/jpeg:https://wotfa.org/wp-content/uploads/2024/03/Colonial-Residence-at-Stillwaters-Centralia.jpg
ORGANIZER;CN="Christie Easter":MAILTO:mrwillys@aol.com
END:VEVENT
BEGIN:VEVENT
DTSTART;VALUE=DATE:20241010
DTEND;VALUE=DATE:20241014
DTSTAMP:20260423T045619
CREATED:20240909T180558Z
LAST-MODIFIED:20240909T180558Z
UID:10002542-1728518400-1728863999@wotfa.org
SUMMARY:Old Growth Old Time Festival
DESCRIPTION:Calling all jammers\, dancers\, and folk music lovers!\nEvery October\, Seattle hosts its annual oldtime music festival\, at the Latvian Center in the Northgate neighborhood. \nAll are invited to come experience the rich culture and community of Oldtime music! \nThere is something for everyone\, with performances followed by square dancing and honky-tonk dancing. Music and dance workshops will take place during the day\, along with copious jamming\, potluck meals\, cabaret performances\, and more jams. \nBring your friends and family – we look forward to seeing you all at OGO 🙂 \nSave the date for the 2nd annual OGO! October 10th to 13th\, 2024.
URL:https://wotfa.org/event/old-growth-old-time-festival/
LOCATION:Seattle Latvian Center\, 11710 3rd Avenue NE\, Seattle\, 98125
CATEGORIES:Contra Dance,Family Dance,Featured,Festival,Jam Session,Workshop
ATTACH;FMTTYPE=image/jpeg:https://wotfa.org/wp-content/uploads/2024/09/oldgrowth2024-scaled.jpeg
END:VEVENT
BEGIN:VEVENT
DTSTART;TZID=America/Los_Angeles:20241010T190000
DTEND;TZID=America/Los_Angeles:20241010T213000
DTSTAMP:20260423T045619
CREATED:20230811T232301Z
LAST-MODIFIED:20260106T223822Z
UID:10002801-1728586800-1728595800@wotfa.org
SUMMARY:Weekly Lake City Contra Dance
DESCRIPTION:Thursday nights; doors open at 7 pm \nDances: intro/refresher workshop 7:15 pm\, dancing 7:30 till 10:00 pm \nAdmission on a sliding scale $10 – 20 – pay what you can \nThe hall is well-ventilated and air-conditioned! \nFor more information call 206-525-0932\, or email sjnevins@gmail.com.
URL:https://wotfa.org/event/weekly-lake-city-contra-dance/2024-10-10/
LOCATION:Seattle Latvian Center\, 11710 3rd Avenue NE\, Seattle\, 98125
CATEGORIES:Contra Dance,District 6
ATTACH;FMTTYPE=image/png:https://wotfa.org/wp-content/uploads/2023/08/Lake-City.png
ORGANIZER;CN="Sherry Nevins":MAILTO:sjnevins@gmail.com
END:VEVENT
BEGIN:VEVENT
DTSTART;TZID=America/Los_Angeles:20241011T140000
DTEND;TZID=America/Los_Angeles:20241011T160000
DTSTAMP:20260423T045619
CREATED:20240927T145408Z
LAST-MODIFIED:20240927T145455Z
UID:10002879-1728655200-1728662400@wotfa.org
SUMMARY:Columbia City Weekly Friday Jam
DESCRIPTION:Old Time Jam\nFridays\, 2-4pm\nColumbia City\nColumbia City Jam – Fridays in Columbia City\, in an alcove across the street from Lottie’s Lounge\, at 4900 Rainier Ave S\, 2-4pm\, organized by Tony Mates.
URL:https://wotfa.org/event/columbia-city-weekly-friday-jam-2/2024-10-11/
LOCATION:Lottie’s Lounge\, 4900 Rainier Ave S\, Seattle\, 98118
CATEGORIES:District 6,Jam Session,Open Jams
ATTACH;FMTTYPE=image/jpeg:https://wotfa.org/wp-content/uploads/2023/09/Lotties-01.0.0.1414286256.0.jpg
END:VEVENT
BEGIN:VEVENT
DTSTART;TZID=America/Los_Angeles:20241011T150000
DTEND;TZID=America/Los_Angeles:20241011T220000
DTSTAMP:20260423T045619
CREATED:20230922T152305Z
LAST-MODIFIED:20241003T232237Z
UID:10002957-1728658800-1728684000@wotfa.org
SUMMARY:District 16 2nd Friday Afternoon Jam
DESCRIPTION:We begin at 3:00 pm and this allows folks to come and go with a more flexible schedule. The jams continue until about 10:00 pm (or a bit later) at the Sisco Heights Community Club\, 13527-99th Ave NE\, Arlington\, WA 98223.   \nWe also have coffee and welcome finger treats to enjoy.
URL:https://wotfa.org/event/district-16-monthly-friday-afternoon-jam/2024-10-11/
LOCATION:Sisco Heights Community Club\, 13527 99th Ave. NE\, Arlington\, 98223
CATEGORIES:District 16,Jam Session,Open Jams
ATTACH;FMTTYPE=image/jpeg:https://wotfa.org/wp-content/uploads/2023/03/March-Sisco-Jam-scaled.jpg
ORGANIZER;CN="Noel Lareau":MAILTO:noelula@aol.com
END:VEVENT
BEGIN:VEVENT
DTSTART;TZID=America/Los_Angeles:20241011T183000
DTEND;TZID=America/Los_Angeles:20241011T210000
DTSTAMP:20260423T045619
CREATED:20190906T032948Z
LAST-MODIFIED:20240309T235946Z
UID:10000863-1728671400-1728680400@wotfa.org
SUMMARY:Monthly District 4 Meeting and Jam
DESCRIPTION:Meeting and Jam every 2nd Friday of the month \nJam every 4th Friday of the month \nBoth at the Mount Vernon Sr. Ctr. (map below) 1401 Cleveland\n \nChair / Reporter – Interim Chair Fred Robbins\, fred@robbinsmetal.com 206-786-3369\nTreasurer – Sarah Buntin\, Cell 360-320-1696\, email: <itsrustyoldhalo@frontier.com>\nEvent scheduling – Sarah Buntin- Phone # 360-679-6595\nInterim Secretary – Fred Robbins\, fred@robbinsmetal.com\nCalendar – Fred Robbins email: fred@robbinsmetal.com
URL:https://wotfa.org/event/district-4-meeting-and-jam/2024-10-11/
LOCATION:Mt. Vernon Senior Center\, 1401 Cleveland St\, Mt. Vernon\, WA\, 98273\, United States
CATEGORIES:District 4,Jam Session,Meeting,Open Jams
ATTACH;FMTTYPE=image/png:https://wotfa.org/wp-content/uploads/2020/10/district-4.png
END:VEVENT
BEGIN:VEVENT
DTSTART;TZID=America/Los_Angeles:20241011T190000
DTEND;TZID=America/Los_Angeles:20241011T213000
DTSTAMP:20260423T045619
CREATED:20230811T233140Z
LAST-MODIFIED:20260106T223735Z
UID:10002742-1728673200-1728682200@wotfa.org
SUMMARY:Weekly Emerald City Contra Dance
DESCRIPTION:Emerald City Contra Dance \nwith the Seattle Folklore Society present Contra dancing every Friday at the Phinney Neighborhood Center \n6532 Phinney Avenue North\, Seattle (98103) \nin the Community Hall of the brick building\, near the lower parking lot \nBeginner’s workshop at 7:00 pm (or thereabouts). Dance from 7:30 pm to 10:00 pm. \n  \nAdmission prices (cash or check only): \n\nSliding scale $10-$20.\nStudents $5 with a school ID.\nFree for people under the age of 16.\n\nAdmission limited to 100 people. This total includes paying & non-paying dancers\, musicians\, callers\, children\, and adults acting like children. (In short\, everyone.) \nFirst time contra dancers get a coupon for free admission to their next dance.\nCoupon redemption limited to first five coupons on any single night. \nFollow us on Facebook. Find items that you left behind on Facebook. \nPlease help the PNA achieve their sustainability goals. Consider carpooling\, walking\, biking\, or riding the bus to the dance. If you drive\, please park in the PNA parking lots. \nAll dances taught. No partner necessary.\nLight\, comfortable clothing recommended.\nPlease join us without perfumes\, colognes\, aftershave\, scented lotions\, etc. \n\nMore information for dancers.\nInformation for bands and callers.\nPast caller set lists.\nBands and callers: we’ll have an online booking form available soon. \nFor information not already posted here: 206-440-9839 or emeraldcitycontra@pobox.com
URL:https://wotfa.org/event/weekly-emerald-city-contra-dance/2024-10-11/
LOCATION:Phinney Neighborhood Center\, 6532 Phinney Avenue North\, Seattle\, 98103
CATEGORIES:Contra Dance,District 6
ATTACH;FMTTYPE=image/jpeg:https://wotfa.org/wp-content/uploads/2023/08/emerald-city.jpg
ORGANIZER;CN="Emerald City Contra Dace":MAILTO:emeraldcitycontra@pobox.com
END:VEVENT
BEGIN:VEVENT
DTSTART;TZID=America/Los_Angeles:20241012T100000
DTEND;TZID=America/Los_Angeles:20241012T140000
DTSTAMP:20260423T045619
CREATED:20240927T135701Z
LAST-MODIFIED:20240927T135739Z
UID:10002709-1728727200-1728741600@wotfa.org
SUMMARY:District 15 Monthly Jam (and really brief meeting)
DESCRIPTION:Open Jam and a really brief meeting at noon.\nSecond Saturday from 10AM to 2PM\nSt. Luke’s Episcopal Church \n525 N. 5th\nSequim
URL:https://wotfa.org/event/district-15-monthly-jam-and-really-brief-meeting/2024-10-12/
LOCATION:St Luke’s Episcopal Church\, 525 N 5th Ave\, Sequim\, WA\, 98382\, United States
CATEGORIES:District 15,Jam Session,Meeting,Open Jams
ATTACH;FMTTYPE=image/png:https://wotfa.org/wp-content/uploads/2020/10/district-15.png
ORGANIZER;CN="Rita Alberti":MAILTO:daveandrita2025@gmail.com
END:VEVENT
END:VCALENDAR