BEGIN:VCALENDAR
VERSION:2.0
PRODID:-//Washington Old Time Fiddlers Association - ECPv6.15.12.2//NONSGML v1.0//EN
CALSCALE:GREGORIAN
METHOD:PUBLISH
X-ORIGINAL-URL:https://wotfa.org
X-WR-CALDESC:Events for Washington Old Time Fiddlers Association
REFRESH-INTERVAL;VALUE=DURATION:PT1H
X-Robots-Tag:noindex
X-PUBLISHED-TTL:PT1H
BEGIN:VTIMEZONE
TZID:America/Los_Angeles
BEGIN:DAYLIGHT
TZOFFSETFROM:-0800
TZOFFSETTO:-0700
TZNAME:PDT
DTSTART:20230312T100000
END:DAYLIGHT
BEGIN:STANDARD
TZOFFSETFROM:-0700
TZOFFSETTO:-0800
TZNAME:PST
DTSTART:20231105T090000
END:STANDARD
BEGIN:DAYLIGHT
TZOFFSETFROM:-0800
TZOFFSETTO:-0700
TZNAME:PDT
DTSTART:20240310T100000
END:DAYLIGHT
BEGIN:STANDARD
TZOFFSETFROM:-0700
TZOFFSETTO:-0800
TZNAME:PST
DTSTART:20241103T090000
END:STANDARD
BEGIN:DAYLIGHT
TZOFFSETFROM:-0800
TZOFFSETTO:-0700
TZNAME:PDT
DTSTART:20250309T100000
END:DAYLIGHT
BEGIN:STANDARD
TZOFFSETFROM:-0700
TZOFFSETTO:-0800
TZNAME:PST
DTSTART:20251102T090000
END:STANDARD
END:VTIMEZONE
BEGIN:VEVENT
DTSTART;TZID=America/Los_Angeles:20240827T184500
DTEND;TZID=America/Los_Angeles:20240827T204500
DTSTAMP:20260423T032548
CREATED:20230901T235932Z
LAST-MODIFIED:20230901T235932Z
UID:10002264-1724784300-1724791500@wotfa.org
SUMMARY:Couth Buzzard Weekly Old Time Jam
DESCRIPTION:Usually a hosted Jam\, located at 8310 Greenwood Ave. N in Seattle\, the back room is reserved from 6pm on.  Come early to get food\, beer\, etc. \nCover is $4\, or $2 with food\, beverage\, or book purchase.  There is a separate vessel labeled “Tips for the lead fiddler”
URL:https://wotfa.org/event/couth-buzzard-weekly-old-time-jam/2024-08-27/
LOCATION:Couth Buzzard Books\, 8310 Greenwood Ave N\, Seattle\, 98103
CATEGORIES:Jam Session,Open Jams
ATTACH;FMTTYPE=image/png:https://wotfa.org/wp-content/uploads/2023/09/couth2.png
ORGANIZER;CN="Martha Jackson":MAILTO:m145@zipcon.com
END:VEVENT
BEGIN:VEVENT
DTSTART;TZID=America/Los_Angeles:20240829T190000
DTEND;TZID=America/Los_Angeles:20240829T213000
DTSTAMP:20260423T032548
CREATED:20230811T232301Z
LAST-MODIFIED:20260106T223822Z
UID:10002795-1724958000-1724967000@wotfa.org
SUMMARY:Weekly Lake City Contra Dance
DESCRIPTION:Thursday nights; doors open at 7 pm \nDances: intro/refresher workshop 7:15 pm\, dancing 7:30 till 10:00 pm \nAdmission on a sliding scale $10 – 20 – pay what you can \nThe hall is well-ventilated and air-conditioned! \nFor more information call 206-525-0932\, or email sjnevins@gmail.com.
URL:https://wotfa.org/event/weekly-lake-city-contra-dance/2024-08-29/
LOCATION:Seattle Latvian Center\, 11710 3rd Avenue NE\, Seattle\, 98125
CATEGORIES:Contra Dance,District 6
ATTACH;FMTTYPE=image/png:https://wotfa.org/wp-content/uploads/2023/08/Lake-City.png
ORGANIZER;CN="Sherry Nevins":MAILTO:sjnevins@gmail.com
END:VEVENT
BEGIN:VEVENT
DTSTART;VALUE=DATE:20240830
DTEND;VALUE=DATE:20240902
DTSTAMP:20260423T032548
CREATED:20240803T171628Z
LAST-MODIFIED:20240806T151027Z
UID:10002535-1724976000-1725235199@wotfa.org
SUMMARY:District 5 Labor Day Weekend Campout
DESCRIPTION:This post will be edited with more information\, but here are the basics. Friday\, August 30: late afternoon-evening check-in\, jams and socializing; Saturday: breakfast provided\, jamming\, tune learning\, band rehearsal for square dance\, lunch on your own\, more jamming\, late afternoon burgers provided\, play for square dance\, evening hotdogs\, campfire social; Sunday: breakfast provided\, gospel hour\, jamming\, break up and say good byes around noon. Watch for updates here and on the district 5 facebook page: https://www.facebook.com/WOTFA5 \nLink to registration Form: https://get.massive.io/01J4CJ2BB8X9HA4PQ9Z6ND0HAC?secret=NKBCuqrtogIiKOvW \nInfo: email: dkmccabe@gmail.com call or text 360-277-6140 \n 
URL:https://wotfa.org/event/district-5-labor-day-weekend-campout/
LOCATION:Kitsap Square Dance Club\, 6800 W Belfair Valley Rd\, Bremerton\, WA\, 98312
CATEGORIES:Campout,District 5,Featured
ATTACH;FMTTYPE=image/jpeg:https://wotfa.org/wp-content/uploads/2018/11/20180831_190405-medium-1.jpg
ORGANIZER;CN="Kent McCabe":MAILTO:dkmccabe0723@gmail.com
END:VEVENT
BEGIN:VEVENT
DTSTART;TZID=America/Los_Angeles:20240830T190000
DTEND;TZID=America/Los_Angeles:20240830T213000
DTSTAMP:20260423T032548
CREATED:20230811T233140Z
LAST-MODIFIED:20260106T223735Z
UID:10002736-1725044400-1725053400@wotfa.org
SUMMARY:Weekly Emerald City Contra Dance
DESCRIPTION:Emerald City Contra Dance \nwith the Seattle Folklore Society present Contra dancing every Friday at the Phinney Neighborhood Center \n6532 Phinney Avenue North\, Seattle (98103) \nin the Community Hall of the brick building\, near the lower parking lot \nBeginner’s workshop at 7:00 pm (or thereabouts). Dance from 7:30 pm to 10:00 pm. \n  \nAdmission prices (cash or check only): \n\nSliding scale $10-$20.\nStudents $5 with a school ID.\nFree for people under the age of 16.\n\nAdmission limited to 100 people. This total includes paying & non-paying dancers\, musicians\, callers\, children\, and adults acting like children. (In short\, everyone.) \nFirst time contra dancers get a coupon for free admission to their next dance.\nCoupon redemption limited to first five coupons on any single night. \nFollow us on Facebook. Find items that you left behind on Facebook. \nPlease help the PNA achieve their sustainability goals. Consider carpooling\, walking\, biking\, or riding the bus to the dance. If you drive\, please park in the PNA parking lots. \nAll dances taught. No partner necessary.\nLight\, comfortable clothing recommended.\nPlease join us without perfumes\, colognes\, aftershave\, scented lotions\, etc. \n\nMore information for dancers.\nInformation for bands and callers.\nPast caller set lists.\nBands and callers: we’ll have an online booking form available soon. \nFor information not already posted here: 206-440-9839 or emeraldcitycontra@pobox.com
URL:https://wotfa.org/event/weekly-emerald-city-contra-dance/2024-08-30/
LOCATION:Phinney Neighborhood Center\, 6532 Phinney Avenue North\, Seattle\, 98103
CATEGORIES:Contra Dance,District 6
ATTACH;FMTTYPE=image/jpeg:https://wotfa.org/wp-content/uploads/2023/08/emerald-city.jpg
ORGANIZER;CN="Emerald City Contra Dace":MAILTO:emeraldcitycontra@pobox.com
END:VEVENT
END:VCALENDAR