BEGIN:VCALENDAR
VERSION:2.0
PRODID:-//Washington Old Time Fiddlers Association - ECPv6.15.12.2//NONSGML v1.0//EN
CALSCALE:GREGORIAN
METHOD:PUBLISH
X-ORIGINAL-URL:https://wotfa.org
X-WR-CALDESC:Events for Washington Old Time Fiddlers Association
REFRESH-INTERVAL;VALUE=DURATION:PT1H
X-Robots-Tag:noindex
X-PUBLISHED-TTL:PT1H
BEGIN:VTIMEZONE
TZID:America/Los_Angeles
BEGIN:DAYLIGHT
TZOFFSETFROM:-0800
TZOFFSETTO:-0700
TZNAME:PDT
DTSTART:20230312T100000
END:DAYLIGHT
BEGIN:STANDARD
TZOFFSETFROM:-0700
TZOFFSETTO:-0800
TZNAME:PST
DTSTART:20231105T090000
END:STANDARD
BEGIN:DAYLIGHT
TZOFFSETFROM:-0800
TZOFFSETTO:-0700
TZNAME:PDT
DTSTART:20240310T100000
END:DAYLIGHT
BEGIN:STANDARD
TZOFFSETFROM:-0700
TZOFFSETTO:-0800
TZNAME:PST
DTSTART:20241103T090000
END:STANDARD
BEGIN:DAYLIGHT
TZOFFSETFROM:-0800
TZOFFSETTO:-0700
TZNAME:PDT
DTSTART:20250309T100000
END:DAYLIGHT
BEGIN:STANDARD
TZOFFSETFROM:-0700
TZOFFSETTO:-0800
TZNAME:PST
DTSTART:20251102T090000
END:STANDARD
END:VTIMEZONE
BEGIN:VEVENT
DTSTART;TZID=America/Los_Angeles:20240805T173000
DTEND;TZID=America/Los_Angeles:20240805T193000
DTSTAMP:20260423T093942
CREATED:20231107T005013Z
LAST-MODIFIED:20231107T012801Z
UID:10002442-1722879000-1722886200@wotfa.org
SUMMARY:District 8 Dance Band Practice
DESCRIPTION:Come learn and play with the district 8 dance band\, the 1st and 3rd Monday evening each month at the Mid County Community Center
URL:https://wotfa.org/event/district-8-dance-band-practice/2024-08-05/
LOCATION:Mid-County Community Center\, 10205 44th Ave E\, Tacoma\, WA\, 98446\, United States
CATEGORIES:District 8,Jam Session,Open Jams,Workshop
ATTACH;FMTTYPE=image/jpeg:https://wotfa.org/wp-content/uploads/2023/11/contra.jpeg
END:VEVENT
BEGIN:VEVENT
DTSTART;TZID=America/Los_Angeles:20240806T184500
DTEND;TZID=America/Los_Angeles:20240806T204500
DTSTAMP:20260423T093942
CREATED:20230901T235932Z
LAST-MODIFIED:20230901T235932Z
UID:10002261-1722969900-1722977100@wotfa.org
SUMMARY:Couth Buzzard Weekly Old Time Jam
DESCRIPTION:Usually a hosted Jam\, located at 8310 Greenwood Ave. N in Seattle\, the back room is reserved from 6pm on.  Come early to get food\, beer\, etc. \nCover is $4\, or $2 with food\, beverage\, or book purchase.  There is a separate vessel labeled “Tips for the lead fiddler”
URL:https://wotfa.org/event/couth-buzzard-weekly-old-time-jam/2024-08-06/
LOCATION:Couth Buzzard Books\, 8310 Greenwood Ave N\, Seattle\, 98103
CATEGORIES:Jam Session,Open Jams
ATTACH;FMTTYPE=image/png:https://wotfa.org/wp-content/uploads/2023/09/couth2.png
ORGANIZER;CN="Martha Jackson":MAILTO:m145@zipcon.com
END:VEVENT
BEGIN:VEVENT
DTSTART;TZID=America/Los_Angeles:20240807T160000
DTEND;TZID=America/Los_Angeles:20240807T170000
DTSTAMP:20260423T093942
CREATED:20240805T204640Z
LAST-MODIFIED:20240805T204640Z
UID:10002536-1723046400-1723050000@wotfa.org
SUMMARY:Colonial Stillwater Residence Playdate
DESCRIPTION:Please join WOTFA District 9 for our regular month playdate on Wednesday\, August 7th\, 2024 from 4:00pm-5:00pm at Colonial Stillwater Estates Residence building\, located at 2700 Colonial Drive in Centralia\, just off Cooks Hill Rd.  We’ll be playing in the Residence building\, which is the big white building with pillars.  We’ll be in the music parlor which is just inside the main entrance and to the left. \nIf you have questions or would like a copy of the August playlist please give me (Christie) a call or text at 360-791-5185
URL:https://wotfa.org/event/colonial-stillwater-residence-playdate/
LOCATION:Colonial Stillwater Estates\, 2700 Colonial Drive\, Centralia\, 98531
CATEGORIES:District 9,Playout
ORGANIZER;CN="Christie Easter":MAILTO:mrwillys@aol.com
END:VEVENT
BEGIN:VEVENT
DTSTART;TZID=America/Los_Angeles:20240808T140000
DTEND;TZID=America/Los_Angeles:20240808T160000
DTSTAMP:20260423T093942
CREATED:20230902T003322Z
LAST-MODIFIED:20230902T003322Z
UID:10002366-1723125600-1723132800@wotfa.org
SUMMARY:Weekly Thursday Afternoon Phinney Jam
DESCRIPTION:Thursday Afternoon Old-Time Jam  \n2:00 to 4:00 pm\, Weekly at the Phinney Center  \n6532 Phinney Ave N\, Seattle\, Room 2 (New Room) \nSeptember 7 – December 21 – Room 5 \n\n\nNo Jam November 23 \n\n\n  \nPlease see the weekly update beforehand: https://www.facebook.com/groups/oldtimeseattle \n\n\nUpper ‘Blue’ Building\, 2nd floor\, Room 5 (Street Level\, but up the stairs from the upper parking lot) \n\n\n\n\nWe play “Old-time” instrumental fiddle tunes from the Southern U.S. (and other regions) for the most part\, on traditional acoustic instruments like you would find at a square dance such as fiddle\, banjo\, guitar and mandolin.   \n\n\nWe welcome musicians of any age or experience level interested in playing with us or learning more about this kind of music.  \n\n\nIntroduction and Guidelines: https://sites.google.com/view/old-time-jam-introduction  \n\n\nTunes Played: Thu Jam Tune List 2023 – Google Sheets  \n\n\nThe center asks us to use the on-site free parking in the upper or lower lots adjacent to the Blue building\, were we play\, or adjacent to the lower brick building. \n\n\nNo need to bring a chair. Bring warm clothes. The windows are open during the jam and it can get chilly\, even on warm days. \n\n\nThere is no cost\, but our occasional volunteering for Phinney events would be much appreciated. \n\n\nNo Alcohol during the jam\, but there are plenty of opportunities for libations and food afterwards at nearby establishments! \n\n\nWe adhere to all Phinney Center Rules and Policies. \n\n\nUpdated 7/12/2023
URL:https://wotfa.org/event/weekly-thursday-afternoon-phinney-jam/2024-08-08/
LOCATION:Phinney Neighborhood Center\, 6532 Phinney Avenue North\, Seattle\, 98103
CATEGORIES:District 6,Jam Session,Open Jams
ATTACH;FMTTYPE=image/jpeg:https://wotfa.org/wp-content/uploads/2023/09/PhinneyCenter-BlueBuilding.jpg
END:VEVENT
BEGIN:VEVENT
DTSTART;TZID=America/Los_Angeles:20240808T190000
DTEND;TZID=America/Los_Angeles:20240808T213000
DTSTAMP:20260423T093942
CREATED:20230811T232301Z
LAST-MODIFIED:20260106T223822Z
UID:10002147-1723143600-1723152600@wotfa.org
SUMMARY:Weekly Lake City Contra Dance
DESCRIPTION:Thursday nights; doors open at 7 pm \nDances: intro/refresher workshop 7:15 pm\, dancing 7:30 till 10:00 pm \nAdmission on a sliding scale $10 – 20 – pay what you can \nThe hall is well-ventilated and air-conditioned! \nFor more information call 206-525-0932\, or email sjnevins@gmail.com.
URL:https://wotfa.org/event/weekly-lake-city-contra-dance/2024-08-08/
LOCATION:Seattle Latvian Center\, 11710 3rd Avenue NE\, Seattle\, 98125
CATEGORIES:Contra Dance,District 6
ATTACH;FMTTYPE=image/png:https://wotfa.org/wp-content/uploads/2023/08/Lake-City.png
ORGANIZER;CN="Sherry Nevins":MAILTO:sjnevins@gmail.com
END:VEVENT
BEGIN:VEVENT
DTSTART;TZID=America/Los_Angeles:20240809T140000
DTEND;TZID=America/Los_Angeles:20240809T160000
DTSTAMP:20260423T093942
CREATED:20230902T002659Z
LAST-MODIFIED:20230902T002659Z
UID:10002314-1723212000-1723219200@wotfa.org
SUMMARY:Columbia City Weekly Friday Jam
DESCRIPTION:Old Time Jam\nFridays\, 2-4pm\nColumbia City\nAcross from Lotties Lounge at 4900 Rainer Ave. S. From 2-4 pm.\nNear the corner of S. Ferdinand St and Rainier Ave. S\nHost: Tony Mates
URL:https://wotfa.org/event/columbia-city-weekly-friday-jam/2024-08-09/
LOCATION:Lottie’s Lounge\, 4900 Rainier Ave S\, Seattle\, 98118
CATEGORIES:Jam Session,Open Jams
ATTACH;FMTTYPE=image/jpeg:https://wotfa.org/wp-content/uploads/2023/09/Lotties-01.0.0.1414286256.0.jpg
END:VEVENT
BEGIN:VEVENT
DTSTART;TZID=America/Los_Angeles:20240809T150000
DTEND;TZID=America/Los_Angeles:20240809T220000
DTSTAMP:20260423T093942
CREATED:20230922T152305Z
LAST-MODIFIED:20241003T232237Z
UID:10002393-1723215600-1723240800@wotfa.org
SUMMARY:District 16 2nd Friday Afternoon Jam
DESCRIPTION:We begin at 3:00 pm and this allows folks to come and go with a more flexible schedule. The jams continue until about 10:00 pm (or a bit later) at the Sisco Heights Community Club\, 13527-99th Ave NE\, Arlington\, WA 98223.   \nWe also have coffee and welcome finger treats to enjoy.
URL:https://wotfa.org/event/district-16-monthly-friday-afternoon-jam/2024-08-09/
LOCATION:Sisco Heights Community Club\, 13527 99th Ave. NE\, Arlington\, 98223
CATEGORIES:District 16,Jam Session,Open Jams
ATTACH;FMTTYPE=image/jpeg:https://wotfa.org/wp-content/uploads/2023/03/March-Sisco-Jam-scaled.jpg
ORGANIZER;CN="Noel Lareau":MAILTO:noelula@aol.com
END:VEVENT
BEGIN:VEVENT
DTSTART;TZID=America/Los_Angeles:20240809T183000
DTEND;TZID=America/Los_Angeles:20240809T210000
DTSTAMP:20260423T093942
CREATED:20190906T032948Z
LAST-MODIFIED:20240309T235946Z
UID:10000861-1723228200-1723237200@wotfa.org
SUMMARY:Monthly District 4 Meeting and Jam
DESCRIPTION:Meeting and Jam every 2nd Friday of the month \nJam every 4th Friday of the month \nBoth at the Mount Vernon Sr. Ctr. (map below) 1401 Cleveland\n \nChair / Reporter – Interim Chair Fred Robbins\, fred@robbinsmetal.com 206-786-3369\nTreasurer – Sarah Buntin\, Cell 360-320-1696\, email: <itsrustyoldhalo@frontier.com>\nEvent scheduling – Sarah Buntin- Phone # 360-679-6595\nInterim Secretary – Fred Robbins\, fred@robbinsmetal.com\nCalendar – Fred Robbins email: fred@robbinsmetal.com
URL:https://wotfa.org/event/district-4-meeting-and-jam/2024-08-09/
LOCATION:Mt. Vernon Senior Center\, 1401 Cleveland St\, Mt. Vernon\, WA\, 98273\, United States
CATEGORIES:District 4,Jam Session,Meeting,Open Jams
ATTACH;FMTTYPE=image/png:https://wotfa.org/wp-content/uploads/2020/10/district-4.png
END:VEVENT
BEGIN:VEVENT
DTSTART;TZID=America/Los_Angeles:20240809T190000
DTEND;TZID=America/Los_Angeles:20240809T213000
DTSTAMP:20260423T093942
CREATED:20230811T233140Z
LAST-MODIFIED:20260106T223735Z
UID:10002200-1723230000-1723239000@wotfa.org
SUMMARY:Weekly Emerald City Contra Dance
DESCRIPTION:Emerald City Contra Dance \nwith the Seattle Folklore Society present Contra dancing every Friday at the Phinney Neighborhood Center \n6532 Phinney Avenue North\, Seattle (98103) \nin the Community Hall of the brick building\, near the lower parking lot \nBeginner’s workshop at 7:00 pm (or thereabouts). Dance from 7:30 pm to 10:00 pm. \n  \nAdmission prices (cash or check only): \n\nSliding scale $10-$20.\nStudents $5 with a school ID.\nFree for people under the age of 16.\n\nAdmission limited to 100 people. This total includes paying & non-paying dancers\, musicians\, callers\, children\, and adults acting like children. (In short\, everyone.) \nFirst time contra dancers get a coupon for free admission to their next dance.\nCoupon redemption limited to first five coupons on any single night. \nFollow us on Facebook. Find items that you left behind on Facebook. \nPlease help the PNA achieve their sustainability goals. Consider carpooling\, walking\, biking\, or riding the bus to the dance. If you drive\, please park in the PNA parking lots. \nAll dances taught. No partner necessary.\nLight\, comfortable clothing recommended.\nPlease join us without perfumes\, colognes\, aftershave\, scented lotions\, etc. \n\nMore information for dancers.\nInformation for bands and callers.\nPast caller set lists.\nBands and callers: we’ll have an online booking form available soon. \nFor information not already posted here: 206-440-9839 or emeraldcitycontra@pobox.com
URL:https://wotfa.org/event/weekly-emerald-city-contra-dance/2024-08-09/
LOCATION:Phinney Neighborhood Center\, 6532 Phinney Avenue North\, Seattle\, 98103
CATEGORIES:Contra Dance,District 6
ATTACH;FMTTYPE=image/jpeg:https://wotfa.org/wp-content/uploads/2023/08/emerald-city.jpg
ORGANIZER;CN="Emerald City Contra Dace":MAILTO:emeraldcitycontra@pobox.com
END:VEVENT
END:VCALENDAR