BEGIN:VCALENDAR
VERSION:2.0
PRODID:-//Washington Old Time Fiddlers Association - ECPv6.15.12.2//NONSGML v1.0//EN
CALSCALE:GREGORIAN
METHOD:PUBLISH
X-WR-CALNAME:Washington Old Time Fiddlers Association
X-ORIGINAL-URL:https://wotfa.org
X-WR-CALDESC:Events for Washington Old Time Fiddlers Association
REFRESH-INTERVAL;VALUE=DURATION:PT1H
X-Robots-Tag:noindex
X-PUBLISHED-TTL:PT1H
BEGIN:VTIMEZONE
TZID:America/Los_Angeles
BEGIN:DAYLIGHT
TZOFFSETFROM:-0800
TZOFFSETTO:-0700
TZNAME:PDT
DTSTART:20220313T100000
END:DAYLIGHT
BEGIN:STANDARD
TZOFFSETFROM:-0700
TZOFFSETTO:-0800
TZNAME:PST
DTSTART:20221106T090000
END:STANDARD
BEGIN:DAYLIGHT
TZOFFSETFROM:-0800
TZOFFSETTO:-0700
TZNAME:PDT
DTSTART:20230312T100000
END:DAYLIGHT
BEGIN:STANDARD
TZOFFSETFROM:-0700
TZOFFSETTO:-0800
TZNAME:PST
DTSTART:20231105T090000
END:STANDARD
BEGIN:DAYLIGHT
TZOFFSETFROM:-0800
TZOFFSETTO:-0700
TZNAME:PDT
DTSTART:20240310T100000
END:DAYLIGHT
BEGIN:STANDARD
TZOFFSETFROM:-0700
TZOFFSETTO:-0800
TZNAME:PST
DTSTART:20241103T090000
END:STANDARD
END:VTIMEZONE
BEGIN:VEVENT
DTSTART;TZID=America/Los_Angeles:20231113T133000
DTEND;TZID=America/Los_Angeles:20231113T153000
DTSTAMP:20260423T045531
CREATED:20220225T171331Z
LAST-MODIFIED:20230314T183544Z
UID:10001867-1699882200-1699889400@wotfa.org
SUMMARY:District 8 - Circle Jam at Puyallup Senior Center
DESCRIPTION:Easy to find\, Easy to park – great little circle jam in a nice space.  All are welcome to join or listen
URL:https://wotfa.org/event/district-8-circle-jam-at-puyallup-senior-center/2023-11-13/
LOCATION:Puyallup Senior Activity Center\, 210 W Pioneer Ave\, Puyallup\, WA\, 98371\, United States
CATEGORIES:District 8,Jam Session,Open Jams
ATTACH;FMTTYPE=image/png:https://wotfa.org/wp-content/uploads/2022/02/puyallupsenior.png
END:VEVENT
BEGIN:VEVENT
DTSTART;TZID=America/Los_Angeles:20231114T184500
DTEND;TZID=America/Los_Angeles:20231114T204500
DTSTAMP:20260423T045531
CREATED:20230901T235932Z
LAST-MODIFIED:20230901T235932Z
UID:10002223-1699987500-1699994700@wotfa.org
SUMMARY:Couth Buzzard Weekly Old Time Jam
DESCRIPTION:Usually a hosted Jam\, located at 8310 Greenwood Ave. N in Seattle\, the back room is reserved from 6pm on.  Come early to get food\, beer\, etc. \nCover is $4\, or $2 with food\, beverage\, or book purchase.  There is a separate vessel labeled “Tips for the lead fiddler”
URL:https://wotfa.org/event/couth-buzzard-weekly-old-time-jam/2023-11-14/
LOCATION:Couth Buzzard Books\, 8310 Greenwood Ave N\, Seattle\, 98103
CATEGORIES:Jam Session,Open Jams
ATTACH;FMTTYPE=image/png:https://wotfa.org/wp-content/uploads/2023/09/couth2.png
ORGANIZER;CN="Martha Jackson":MAILTO:m145@zipcon.com
END:VEVENT
BEGIN:VEVENT
DTSTART;TZID=America/Los_Angeles:20231115T190000
DTEND;TZID=America/Los_Angeles:20231115T223000
DTSTAMP:20260423T045531
CREATED:20230901T234806Z
LAST-MODIFIED:20230901T234820Z
UID:10002203-1700074800-1700087400@wotfa.org
SUMMARY:Friends of Vivian Williams - South Seattle Monthly Jam
DESCRIPTION:Located in the Beacon Hill area\, Mimi Boothby hosts a monthly jam at her house\, in the spirit of the Williams’s monthly parlor jam.  All are welcome!  Call or text Mimi at 206.218.6258 or email her at mimitabby@gmail.com for exact location details
URL:https://wotfa.org/event/friends-of-vivian-williams-south-end-monthly-jam/2023-11-15/
LOCATION:WA\, United States
CATEGORIES:Jam Session,Open Jams
ATTACH;FMTTYPE=image/jpeg:https://wotfa.org/wp-content/uploads/2023/09/Vivian-and-Phil-2.jpg
ORGANIZER;CN="Mimi Boothby":MAILTO:mimitabby@gmail.com
END:VEVENT
BEGIN:VEVENT
DTSTART;TZID=America/Los_Angeles:20231116T140000
DTEND;TZID=America/Los_Angeles:20231116T160000
DTSTAMP:20260423T045531
CREATED:20230902T003322Z
LAST-MODIFIED:20230902T003322Z
UID:10002328-1700143200-1700150400@wotfa.org
SUMMARY:Weekly Thursday Afternoon Phinney Jam
DESCRIPTION:Thursday Afternoon Old-Time Jam  \n2:00 to 4:00 pm\, Weekly at the Phinney Center  \n6532 Phinney Ave N\, Seattle\, Room 2 (New Room) \nSeptember 7 – December 21 – Room 5 \n\n\nNo Jam November 23 \n\n\n  \nPlease see the weekly update beforehand: https://www.facebook.com/groups/oldtimeseattle \n\n\nUpper ‘Blue’ Building\, 2nd floor\, Room 5 (Street Level\, but up the stairs from the upper parking lot) \n\n\n\n\nWe play “Old-time” instrumental fiddle tunes from the Southern U.S. (and other regions) for the most part\, on traditional acoustic instruments like you would find at a square dance such as fiddle\, banjo\, guitar and mandolin.   \n\n\nWe welcome musicians of any age or experience level interested in playing with us or learning more about this kind of music.  \n\n\nIntroduction and Guidelines: https://sites.google.com/view/old-time-jam-introduction  \n\n\nTunes Played: Thu Jam Tune List 2023 – Google Sheets  \n\n\nThe center asks us to use the on-site free parking in the upper or lower lots adjacent to the Blue building\, were we play\, or adjacent to the lower brick building. \n\n\nNo need to bring a chair. Bring warm clothes. The windows are open during the jam and it can get chilly\, even on warm days. \n\n\nThere is no cost\, but our occasional volunteering for Phinney events would be much appreciated. \n\n\nNo Alcohol during the jam\, but there are plenty of opportunities for libations and food afterwards at nearby establishments! \n\n\nWe adhere to all Phinney Center Rules and Policies. \n\n\nUpdated 7/12/2023
URL:https://wotfa.org/event/weekly-thursday-afternoon-phinney-jam/2023-11-16/
LOCATION:Phinney Neighborhood Center\, 6532 Phinney Avenue North\, Seattle\, 98103
CATEGORIES:District 6,Jam Session,Open Jams
ATTACH;FMTTYPE=image/jpeg:https://wotfa.org/wp-content/uploads/2023/09/PhinneyCenter-BlueBuilding.jpg
END:VEVENT
BEGIN:VEVENT
DTSTART;TZID=America/Los_Angeles:20231116T190000
DTEND;TZID=America/Los_Angeles:20231116T213000
DTSTAMP:20260423T045531
CREATED:20230811T232301Z
LAST-MODIFIED:20260106T223822Z
UID:10002109-1700161200-1700170200@wotfa.org
SUMMARY:Weekly Lake City Contra Dance
DESCRIPTION:Thursday nights; doors open at 7 pm \nDances: intro/refresher workshop 7:15 pm\, dancing 7:30 till 10:00 pm \nAdmission on a sliding scale $10 – 20 – pay what you can \nThe hall is well-ventilated and air-conditioned! \nFor more information call 206-525-0932\, or email sjnevins@gmail.com.
URL:https://wotfa.org/event/weekly-lake-city-contra-dance/2023-11-16/
LOCATION:Seattle Latvian Center\, 11710 3rd Avenue NE\, Seattle\, 98125
CATEGORIES:Contra Dance,District 6
ATTACH;FMTTYPE=image/png:https://wotfa.org/wp-content/uploads/2023/08/Lake-City.png
ORGANIZER;CN="Sherry Nevins":MAILTO:sjnevins@gmail.com
END:VEVENT
BEGIN:VEVENT
DTSTART;TZID=America/Los_Angeles:20231117T140000
DTEND;TZID=America/Los_Angeles:20231117T160000
DTSTAMP:20260423T045531
CREATED:20230902T002659Z
LAST-MODIFIED:20230902T002659Z
UID:10002276-1700229600-1700236800@wotfa.org
SUMMARY:Columbia City Weekly Friday Jam
DESCRIPTION:Old Time Jam\nFridays\, 2-4pm\nColumbia City\nAcross from Lotties Lounge at 4900 Rainer Ave. S. From 2-4 pm.\nNear the corner of S. Ferdinand St and Rainier Ave. S\nHost: Tony Mates
URL:https://wotfa.org/event/columbia-city-weekly-friday-jam/2023-11-17/
LOCATION:Lottie’s Lounge\, 4900 Rainier Ave S\, Seattle\, 98118
CATEGORIES:Jam Session,Open Jams
ATTACH;FMTTYPE=image/jpeg:https://wotfa.org/wp-content/uploads/2023/09/Lotties-01.0.0.1414286256.0.jpg
END:VEVENT
BEGIN:VEVENT
DTSTART;TZID=America/Los_Angeles:20231117T140000
DTEND;TZID=America/Los_Angeles:20231117T170000
DTSTAMP:20260423T045531
CREATED:20220808T230643Z
LAST-MODIFIED:20220808T231235Z
UID:10001266-1700229600-1700240400@wotfa.org
SUMMARY:District 3 Meeting and Jam
DESCRIPTION:District 3 meets monthly at the Eagles (Wenatchee Eagles Lodge #204 ~ 1208 N. Wenatchee Ave. Wenatchee\, WA) on the 3rd Friday of the month at 2pm.
URL:https://wotfa.org/event/district-3-meeting-and-jam/2023-11-17/
LOCATION:Wenatchee Eagles Lodge #204\, 1208 N. Wenatchee Ave.\, Wenatchee\, WA\, 98801\, United States
CATEGORIES:District 3
ATTACH;FMTTYPE=image/png:https://wotfa.org/wp-content/uploads/2020/10/district-3.png
END:VEVENT
BEGIN:VEVENT
DTSTART;TZID=America/Los_Angeles:20231117T190000
DTEND;TZID=America/Los_Angeles:20231117T213000
DTSTAMP:20260423T045531
CREATED:20230811T233140Z
LAST-MODIFIED:20260106T223735Z
UID:10002162-1700247600-1700256600@wotfa.org
SUMMARY:Weekly Emerald City Contra Dance
DESCRIPTION:Emerald City Contra Dance \nwith the Seattle Folklore Society present Contra dancing every Friday at the Phinney Neighborhood Center \n6532 Phinney Avenue North\, Seattle (98103) \nin the Community Hall of the brick building\, near the lower parking lot \nBeginner’s workshop at 7:00 pm (or thereabouts). Dance from 7:30 pm to 10:00 pm. \n  \nAdmission prices (cash or check only): \n\nSliding scale $10-$20.\nStudents $5 with a school ID.\nFree for people under the age of 16.\n\nAdmission limited to 100 people. This total includes paying & non-paying dancers\, musicians\, callers\, children\, and adults acting like children. (In short\, everyone.) \nFirst time contra dancers get a coupon for free admission to their next dance.\nCoupon redemption limited to first five coupons on any single night. \nFollow us on Facebook. Find items that you left behind on Facebook. \nPlease help the PNA achieve their sustainability goals. Consider carpooling\, walking\, biking\, or riding the bus to the dance. If you drive\, please park in the PNA parking lots. \nAll dances taught. No partner necessary.\nLight\, comfortable clothing recommended.\nPlease join us without perfumes\, colognes\, aftershave\, scented lotions\, etc. \n\nMore information for dancers.\nInformation for bands and callers.\nPast caller set lists.\nBands and callers: we’ll have an online booking form available soon. \nFor information not already posted here: 206-440-9839 or emeraldcitycontra@pobox.com
URL:https://wotfa.org/event/weekly-emerald-city-contra-dance/2023-11-17/
LOCATION:Phinney Neighborhood Center\, 6532 Phinney Avenue North\, Seattle\, 98103
CATEGORIES:Contra Dance,District 6
ATTACH;FMTTYPE=image/jpeg:https://wotfa.org/wp-content/uploads/2023/08/emerald-city.jpg
ORGANIZER;CN="Emerald City Contra Dace":MAILTO:emeraldcitycontra@pobox.com
END:VEVENT
BEGIN:VEVENT
DTSTART;TZID=America/Los_Angeles:20231118T120000
DTEND;TZID=America/Los_Angeles:20231118T150000
DTSTAMP:20260423T045531
CREATED:20220802T224421Z
LAST-MODIFIED:20220802T224942Z
UID:10001231-1700308800-1700319600@wotfa.org
SUMMARY:District 5 Monthly Meeting and Jam
DESCRIPTION:Our regular monthly meetings will begin again the third Saturday of September at the Kitsap Square Dance Club in Gorst.  We look forward to seeing you all again!
URL:https://wotfa.org/event/monthly-district-5-meeting-and-jam/2023-11-18/
LOCATION:Kitsap Square Dance Club\, 6800 W Belfair Valley Rd\, Bremerton\, WA\, 98312
CATEGORIES:District 5,Jam Session
ATTACH;FMTTYPE=image/png:https://wotfa.org/wp-content/uploads/2020/10/district-5.png
ORGANIZER;CN="Laura and Will Farr":MAILTO:wlzfarr@msn.com
END:VEVENT
BEGIN:VEVENT
DTSTART;TZID=America/Los_Angeles:20231119T133000
DTEND;TZID=America/Los_Angeles:20231119T160000
DTSTAMP:20260423T045531
CREATED:20220808T232915Z
LAST-MODIFIED:20220808T234514Z
UID:10001284-1700400600-1700409600@wotfa.org
SUMMARY:District 11 Monthly Meeting and Jam
DESCRIPTION:Monthly Meeting and Jam: \n3rd Sunday at 1:30 PM – Jam 2:00-4:00. Moses Lake Senior Center\, 608 E. 3rd Ave. Moses Lake
URL:https://wotfa.org/event/district-11-monthly-meeting-and-jam/2023-11-19/
LOCATION:Moses Lake Senior Center\, 608 E. 3rd Ave\, Moses Lake\, WA\, 98837\, United States
CATEGORIES:District 11
ATTACH;FMTTYPE=image/png:https://wotfa.org/wp-content/uploads/2020/10/district-11.png
ORGANIZER;CN="Charlie Root":MAILTO:clroot@sosmail.us
END:VEVENT
BEGIN:VEVENT
DTSTART;TZID=America/Los_Angeles:20231119T140000
DTEND;TZID=America/Los_Angeles:20231119T170000
DTSTAMP:20260423T045531
CREATED:20211120T151529Z
LAST-MODIFIED:20230207T015404Z
UID:10001062-1700402400-1700413200@wotfa.org
SUMMARY:District 8 Meeting and Jam
DESCRIPTION:In-Person District 8 Meeting\n Short Meeting\, Followed by LOOOONG jam!!!\n \nThe Mid County Community Center has reopened\, and monthly meetings will resume there in September! \n10205 44th Ave E\, Tacoma\, WA 98446  https://goo.gl/maps/dCPbMrM8sLDcDZk36
URL:https://wotfa.org/event/district-8-meeting-and-jam/2023-11-19/
LOCATION:Mid-County Community Center\, 10205 44th Ave E\, Tacoma\, WA\, 98446\, United States
CATEGORIES:District 8
END:VEVENT
END:VCALENDAR