BEGIN:VCALENDAR
VERSION:2.0
PRODID:-//Washington Old Time Fiddlers Association - ECPv6.15.12.2//NONSGML v1.0//EN
CALSCALE:GREGORIAN
METHOD:PUBLISH
X-ORIGINAL-URL:https://wotfa.org
X-WR-CALDESC:Events for Washington Old Time Fiddlers Association
REFRESH-INTERVAL;VALUE=DURATION:PT1H
X-Robots-Tag:noindex
X-PUBLISHED-TTL:PT1H
BEGIN:VTIMEZONE
TZID:America/Los_Angeles
BEGIN:DAYLIGHT
TZOFFSETFROM:-0800
TZOFFSETTO:-0700
TZNAME:PDT
DTSTART:20220313T100000
END:DAYLIGHT
BEGIN:STANDARD
TZOFFSETFROM:-0700
TZOFFSETTO:-0800
TZNAME:PST
DTSTART:20221106T090000
END:STANDARD
BEGIN:DAYLIGHT
TZOFFSETFROM:-0800
TZOFFSETTO:-0700
TZNAME:PDT
DTSTART:20230312T100000
END:DAYLIGHT
BEGIN:STANDARD
TZOFFSETFROM:-0700
TZOFFSETTO:-0800
TZNAME:PST
DTSTART:20231105T090000
END:STANDARD
BEGIN:DAYLIGHT
TZOFFSETFROM:-0800
TZOFFSETTO:-0700
TZNAME:PDT
DTSTART:20240310T100000
END:DAYLIGHT
BEGIN:STANDARD
TZOFFSETFROM:-0700
TZOFFSETTO:-0800
TZNAME:PST
DTSTART:20241103T090000
END:STANDARD
END:VTIMEZONE
BEGIN:VEVENT
DTSTART;TZID=America/Los_Angeles:20231016T133000
DTEND;TZID=America/Los_Angeles:20231016T153000
DTSTAMP:20260423T045557
CREATED:20220225T171331Z
LAST-MODIFIED:20230314T183544Z
UID:10001863-1697463000-1697470200@wotfa.org
SUMMARY:District 8 - Circle Jam at Puyallup Senior Center
DESCRIPTION:Easy to find\, Easy to park – great little circle jam in a nice space.  All are welcome to join or listen
URL:https://wotfa.org/event/district-8-circle-jam-at-puyallup-senior-center/2023-10-16/
LOCATION:Puyallup Senior Activity Center\, 210 W Pioneer Ave\, Puyallup\, WA\, 98371\, United States
CATEGORIES:District 8,Jam Session,Open Jams
ATTACH;FMTTYPE=image/png:https://wotfa.org/wp-content/uploads/2022/02/puyallupsenior.png
END:VEVENT
BEGIN:VEVENT
DTSTART;TZID=America/Los_Angeles:20231017T130000
DTEND;TZID=America/Los_Angeles:20231017T160000
DTSTAMP:20260423T045557
CREATED:20221216T004133Z
LAST-MODIFIED:20240926T034833Z
UID:10001319-1697547600-1697558400@wotfa.org
SUMMARY:District 5 Jam (Third Tuesday at Kitsap Mall)
DESCRIPTION:Join us at the Kitsap Mall in Silverdale for an afternoon circle jam every 1st and 3rd Tuesday of the month.  Look for us in the Community Room next to Dick’s Sporting Goods.  All acoustic instruments and abilities are welcome.  Written music is often available.
URL:https://wotfa.org/event/district-5-jam/2023-10-17/
LOCATION:Kitsap Mall\, 10315 Silverdale Way\, Silverdale\, WA\, 98383\, United States
CATEGORIES:District 5,Jam Session,Open Jams
ORGANIZER;CN="Kay McCarthy":MAILTO:kaycmccarthy@gmail.com
END:VEVENT
BEGIN:VEVENT
DTSTART;TZID=America/Los_Angeles:20231017T184500
DTEND;TZID=America/Los_Angeles:20231017T204500
DTSTAMP:20260423T045557
CREATED:20230901T235932Z
LAST-MODIFIED:20230901T235932Z
UID:10002219-1697568300-1697575500@wotfa.org
SUMMARY:Couth Buzzard Weekly Old Time Jam
DESCRIPTION:Usually a hosted Jam\, located at 8310 Greenwood Ave. N in Seattle\, the back room is reserved from 6pm on.  Come early to get food\, beer\, etc. \nCover is $4\, or $2 with food\, beverage\, or book purchase.  There is a separate vessel labeled “Tips for the lead fiddler”
URL:https://wotfa.org/event/couth-buzzard-weekly-old-time-jam/2023-10-17/
LOCATION:Couth Buzzard Books\, 8310 Greenwood Ave N\, Seattle\, 98103
CATEGORIES:Jam Session,Open Jams
ATTACH;FMTTYPE=image/png:https://wotfa.org/wp-content/uploads/2023/09/couth2.png
ORGANIZER;CN="Martha Jackson":MAILTO:m145@zipcon.com
END:VEVENT
BEGIN:VEVENT
DTSTART;TZID=America/Los_Angeles:20231018T190000
DTEND;TZID=America/Los_Angeles:20231018T223000
DTSTAMP:20260423T045557
CREATED:20230901T234806Z
LAST-MODIFIED:20230901T234820Z
UID:10002202-1697655600-1697668200@wotfa.org
SUMMARY:Friends of Vivian Williams - South Seattle Monthly Jam
DESCRIPTION:Located in the Beacon Hill area\, Mimi Boothby hosts a monthly jam at her house\, in the spirit of the Williams’s monthly parlor jam.  All are welcome!  Call or text Mimi at 206.218.6258 or email her at mimitabby@gmail.com for exact location details
URL:https://wotfa.org/event/friends-of-vivian-williams-south-end-monthly-jam/2023-10-18/
LOCATION:WA\, United States
CATEGORIES:Jam Session,Open Jams
ATTACH;FMTTYPE=image/jpeg:https://wotfa.org/wp-content/uploads/2023/09/Vivian-and-Phil-2.jpg
ORGANIZER;CN="Mimi Boothby":MAILTO:mimitabby@gmail.com
END:VEVENT
BEGIN:VEVENT
DTSTART;TZID=America/Los_Angeles:20231019T140000
DTEND;TZID=America/Los_Angeles:20231019T160000
DTSTAMP:20260423T045557
CREATED:20230902T003322Z
LAST-MODIFIED:20230902T003322Z
UID:10002324-1697724000-1697731200@wotfa.org
SUMMARY:Weekly Thursday Afternoon Phinney Jam
DESCRIPTION:Thursday Afternoon Old-Time Jam  \n2:00 to 4:00 pm\, Weekly at the Phinney Center  \n6532 Phinney Ave N\, Seattle\, Room 2 (New Room) \nSeptember 7 – December 21 – Room 5 \n\n\nNo Jam November 23 \n\n\n  \nPlease see the weekly update beforehand: https://www.facebook.com/groups/oldtimeseattle \n\n\nUpper ‘Blue’ Building\, 2nd floor\, Room 5 (Street Level\, but up the stairs from the upper parking lot) \n\n\n\n\nWe play “Old-time” instrumental fiddle tunes from the Southern U.S. (and other regions) for the most part\, on traditional acoustic instruments like you would find at a square dance such as fiddle\, banjo\, guitar and mandolin.   \n\n\nWe welcome musicians of any age or experience level interested in playing with us or learning more about this kind of music.  \n\n\nIntroduction and Guidelines: https://sites.google.com/view/old-time-jam-introduction  \n\n\nTunes Played: Thu Jam Tune List 2023 – Google Sheets  \n\n\nThe center asks us to use the on-site free parking in the upper or lower lots adjacent to the Blue building\, were we play\, or adjacent to the lower brick building. \n\n\nNo need to bring a chair. Bring warm clothes. The windows are open during the jam and it can get chilly\, even on warm days. \n\n\nThere is no cost\, but our occasional volunteering for Phinney events would be much appreciated. \n\n\nNo Alcohol during the jam\, but there are plenty of opportunities for libations and food afterwards at nearby establishments! \n\n\nWe adhere to all Phinney Center Rules and Policies. \n\n\nUpdated 7/12/2023
URL:https://wotfa.org/event/weekly-thursday-afternoon-phinney-jam/2023-10-19/
LOCATION:Phinney Neighborhood Center\, 6532 Phinney Avenue North\, Seattle\, 98103
CATEGORIES:District 6,Jam Session,Open Jams
ATTACH;FMTTYPE=image/jpeg:https://wotfa.org/wp-content/uploads/2023/09/PhinneyCenter-BlueBuilding.jpg
END:VEVENT
BEGIN:VEVENT
DTSTART;TZID=America/Los_Angeles:20231019T190000
DTEND;TZID=America/Los_Angeles:20231019T213000
DTSTAMP:20260423T045557
CREATED:20230811T232301Z
LAST-MODIFIED:20260106T223822Z
UID:10002105-1697742000-1697751000@wotfa.org
SUMMARY:Weekly Lake City Contra Dance
DESCRIPTION:Thursday nights; doors open at 7 pm \nDances: intro/refresher workshop 7:15 pm\, dancing 7:30 till 10:00 pm \nAdmission on a sliding scale $10 – 20 – pay what you can \nThe hall is well-ventilated and air-conditioned! \nFor more information call 206-525-0932\, or email sjnevins@gmail.com.
URL:https://wotfa.org/event/weekly-lake-city-contra-dance/2023-10-19/
LOCATION:Seattle Latvian Center\, 11710 3rd Avenue NE\, Seattle\, 98125
CATEGORIES:Contra Dance,District 6
ATTACH;FMTTYPE=image/png:https://wotfa.org/wp-content/uploads/2023/08/Lake-City.png
ORGANIZER;CN="Sherry Nevins":MAILTO:sjnevins@gmail.com
END:VEVENT
BEGIN:VEVENT
DTSTART;VALUE=DATE:20231020
DTEND;VALUE=DATE:20231023
DTSTAMP:20260423T045557
CREATED:20230716T163609Z
LAST-MODIFIED:20230911T234215Z
UID:10002077-1697760000-1698019199@wotfa.org
SUMMARY:Old Growth Oldtime Festival
DESCRIPTION:October 20-23\, 2023\nCalling all jammers\, dancers\, and folk music lovers! This fall\, Seattle will be hosting its first annual oldtime music festival\, at the Latvian Centre in the Northgate neighborhood. All are invited to come experience the rich culture and community of oldtime music! \nThere is something for everyone\, with Friday and Saturday performances followed by square dancing and honky-tonk dancing. Music and dance workshops will take place during the day\, along with copious jamming! The Canote Brothers will lead a family dance on Saturday morning. Sunday will finish with a potluck brunch\, cabaret performances\, and more jams. \nLineup\nOur lineup is all local to the Pacific Northwest! Confirmed acts include: \n\nThe Hurricane Ridgerunners (WA)\nCameron DeWhitt & Friends (Portland)\nThe Horsenecks (Astoria)\nDear Crow (Puyallup)\nThe Canote Brothers (Seattle)\nThe Paradise Drifters (Seattle)\nThe Atlas Stringband (Seattle)\nWB & Bonnie (Seattle)\nThe Dream Goats (Bellingham)\nRiver Scheuerell & Friends (Olympia)\n\nWith more to come! Suzanne Giradot will be our featured caller. \nWe will also have a LIVE podcast session\, hosted by Cameron DeWhitt of Get Up in the Cool. Come join the audience as he chats and plays some tunes with his special guests. \nLocal craft beer will be available at the hall\, as well as a yummy food truck outside. \nBring your friends and bring your family – we look forward to seeing you all at OGO!
URL:https://wotfa.org/event/old-growth-oldtime-festival/
LOCATION:Seattle Latvian Center\, 11710 3rd Avenue NE\, Seattle\, 98125
CATEGORIES:District 6,Featured,Festival,Open Jams,Workshop
ATTACH;FMTTYPE=image/png:https://wotfa.org/wp-content/uploads/2023/07/IMG_8411-e1689525343798.png
END:VEVENT
BEGIN:VEVENT
DTSTART;TZID=America/Los_Angeles:20231020T140000
DTEND;TZID=America/Los_Angeles:20231020T160000
DTSTAMP:20260423T045557
CREATED:20230902T002659Z
LAST-MODIFIED:20230902T002659Z
UID:10002272-1697810400-1697817600@wotfa.org
SUMMARY:Columbia City Weekly Friday Jam
DESCRIPTION:Old Time Jam\nFridays\, 2-4pm\nColumbia City\nAcross from Lotties Lounge at 4900 Rainer Ave. S. From 2-4 pm.\nNear the corner of S. Ferdinand St and Rainier Ave. S\nHost: Tony Mates
URL:https://wotfa.org/event/columbia-city-weekly-friday-jam/2023-10-20/
LOCATION:Lottie’s Lounge\, 4900 Rainier Ave S\, Seattle\, 98118
CATEGORIES:Jam Session,Open Jams
ATTACH;FMTTYPE=image/jpeg:https://wotfa.org/wp-content/uploads/2023/09/Lotties-01.0.0.1414286256.0.jpg
END:VEVENT
BEGIN:VEVENT
DTSTART;TZID=America/Los_Angeles:20231020T140000
DTEND;TZID=America/Los_Angeles:20231020T170000
DTSTAMP:20260423T045557
CREATED:20220808T230643Z
LAST-MODIFIED:20220808T231235Z
UID:10001265-1697810400-1697821200@wotfa.org
SUMMARY:District 3 Meeting and Jam
DESCRIPTION:District 3 meets monthly at the Eagles (Wenatchee Eagles Lodge #204 ~ 1208 N. Wenatchee Ave. Wenatchee\, WA) on the 3rd Friday of the month at 2pm.
URL:https://wotfa.org/event/district-3-meeting-and-jam/2023-10-20/
LOCATION:Wenatchee Eagles Lodge #204\, 1208 N. Wenatchee Ave.\, Wenatchee\, WA\, 98801\, United States
CATEGORIES:District 3
ATTACH;FMTTYPE=image/png:https://wotfa.org/wp-content/uploads/2020/10/district-3.png
END:VEVENT
BEGIN:VEVENT
DTSTART;TZID=America/Los_Angeles:20231020T190000
DTEND;TZID=America/Los_Angeles:20231020T213000
DTSTAMP:20260423T045557
CREATED:20230811T233140Z
LAST-MODIFIED:20260106T223735Z
UID:10002158-1697828400-1697837400@wotfa.org
SUMMARY:Weekly Emerald City Contra Dance
DESCRIPTION:Emerald City Contra Dance \nwith the Seattle Folklore Society present Contra dancing every Friday at the Phinney Neighborhood Center \n6532 Phinney Avenue North\, Seattle (98103) \nin the Community Hall of the brick building\, near the lower parking lot \nBeginner’s workshop at 7:00 pm (or thereabouts). Dance from 7:30 pm to 10:00 pm. \n  \nAdmission prices (cash or check only): \n\nSliding scale $10-$20.\nStudents $5 with a school ID.\nFree for people under the age of 16.\n\nAdmission limited to 100 people. This total includes paying & non-paying dancers\, musicians\, callers\, children\, and adults acting like children. (In short\, everyone.) \nFirst time contra dancers get a coupon for free admission to their next dance.\nCoupon redemption limited to first five coupons on any single night. \nFollow us on Facebook. Find items that you left behind on Facebook. \nPlease help the PNA achieve their sustainability goals. Consider carpooling\, walking\, biking\, or riding the bus to the dance. If you drive\, please park in the PNA parking lots. \nAll dances taught. No partner necessary.\nLight\, comfortable clothing recommended.\nPlease join us without perfumes\, colognes\, aftershave\, scented lotions\, etc. \n\nMore information for dancers.\nInformation for bands and callers.\nPast caller set lists.\nBands and callers: we’ll have an online booking form available soon. \nFor information not already posted here: 206-440-9839 or emeraldcitycontra@pobox.com
URL:https://wotfa.org/event/weekly-emerald-city-contra-dance/2023-10-20/
LOCATION:Phinney Neighborhood Center\, 6532 Phinney Avenue North\, Seattle\, 98103
CATEGORIES:Contra Dance,District 6
ATTACH;FMTTYPE=image/jpeg:https://wotfa.org/wp-content/uploads/2023/08/emerald-city.jpg
ORGANIZER;CN="Emerald City Contra Dace":MAILTO:emeraldcitycontra@pobox.com
END:VEVENT
BEGIN:VEVENT
DTSTART;TZID=America/Los_Angeles:20231021T120000
DTEND;TZID=America/Los_Angeles:20231021T150000
DTSTAMP:20260423T045557
CREATED:20220802T224421Z
LAST-MODIFIED:20220802T224942Z
UID:10001230-1697889600-1697900400@wotfa.org
SUMMARY:District 5 Monthly Meeting and Jam
DESCRIPTION:Our regular monthly meetings will begin again the third Saturday of September at the Kitsap Square Dance Club in Gorst.  We look forward to seeing you all again!
URL:https://wotfa.org/event/monthly-district-5-meeting-and-jam/2023-10-21/
LOCATION:Kitsap Square Dance Club\, 6800 W Belfair Valley Rd\, Bremerton\, WA\, 98312
CATEGORIES:District 5,Jam Session
ATTACH;FMTTYPE=image/png:https://wotfa.org/wp-content/uploads/2020/10/district-5.png
ORGANIZER;CN="Laura and Will Farr":MAILTO:wlzfarr@msn.com
END:VEVENT
END:VCALENDAR