BEGIN:VCALENDAR
VERSION:2.0
PRODID:-//Washington Old Time Fiddlers Association - ECPv6.15.12.2//NONSGML v1.0//EN
CALSCALE:GREGORIAN
METHOD:PUBLISH
X-ORIGINAL-URL:https://wotfa.org
X-WR-CALDESC:Events for Washington Old Time Fiddlers Association
REFRESH-INTERVAL;VALUE=DURATION:PT1H
X-Robots-Tag:noindex
X-PUBLISHED-TTL:PT1H
BEGIN:VTIMEZONE
TZID:America/Los_Angeles
BEGIN:DAYLIGHT
TZOFFSETFROM:-0800
TZOFFSETTO:-0700
TZNAME:PDT
DTSTART:20220313T100000
END:DAYLIGHT
BEGIN:STANDARD
TZOFFSETFROM:-0700
TZOFFSETTO:-0800
TZNAME:PST
DTSTART:20221106T090000
END:STANDARD
BEGIN:DAYLIGHT
TZOFFSETFROM:-0800
TZOFFSETTO:-0700
TZNAME:PDT
DTSTART:20230312T100000
END:DAYLIGHT
BEGIN:STANDARD
TZOFFSETFROM:-0700
TZOFFSETTO:-0800
TZNAME:PST
DTSTART:20231105T090000
END:STANDARD
BEGIN:DAYLIGHT
TZOFFSETFROM:-0800
TZOFFSETTO:-0700
TZNAME:PDT
DTSTART:20240310T100000
END:DAYLIGHT
BEGIN:STANDARD
TZOFFSETFROM:-0700
TZOFFSETTO:-0800
TZNAME:PST
DTSTART:20241103T090000
END:STANDARD
END:VTIMEZONE
BEGIN:VEVENT
DTSTART;VALUE=DATE:20230810
DTEND;VALUE=DATE:20230821
DTSTAMP:20260423T110407
CREATED:20230301T004545Z
LAST-MODIFIED:20230807T203557Z
UID:10001763-1691625600-1692575999@wotfa.org
SUMMARY:The Centralia Campout 2023 happens August 12-20th at 1300 K Street Centralia\, Wa.
DESCRIPTION:Although it’s not a WOTFA event\, it does happen in WOTFA District 9 (Lewis & Thurston Counties)\, and is a convenient place to get together and jam since it is exactly half way between Seattle and Portland. \nThe atmosphere is laid back and there is no set schedule during the day or shows at night\, Everything happens pretty much on a pop-up basis and it is definitely beginner friendly. \nThe Chehalis River is adjacent to the camping are via a short and mostly level trail\, so if the weather is scorching hot it’s easy to cool off in the river if you bring some swim gear. \nIf you’re interested in going for the day but don’t want to go alone\, give me (Christie ) a call or text at 360-791-5185 and we can arrange to meet there and have some fun. \n \nImagine warm summer days\, a beautiful river front setting while jamming all day long for more than a whole week! There won’t be any contests\, stages\, performers\, or schedules to keep track of. This is a relaxed event for musicians who like lots of jamming and hanging out with friends old and new. Spontaneous\, participant organized activities\, such as a cocktail party\, a square dance (yes\, I built a dance floor!)\, a birthday party\, or a corn-feed could occur at any moment. \nIf you enjoy Stickerville at Weiser\, you’ll like this event too! \nThe weather is usually warm and dry this time of year\, but it is best to come prepared for anything! Gather up your friends and family and come on down for 9 days of relaxation\, fun and music!
URL:https://wotfa.org/event/the-centralia-campout/
LOCATION:1300 K St\, Centralia\, WA 98531\, 1300 K St\, Centralia\, 98531
CATEGORIES:Campout,Contra Dance,Featured,Festival,Jam Session,Open Jams,Open Mic,Square Dance,Workshop
ATTACH;FMTTYPE=image/jpeg:https://wotfa.org/wp-content/uploads/2023/02/centralia-campout.jpg
ORGANIZER;CN="Ray":MAILTO:centraliacampout@gmail.com
END:VEVENT
BEGIN:VEVENT
DTSTART;TZID=America/Los_Angeles:20230814T133000
DTEND;TZID=America/Los_Angeles:20230814T153000
DTSTAMP:20260423T110407
CREATED:20220225T171331Z
LAST-MODIFIED:20230314T183544Z
UID:10001854-1692019800-1692027000@wotfa.org
SUMMARY:District 8 - Circle Jam at Puyallup Senior Center
DESCRIPTION:Easy to find\, Easy to park – great little circle jam in a nice space.  All are welcome to join or listen
URL:https://wotfa.org/event/district-8-circle-jam-at-puyallup-senior-center/2023-08-14/
LOCATION:Puyallup Senior Activity Center\, 210 W Pioneer Ave\, Puyallup\, WA\, 98371\, United States
CATEGORIES:District 8,Jam Session,Open Jams
ATTACH;FMTTYPE=image/png:https://wotfa.org/wp-content/uploads/2022/02/puyallupsenior.png
END:VEVENT
BEGIN:VEVENT
DTSTART;TZID=America/Los_Angeles:20230815T130000
DTEND;TZID=America/Los_Angeles:20230815T160000
DTSTAMP:20260423T110407
CREATED:20221216T004133Z
LAST-MODIFIED:20240926T034833Z
UID:10001317-1692104400-1692115200@wotfa.org
SUMMARY:District 5 Jam (Third Tuesday at Kitsap Mall)
DESCRIPTION:Join us at the Kitsap Mall in Silverdale for an afternoon circle jam every 1st and 3rd Tuesday of the month.  Look for us in the Community Room next to Dick’s Sporting Goods.  All acoustic instruments and abilities are welcome.  Written music is often available.
URL:https://wotfa.org/event/district-5-jam/2023-08-15/
LOCATION:Kitsap Mall\, 10315 Silverdale Way\, Silverdale\, WA\, 98383\, United States
CATEGORIES:District 5,Jam Session,Open Jams
ORGANIZER;CN="Kay McCarthy":MAILTO:kaycmccarthy@gmail.com
END:VEVENT
BEGIN:VEVENT
DTSTART;TZID=America/Los_Angeles:20230817T143000
DTEND;TZID=America/Los_Angeles:20230817T153000
DTSTAMP:20260423T110407
CREATED:20230803T013152Z
LAST-MODIFIED:20230803T013152Z
UID:10002089-1692282600-1692286200@wotfa.org
SUMMARY:District 4 - Mountain Glen Retirement Community Playout
DESCRIPTION:Thursday\, Aug. 17th Mtn. Glen\, MV Play @2:30 P.M. 1810 E Division\, MV Allow time to park!
URL:https://wotfa.org/event/district-4-mountain-glen-retirement-community-playout/
LOCATION:Mountain Glen Retirement Community\, 1810 E. Division Street\, Mount Vernon\, 98274
CATEGORIES:District 4,Playout
ATTACH;FMTTYPE=image/jpeg:https://wotfa.org/wp-content/uploads/2023/08/Mountain-Glen-Retirement-Community.jpg
END:VEVENT
BEGIN:VEVENT
DTSTART;TZID=America/Los_Angeles:20230817T190000
DTEND;TZID=America/Los_Angeles:20230817T213000
DTSTAMP:20260423T110407
CREATED:20230811T232301Z
LAST-MODIFIED:20260106T223822Z
UID:10002096-1692298800-1692307800@wotfa.org
SUMMARY:Weekly Lake City Contra Dance
DESCRIPTION:Thursday nights; doors open at 7 pm \nDances: intro/refresher workshop 7:15 pm\, dancing 7:30 till 10:00 pm \nAdmission on a sliding scale $10 – 20 – pay what you can \nThe hall is well-ventilated and air-conditioned! \nFor more information call 206-525-0932\, or email sjnevins@gmail.com.
URL:https://wotfa.org/event/weekly-lake-city-contra-dance/2023-08-17/
LOCATION:Seattle Latvian Center\, 11710 3rd Avenue NE\, Seattle\, 98125
CATEGORIES:Contra Dance,District 6
ATTACH;FMTTYPE=image/png:https://wotfa.org/wp-content/uploads/2023/08/Lake-City.png
ORGANIZER;CN="Sherry Nevins":MAILTO:sjnevins@gmail.com
END:VEVENT
BEGIN:VEVENT
DTSTART;TZID=America/Los_Angeles:20230818T140000
DTEND;TZID=America/Los_Angeles:20230818T170000
DTSTAMP:20260423T110407
CREATED:20220808T230643Z
LAST-MODIFIED:20220808T231235Z
UID:10001263-1692367200-1692378000@wotfa.org
SUMMARY:District 3 Meeting and Jam
DESCRIPTION:District 3 meets monthly at the Eagles (Wenatchee Eagles Lodge #204 ~ 1208 N. Wenatchee Ave. Wenatchee\, WA) on the 3rd Friday of the month at 2pm.
URL:https://wotfa.org/event/district-3-meeting-and-jam/2023-08-18/
LOCATION:Wenatchee Eagles Lodge #204\, 1208 N. Wenatchee Ave.\, Wenatchee\, WA\, 98801\, United States
CATEGORIES:District 3
ATTACH;FMTTYPE=image/png:https://wotfa.org/wp-content/uploads/2020/10/district-3.png
END:VEVENT
BEGIN:VEVENT
DTSTART;TZID=America/Los_Angeles:20230818T190000
DTEND;TZID=America/Los_Angeles:20230818T213000
DTSTAMP:20260423T110407
CREATED:20230811T233140Z
LAST-MODIFIED:20260106T223735Z
UID:10002149-1692385200-1692394200@wotfa.org
SUMMARY:Weekly Emerald City Contra Dance
DESCRIPTION:Emerald City Contra Dance \nwith the Seattle Folklore Society present Contra dancing every Friday at the Phinney Neighborhood Center \n6532 Phinney Avenue North\, Seattle (98103) \nin the Community Hall of the brick building\, near the lower parking lot \nBeginner’s workshop at 7:00 pm (or thereabouts). Dance from 7:30 pm to 10:00 pm. \n  \nAdmission prices (cash or check only): \n\nSliding scale $10-$20.\nStudents $5 with a school ID.\nFree for people under the age of 16.\n\nAdmission limited to 100 people. This total includes paying & non-paying dancers\, musicians\, callers\, children\, and adults acting like children. (In short\, everyone.) \nFirst time contra dancers get a coupon for free admission to their next dance.\nCoupon redemption limited to first five coupons on any single night. \nFollow us on Facebook. Find items that you left behind on Facebook. \nPlease help the PNA achieve their sustainability goals. Consider carpooling\, walking\, biking\, or riding the bus to the dance. If you drive\, please park in the PNA parking lots. \nAll dances taught. No partner necessary.\nLight\, comfortable clothing recommended.\nPlease join us without perfumes\, colognes\, aftershave\, scented lotions\, etc. \n\nMore information for dancers.\nInformation for bands and callers.\nPast caller set lists.\nBands and callers: we’ll have an online booking form available soon. \nFor information not already posted here: 206-440-9839 or emeraldcitycontra@pobox.com
URL:https://wotfa.org/event/weekly-emerald-city-contra-dance/2023-08-18/
LOCATION:Phinney Neighborhood Center\, 6532 Phinney Avenue North\, Seattle\, 98103
CATEGORIES:Contra Dance,District 6
ATTACH;FMTTYPE=image/jpeg:https://wotfa.org/wp-content/uploads/2023/08/emerald-city.jpg
ORGANIZER;CN="Emerald City Contra Dace":MAILTO:emeraldcitycontra@pobox.com
END:VEVENT
BEGIN:VEVENT
DTSTART;TZID=America/Los_Angeles:20230819T103000
DTEND;TZID=America/Los_Angeles:20230819T150000
DTSTAMP:20260423T110407
CREATED:20230803T013508Z
LAST-MODIFIED:20230803T013534Z
UID:10002090-1692441000-1692457200@wotfa.org
SUMMARY:District 4 - Annual Picnic at Danny's
DESCRIPTION:Saturday\, Aug.19th  Annual Picnic AT Danny’s 1030 ish. Music \, 1 ish. Eats. 6414 N. Fruitdale Rd. Sedro Woolley
URL:https://wotfa.org/event/district-4-annual-picnic-at-dannys/
LOCATION:Danny’s\, 6414 N. Fruitdale Rd\, Sedro Woolley\, 98284
ATTACH;FMTTYPE=image/png:https://wotfa.org/wp-content/uploads/2020/10/district-4.png
END:VEVENT
BEGIN:VEVENT
DTSTART;TZID=America/Los_Angeles:20230819T120000
DTEND;TZID=America/Los_Angeles:20230819T150000
DTSTAMP:20260423T110407
CREATED:20220802T224421Z
LAST-MODIFIED:20220802T224942Z
UID:10001228-1692446400-1692457200@wotfa.org
SUMMARY:District 5 Monthly Meeting and Jam
DESCRIPTION:Our regular monthly meetings will begin again the third Saturday of September at the Kitsap Square Dance Club in Gorst.  We look forward to seeing you all again!
URL:https://wotfa.org/event/monthly-district-5-meeting-and-jam/2023-08-19/
LOCATION:Kitsap Square Dance Club\, 6800 W Belfair Valley Rd\, Bremerton\, WA\, 98312
CATEGORIES:District 5,Jam Session
ATTACH;FMTTYPE=image/png:https://wotfa.org/wp-content/uploads/2020/10/district-5.png
ORGANIZER;CN="Laura and Will Farr":MAILTO:wlzfarr@msn.com
END:VEVENT
BEGIN:VEVENT
DTSTART;TZID=America/Los_Angeles:20230819T193000
DTEND;TZID=America/Los_Angeles:20230819T210000
DTSTAMP:20260423T110407
CREATED:20230811T231552Z
LAST-MODIFIED:20230811T231552Z
UID:10002094-1692473400-1692478800@wotfa.org
SUMMARY:Monthly Tacoma Contra Dance
DESCRIPTION:Third Saturday of Every Month \n\n\nLearn Contra Dance: 7:00pm to 7:30pm \n\n\n\n\n\nLive bands\, traditional music\nSingles/couples of all ages welcome\nNo experience needed!\nAlcohol\, smoke & fragrance free\n$10-$25 sliding scale
URL:https://wotfa.org/event/monthly-tacoma-contra-dance/
LOCATION:Wells Hall\, 310 North K Street\, Tacoma\, 98403
CATEGORIES:Contra Dance,Family Dance
ATTACH;FMTTYPE=image/jpeg:https://wotfa.org/wp-content/uploads/2023/08/wells3-scaled.jpg
ORGANIZER;CN="Matt Temmel":MAILTO:info@tacomacontradance.org
END:VEVENT
BEGIN:VEVENT
DTSTART;TZID=America/Los_Angeles:20230820T133000
DTEND;TZID=America/Los_Angeles:20230820T160000
DTSTAMP:20260423T110407
CREATED:20220808T232915Z
LAST-MODIFIED:20220808T234514Z
UID:10001281-1692538200-1692547200@wotfa.org
SUMMARY:District 11 Monthly Meeting and Jam
DESCRIPTION:Monthly Meeting and Jam: \n3rd Sunday at 1:30 PM – Jam 2:00-4:00. Moses Lake Senior Center\, 608 E. 3rd Ave. Moses Lake
URL:https://wotfa.org/event/district-11-monthly-meeting-and-jam/2023-08-20/
LOCATION:Moses Lake Senior Center\, 608 E. 3rd Ave\, Moses Lake\, WA\, 98837\, United States
CATEGORIES:District 11
ATTACH;FMTTYPE=image/png:https://wotfa.org/wp-content/uploads/2020/10/district-11.png
ORGANIZER;CN="Charlie Root":MAILTO:clroot@sosmail.us
END:VEVENT
END:VCALENDAR