BEGIN:VCALENDAR
VERSION:2.0
PRODID:-//Washington Old Time Fiddlers Association - ECPv6.15.12.2//NONSGML v1.0//EN
CALSCALE:GREGORIAN
METHOD:PUBLISH
X-WR-CALNAME:Washington Old Time Fiddlers Association
X-ORIGINAL-URL:https://wotfa.org
X-WR-CALDESC:Events for Washington Old Time Fiddlers Association
REFRESH-INTERVAL;VALUE=DURATION:PT1H
X-Robots-Tag:noindex
X-PUBLISHED-TTL:PT1H
BEGIN:VTIMEZONE
TZID:America/Los_Angeles
BEGIN:DAYLIGHT
TZOFFSETFROM:-0800
TZOFFSETTO:-0700
TZNAME:PDT
DTSTART:20220313T100000
END:DAYLIGHT
BEGIN:STANDARD
TZOFFSETFROM:-0700
TZOFFSETTO:-0800
TZNAME:PST
DTSTART:20221106T090000
END:STANDARD
BEGIN:DAYLIGHT
TZOFFSETFROM:-0800
TZOFFSETTO:-0700
TZNAME:PDT
DTSTART:20230312T100000
END:DAYLIGHT
BEGIN:STANDARD
TZOFFSETFROM:-0700
TZOFFSETTO:-0800
TZNAME:PST
DTSTART:20231105T090000
END:STANDARD
BEGIN:DAYLIGHT
TZOFFSETFROM:-0800
TZOFFSETTO:-0700
TZNAME:PDT
DTSTART:20240310T100000
END:DAYLIGHT
BEGIN:STANDARD
TZOFFSETFROM:-0700
TZOFFSETTO:-0800
TZNAME:PST
DTSTART:20241103T090000
END:STANDARD
END:VTIMEZONE
BEGIN:VEVENT
DTSTART;TZID=America/Los_Angeles:20230717T133000
DTEND;TZID=America/Los_Angeles:20230717T153000
DTSTAMP:20260423T122115
CREATED:20220225T171331Z
LAST-MODIFIED:20230314T183544Z
UID:10001850-1689600600-1689607800@wotfa.org
SUMMARY:District 8 - Circle Jam at Puyallup Senior Center
DESCRIPTION:Easy to find\, Easy to park – great little circle jam in a nice space.  All are welcome to join or listen
URL:https://wotfa.org/event/district-8-circle-jam-at-puyallup-senior-center/2023-07-17/
LOCATION:Puyallup Senior Activity Center\, 210 W Pioneer Ave\, Puyallup\, WA\, 98371\, United States
CATEGORIES:District 8,Jam Session,Open Jams
ATTACH;FMTTYPE=image/png:https://wotfa.org/wp-content/uploads/2022/02/puyallupsenior.png
END:VEVENT
BEGIN:VEVENT
DTSTART;TZID=America/Los_Angeles:20230718T130000
DTEND;TZID=America/Los_Angeles:20230718T160000
DTSTAMP:20260423T122115
CREATED:20221216T004133Z
LAST-MODIFIED:20240926T034833Z
UID:10001316-1689685200-1689696000@wotfa.org
SUMMARY:District 5 Jam (Third Tuesday at Kitsap Mall)
DESCRIPTION:Join us at the Kitsap Mall in Silverdale for an afternoon circle jam every 1st and 3rd Tuesday of the month.  Look for us in the Community Room next to Dick’s Sporting Goods.  All acoustic instruments and abilities are welcome.  Written music is often available.
URL:https://wotfa.org/event/district-5-jam/2023-07-18/
LOCATION:Kitsap Mall\, 10315 Silverdale Way\, Silverdale\, WA\, 98383\, United States
CATEGORIES:District 5,Jam Session,Open Jams
ORGANIZER;CN="Kay McCarthy":MAILTO:kaycmccarthy@gmail.com
END:VEVENT
BEGIN:VEVENT
DTSTART;TZID=America/Los_Angeles:20230721T140000
DTEND;TZID=America/Los_Angeles:20230721T170000
DTSTAMP:20260423T122115
CREATED:20220808T230643Z
LAST-MODIFIED:20220808T231235Z
UID:10001262-1689948000-1689958800@wotfa.org
SUMMARY:District 3 Meeting and Jam
DESCRIPTION:District 3 meets monthly at the Eagles (Wenatchee Eagles Lodge #204 ~ 1208 N. Wenatchee Ave. Wenatchee\, WA) on the 3rd Friday of the month at 2pm.
URL:https://wotfa.org/event/district-3-meeting-and-jam/2023-07-21/
LOCATION:Wenatchee Eagles Lodge #204\, 1208 N. Wenatchee Ave.\, Wenatchee\, WA\, 98801\, United States
CATEGORIES:District 3
ATTACH;FMTTYPE=image/png:https://wotfa.org/wp-content/uploads/2020/10/district-3.png
END:VEVENT
BEGIN:VEVENT
DTSTART;TZID=America/Los_Angeles:20230722T153000
DTEND;TZID=America/Los_Angeles:20230722T190000
DTSTAMP:20260423T122115
CREATED:20230718T042010Z
LAST-MODIFIED:20230718T042010Z
UID:10002084-1690039800-1690052400@wotfa.org
SUMMARY:Pioneer Day
DESCRIPTION:Grab your instrument and head to Bainbridge Island for some music\, fun\, and friendship! \n 
URL:https://wotfa.org/event/pioneer-day/
LOCATION:Bountiful Farm\, 8045 Fletcher Bay Road\, Bainbridge Island\, WA\, 98110\, United States
CATEGORIES:Family Dance,Open Jams,Open Mic,Playout
ATTACH;FMTTYPE=image/jpeg:https://wotfa.org/wp-content/uploads/2023/07/IMG_1513.jpeg
ORGANIZER;CN="Gina Weibel":MAILTO:weibelfamily@gmail.com
END:VEVENT
END:VCALENDAR