BEGIN:VCALENDAR
VERSION:2.0
PRODID:-//Washington Old Time Fiddlers Association - ECPv6.15.12.2//NONSGML v1.0//EN
CALSCALE:GREGORIAN
METHOD:PUBLISH
X-WR-CALNAME:Washington Old Time Fiddlers Association
X-ORIGINAL-URL:https://wotfa.org
X-WR-CALDESC:Events for Washington Old Time Fiddlers Association
REFRESH-INTERVAL;VALUE=DURATION:PT1H
X-Robots-Tag:noindex
X-PUBLISHED-TTL:PT1H
BEGIN:VTIMEZONE
TZID:America/Los_Angeles
BEGIN:DAYLIGHT
TZOFFSETFROM:-0800
TZOFFSETTO:-0700
TZNAME:PDT
DTSTART:20220313T100000
END:DAYLIGHT
BEGIN:STANDARD
TZOFFSETFROM:-0700
TZOFFSETTO:-0800
TZNAME:PST
DTSTART:20221106T090000
END:STANDARD
BEGIN:DAYLIGHT
TZOFFSETFROM:-0800
TZOFFSETTO:-0700
TZNAME:PDT
DTSTART:20230312T100000
END:DAYLIGHT
BEGIN:STANDARD
TZOFFSETFROM:-0700
TZOFFSETTO:-0800
TZNAME:PST
DTSTART:20231105T090000
END:STANDARD
BEGIN:DAYLIGHT
TZOFFSETFROM:-0800
TZOFFSETTO:-0700
TZNAME:PDT
DTSTART:20240310T100000
END:DAYLIGHT
BEGIN:STANDARD
TZOFFSETFROM:-0700
TZOFFSETTO:-0800
TZNAME:PST
DTSTART:20241103T090000
END:STANDARD
END:VTIMEZONE
BEGIN:VEVENT
DTSTART;VALUE=DATE:20230710
DTEND;VALUE=DATE:20230715
DTSTAMP:20260423T110319
CREATED:20230203T003443Z
LAST-MODIFIED:20230419T203104Z
UID:10001338-1688947200-1689379199@wotfa.org
SUMMARY:Fiddle Camp 2023 - Registration is Open
DESCRIPTION:Annual Fiddle Camp at Moses Lake.  Register Here: https://wotfa.org/fiddle-camp-2023-registration/ \nT-Shirts Available here: https://www.bonfire.com/fiddle-camp-2023/
URL:https://wotfa.org/event/fiddle-camp-2023/
LOCATION:WA\, United States
CATEGORIES:Featured,Workshop
ATTACH;FMTTYPE=image/jpeg:https://wotfa.org/wp-content/uploads/2023/02/Fiddle-Workshop-Logo.jpg
END:VEVENT
BEGIN:VEVENT
DTSTART;TZID=America/Los_Angeles:20230710T133000
DTEND;TZID=America/Los_Angeles:20230710T153000
DTSTAMP:20260423T110319
CREATED:20220225T171331Z
LAST-MODIFIED:20230314T183544Z
UID:10001849-1688995800-1689003000@wotfa.org
SUMMARY:District 8 - Circle Jam at Puyallup Senior Center
DESCRIPTION:Easy to find\, Easy to park – great little circle jam in a nice space.  All are welcome to join or listen
URL:https://wotfa.org/event/district-8-circle-jam-at-puyallup-senior-center/2023-07-10/
LOCATION:Puyallup Senior Activity Center\, 210 W Pioneer Ave\, Puyallup\, WA\, 98371\, United States
CATEGORIES:District 8,Jam Session,Open Jams
ATTACH;FMTTYPE=image/png:https://wotfa.org/wp-content/uploads/2022/02/puyallupsenior.png
END:VEVENT
BEGIN:VEVENT
DTSTART;TZID=America/Los_Angeles:20230712T160000
DTEND;TZID=America/Los_Angeles:20230712T170000
DTSTAMP:20260423T110319
CREATED:20191231T225238Z
LAST-MODIFIED:20230208T032048Z
UID:10000977-1689177600-1689181200@wotfa.org
SUMMARY:Colonial Stillwater Estates Playdate
DESCRIPTION:Please join District 9 for our regular 2nd Wednesday playdate from 4:00pm-5:00pm on Wednesday\, January 8th at Colonial Stillwater Estates in Centralia.  Colonial is located at 2700 Colonial Drive very close to Providence Centralia Hospital.  We will be playing in the music parlor inside the main residence hall (the big white building with pillars).  We hope to see you there!
URL:https://wotfa.org/event/colonial-stillwater-estates-playdate-2/2023-07-12/
LOCATION:Colonial Stillwater Estates\, 2700 Colonial Drive\, Centralia\, 98531
CATEGORIES:District 9,Playout
ORGANIZER;CN="Christie Easter":MAILTO:mrwillys@aol.com
END:VEVENT
BEGIN:VEVENT
DTSTART;TZID=America/Los_Angeles:20230714T183000
DTEND;TZID=America/Los_Angeles:20230714T210000
DTSTAMP:20260423T110319
CREATED:20190906T032948Z
LAST-MODIFIED:20240309T235946Z
UID:10000848-1689359400-1689368400@wotfa.org
SUMMARY:Monthly District 4 Meeting and Jam
DESCRIPTION:Meeting and Jam every 2nd Friday of the month \nJam every 4th Friday of the month \nBoth at the Mount Vernon Sr. Ctr. (map below) 1401 Cleveland\n \nChair / Reporter – Interim Chair Fred Robbins\, fred@robbinsmetal.com 206-786-3369\nTreasurer – Sarah Buntin\, Cell 360-320-1696\, email: <itsrustyoldhalo@frontier.com>\nEvent scheduling – Sarah Buntin- Phone # 360-679-6595\nInterim Secretary – Fred Robbins\, fred@robbinsmetal.com\nCalendar – Fred Robbins email: fred@robbinsmetal.com
URL:https://wotfa.org/event/district-4-meeting-and-jam/2023-07-14/
LOCATION:Mt. Vernon Senior Center\, 1401 Cleveland St\, Mt. Vernon\, WA\, 98273\, United States
CATEGORIES:District 4,Jam Session,Meeting,Open Jams
ATTACH;FMTTYPE=image/png:https://wotfa.org/wp-content/uploads/2020/10/district-4.png
END:VEVENT
BEGIN:VEVENT
DTSTART;TZID=America/Los_Angeles:20230715T120000
DTEND;TZID=America/Los_Angeles:20230715T150000
DTSTAMP:20260423T110319
CREATED:20220802T224421Z
LAST-MODIFIED:20220802T224942Z
UID:10001227-1689422400-1689433200@wotfa.org
SUMMARY:District 5 Monthly Meeting and Jam
DESCRIPTION:Our regular monthly meetings will begin again the third Saturday of September at the Kitsap Square Dance Club in Gorst.  We look forward to seeing you all again!
URL:https://wotfa.org/event/monthly-district-5-meeting-and-jam/2023-07-15/
LOCATION:Kitsap Square Dance Club\, 6800 W Belfair Valley Rd\, Bremerton\, WA\, 98312
CATEGORIES:District 5,Jam Session
ATTACH;FMTTYPE=image/png:https://wotfa.org/wp-content/uploads/2020/10/district-5.png
ORGANIZER;CN="Laura and Will Farr":MAILTO:wlzfarr@msn.com
END:VEVENT
BEGIN:VEVENT
DTSTART;TZID=America/Los_Angeles:20230716T133000
DTEND;TZID=America/Los_Angeles:20230716T160000
DTSTAMP:20260423T110319
CREATED:20220808T232915Z
LAST-MODIFIED:20220808T234514Z
UID:10001280-1689514200-1689523200@wotfa.org
SUMMARY:District 11 Monthly Meeting and Jam
DESCRIPTION:Monthly Meeting and Jam: \n3rd Sunday at 1:30 PM – Jam 2:00-4:00. Moses Lake Senior Center\, 608 E. 3rd Ave. Moses Lake
URL:https://wotfa.org/event/district-11-monthly-meeting-and-jam/2023-07-16/
LOCATION:Moses Lake Senior Center\, 608 E. 3rd Ave\, Moses Lake\, WA\, 98837\, United States
CATEGORIES:District 11
ATTACH;FMTTYPE=image/png:https://wotfa.org/wp-content/uploads/2020/10/district-11.png
ORGANIZER;CN="Charlie Root":MAILTO:clroot@sosmail.us
END:VEVENT
END:VCALENDAR