BEGIN:VCALENDAR
VERSION:2.0
PRODID:-//Washington Old Time Fiddlers Association - ECPv6.15.12.2//NONSGML v1.0//EN
CALSCALE:GREGORIAN
METHOD:PUBLISH
X-ORIGINAL-URL:https://wotfa.org
X-WR-CALDESC:Events for Washington Old Time Fiddlers Association
REFRESH-INTERVAL;VALUE=DURATION:PT1H
X-Robots-Tag:noindex
X-PUBLISHED-TTL:PT1H
BEGIN:VTIMEZONE
TZID:America/Los_Angeles
BEGIN:DAYLIGHT
TZOFFSETFROM:-0800
TZOFFSETTO:-0700
TZNAME:PDT
DTSTART:20220313T100000
END:DAYLIGHT
BEGIN:STANDARD
TZOFFSETFROM:-0700
TZOFFSETTO:-0800
TZNAME:PST
DTSTART:20221106T090000
END:STANDARD
BEGIN:DAYLIGHT
TZOFFSETFROM:-0800
TZOFFSETTO:-0700
TZNAME:PDT
DTSTART:20230312T100000
END:DAYLIGHT
BEGIN:STANDARD
TZOFFSETFROM:-0700
TZOFFSETTO:-0800
TZNAME:PST
DTSTART:20231105T090000
END:STANDARD
BEGIN:DAYLIGHT
TZOFFSETFROM:-0800
TZOFFSETTO:-0700
TZNAME:PDT
DTSTART:20240310T100000
END:DAYLIGHT
BEGIN:STANDARD
TZOFFSETFROM:-0700
TZOFFSETTO:-0800
TZNAME:PST
DTSTART:20241103T090000
END:STANDARD
END:VTIMEZONE
BEGIN:VEVENT
DTSTART;TZID=America/Los_Angeles:20230605T133000
DTEND;TZID=America/Los_Angeles:20230605T153000
DTSTAMP:20260423T110406
CREATED:20220225T171331Z
LAST-MODIFIED:20230314T183544Z
UID:10001844-1685971800-1685979000@wotfa.org
SUMMARY:District 8 - Circle Jam at Puyallup Senior Center
DESCRIPTION:Easy to find\, Easy to park – great little circle jam in a nice space.  All are welcome to join or listen
URL:https://wotfa.org/event/district-8-circle-jam-at-puyallup-senior-center/2023-06-05/
LOCATION:Puyallup Senior Activity Center\, 210 W Pioneer Ave\, Puyallup\, WA\, 98371\, United States
CATEGORIES:District 8,Jam Session,Open Jams
ATTACH;FMTTYPE=image/png:https://wotfa.org/wp-content/uploads/2022/02/puyallupsenior.png
END:VEVENT
BEGIN:VEVENT
DTSTART;TZID=America/Los_Angeles:20230606T130000
DTEND;TZID=America/Los_Angeles:20230606T160000
DTSTAMP:20260423T110406
CREATED:20221216T004236Z
LAST-MODIFIED:20240926T034809Z
UID:10001328-1686056400-1686067200@wotfa.org
SUMMARY:District 5 Jam (First Tuesday at Kitsap Mall)
DESCRIPTION:Join us at the Kitsap Mall for an afternoon circle jam.  Look for us in the Community Room next to Dick’s Sporting Goods.  All  acoustic instruments and abilities are welcome. Written music is often available.
URL:https://wotfa.org/event/district-5-jam-2/2023-06-06/
LOCATION:Kitsap Mall\, 10315 Silverdale Way\, Silverdale\, WA\, 98383\, United States
CATEGORIES:District 5,Jam Session,Open Jams
ORGANIZER;CN="Kay McCarthy":MAILTO:kaycmccarthy@gmail.com
END:VEVENT
BEGIN:VEVENT
DTSTART;TZID=America/Los_Angeles:20230608T133000
DTEND;TZID=America/Los_Angeles:20230608T143000
DTSTAMP:20260423T110406
CREATED:20190818T170757Z
LAST-MODIFIED:20211118T205804Z
UID:10000799-1686231000-1686234600@wotfa.org
SUMMARY:Franke Tobey Jones
DESCRIPTION:This play out occurs on the 2nd Thursday of Mar\, Jun\, Sep\, Dec only.\nContact/organizer is Ron Duncan.
URL:https://wotfa.org/event/franke-tobey-jones-2019-09-19/2023-06-08/
LOCATION:Franke Tobey Jones\, 5340 N Bristol St\, Tacoma\, WA\, 98407\, United States
CATEGORIES:District 8,Playout
END:VEVENT
BEGIN:VEVENT
DTSTART;TZID=America/Los_Angeles:20230609T183000
DTEND;TZID=America/Los_Angeles:20230609T210000
DTSTAMP:20260423T110406
CREATED:20190906T032948Z
LAST-MODIFIED:20240309T235946Z
UID:10000847-1686335400-1686344400@wotfa.org
SUMMARY:Monthly District 4 Meeting and Jam
DESCRIPTION:Meeting and Jam every 2nd Friday of the month \nJam every 4th Friday of the month \nBoth at the Mount Vernon Sr. Ctr. (map below) 1401 Cleveland\n \nChair / Reporter – Interim Chair Fred Robbins\, fred@robbinsmetal.com 206-786-3369\nTreasurer – Sarah Buntin\, Cell 360-320-1696\, email: <itsrustyoldhalo@frontier.com>\nEvent scheduling – Sarah Buntin- Phone # 360-679-6595\nInterim Secretary – Fred Robbins\, fred@robbinsmetal.com\nCalendar – Fred Robbins email: fred@robbinsmetal.com
URL:https://wotfa.org/event/district-4-meeting-and-jam/2023-06-09/
LOCATION:Mt. Vernon Senior Center\, 1401 Cleveland St\, Mt. Vernon\, WA\, 98273\, United States
CATEGORIES:District 4,Jam Session,Meeting,Open Jams
ATTACH;FMTTYPE=image/png:https://wotfa.org/wp-content/uploads/2020/10/district-4.png
END:VEVENT
BEGIN:VEVENT
DTSTART;TZID=America/Los_Angeles:20230611T140000
DTEND;TZID=America/Los_Angeles:20230611T170000
DTSTAMP:20260423T110407
CREATED:20220808T234841Z
LAST-MODIFIED:20220808T234952Z
UID:10001243-1686492000-1686502800@wotfa.org
SUMMARY:District 12 Monthly Meeting and Jam
DESCRIPTION:Monthly Meeting: \n2nd Sunday at Trios Adult Day Services Building\, 10 N. Washington St. Kennewick. (Enter at back) \nDoors open at 2:00PM for jamming; Finger potluck at 3:00\, followed by short business meeting and more jamming.
URL:https://wotfa.org/event/district-12-monthly-meeting-and-jam/2023-06-11/
LOCATION:Trios Adult Day Services Building\, 10 N. Washington St\, Kennewick\, WA\, 99336\, United States
CATEGORIES:District 12
ATTACH;FMTTYPE=image/png:https://wotfa.org/wp-content/uploads/2020/10/district-12.png
ORGANIZER;CN="Joe Gunter":MAILTO:gunterboys43@gmail.com
END:VEVENT
END:VCALENDAR