BEGIN:VCALENDAR
VERSION:2.0
PRODID:-//Washington Old Time Fiddlers Association - ECPv6.15.12.2//NONSGML v1.0//EN
CALSCALE:GREGORIAN
METHOD:PUBLISH
X-ORIGINAL-URL:https://wotfa.org
X-WR-CALDESC:Events for Washington Old Time Fiddlers Association
REFRESH-INTERVAL;VALUE=DURATION:PT1H
X-Robots-Tag:noindex
X-PUBLISHED-TTL:PT1H
BEGIN:VTIMEZONE
TZID:America/Los_Angeles
BEGIN:DAYLIGHT
TZOFFSETFROM:-0800
TZOFFSETTO:-0700
TZNAME:PDT
DTSTART:20220313T100000
END:DAYLIGHT
BEGIN:STANDARD
TZOFFSETFROM:-0700
TZOFFSETTO:-0800
TZNAME:PST
DTSTART:20221106T090000
END:STANDARD
BEGIN:DAYLIGHT
TZOFFSETFROM:-0800
TZOFFSETTO:-0700
TZNAME:PDT
DTSTART:20230312T100000
END:DAYLIGHT
BEGIN:STANDARD
TZOFFSETFROM:-0700
TZOFFSETTO:-0800
TZNAME:PST
DTSTART:20231105T090000
END:STANDARD
BEGIN:DAYLIGHT
TZOFFSETFROM:-0800
TZOFFSETTO:-0700
TZNAME:PDT
DTSTART:20240310T100000
END:DAYLIGHT
BEGIN:STANDARD
TZOFFSETFROM:-0700
TZOFFSETTO:-0800
TZNAME:PST
DTSTART:20241103T090000
END:STANDARD
END:VTIMEZONE
BEGIN:VEVENT
DTSTART;TZID=America/Los_Angeles:20230501T133000
DTEND;TZID=America/Los_Angeles:20230501T153000
DTSTAMP:20260423T045628
CREATED:20220225T171331Z
LAST-MODIFIED:20230314T183544Z
UID:10001839-1682947800-1682955000@wotfa.org
SUMMARY:District 8 - Circle Jam at Puyallup Senior Center
DESCRIPTION:Easy to find\, Easy to park – great little circle jam in a nice space.  All are welcome to join or listen
URL:https://wotfa.org/event/district-8-circle-jam-at-puyallup-senior-center/2023-05-01/
LOCATION:Puyallup Senior Activity Center\, 210 W Pioneer Ave\, Puyallup\, WA\, 98371\, United States
CATEGORIES:District 8,Jam Session,Open Jams
ATTACH;FMTTYPE=image/png:https://wotfa.org/wp-content/uploads/2022/02/puyallupsenior.png
END:VEVENT
BEGIN:VEVENT
DTSTART;TZID=America/Los_Angeles:20230502T130000
DTEND;TZID=America/Los_Angeles:20230502T160000
DTSTAMP:20260423T045628
CREATED:20221216T004236Z
LAST-MODIFIED:20240926T034809Z
UID:10001327-1683032400-1683043200@wotfa.org
SUMMARY:District 5 Jam (First Tuesday at Kitsap Mall)
DESCRIPTION:Join us at the Kitsap Mall for an afternoon circle jam.  Look for us in the Community Room next to Dick’s Sporting Goods.  All  acoustic instruments and abilities are welcome. Written music is often available.
URL:https://wotfa.org/event/district-5-jam-2/2023-05-02/
LOCATION:Kitsap Mall\, 10315 Silverdale Way\, Silverdale\, WA\, 98383\, United States
CATEGORIES:District 5,Jam Session,Open Jams
ORGANIZER;CN="Kay McCarthy":MAILTO:kaycmccarthy@gmail.com
END:VEVENT
BEGIN:VEVENT
DTSTART;TZID=America/Los_Angeles:20230505T100000
DTEND;TZID=America/Los_Angeles:20230505T120000
DTSTAMP:20260423T045628
CREATED:20220808T231958Z
LAST-MODIFIED:20230310T235440Z
UID:10001295-1683280800-1683288000@wotfa.org
SUMMARY:District 9 Monthly Meeting and Jam
DESCRIPTION:DISTRICT:  9 (Lewis & Thurston Counties)\nCHAIRPERSON:  Christie Easter 360-791-5185. mrwillys@aol.com\nREPORTER:  Same\nMEETING & JAM:  1st Friday of every month 10 am-Noon Faith Baptist Church 436 Coal Creek Rd\, Chehalis\n \nLink to Chord Charts for Common Jam Tunes
URL:https://wotfa.org/event/district-9-monthly-meeting-and-jam/2023-05-05/
LOCATION:Faith Baptist Church\, 436 Coal Creek Rd\, Chehalis\, 98532
CATEGORIES:District 9
ATTACH;FMTTYPE=image/png:https://wotfa.org/wp-content/uploads/2020/10/district-9.png
ORGANIZER;CN="Christie Easter":MAILTO:mrwillys@aol.com
END:VEVENT
END:VCALENDAR