BEGIN:VCALENDAR
VERSION:2.0
PRODID:-//Washington Old Time Fiddlers Association - ECPv6.15.12.2//NONSGML v1.0//EN
CALSCALE:GREGORIAN
METHOD:PUBLISH
X-WR-CALNAME:Washington Old Time Fiddlers Association
X-ORIGINAL-URL:https://wotfa.org
X-WR-CALDESC:Events for Washington Old Time Fiddlers Association
REFRESH-INTERVAL;VALUE=DURATION:PT1H
X-Robots-Tag:noindex
X-PUBLISHED-TTL:PT1H
BEGIN:VTIMEZONE
TZID:America/Los_Angeles
BEGIN:DAYLIGHT
TZOFFSETFROM:-0800
TZOFFSETTO:-0700
TZNAME:PDT
DTSTART:20220313T100000
END:DAYLIGHT
BEGIN:STANDARD
TZOFFSETFROM:-0700
TZOFFSETTO:-0800
TZNAME:PST
DTSTART:20221106T090000
END:STANDARD
BEGIN:DAYLIGHT
TZOFFSETFROM:-0800
TZOFFSETTO:-0700
TZNAME:PDT
DTSTART:20230312T100000
END:DAYLIGHT
BEGIN:STANDARD
TZOFFSETFROM:-0700
TZOFFSETTO:-0800
TZNAME:PST
DTSTART:20231105T090000
END:STANDARD
BEGIN:DAYLIGHT
TZOFFSETFROM:-0800
TZOFFSETTO:-0700
TZNAME:PDT
DTSTART:20240310T100000
END:DAYLIGHT
BEGIN:STANDARD
TZOFFSETFROM:-0700
TZOFFSETTO:-0800
TZNAME:PST
DTSTART:20241103T090000
END:STANDARD
END:VTIMEZONE
BEGIN:VEVENT
DTSTART;TZID=America/Los_Angeles:20230306T133000
DTEND;TZID=America/Los_Angeles:20230306T153000
DTSTAMP:20260423T110310
CREATED:20220225T171331Z
LAST-MODIFIED:20230314T183544Z
UID:10001831-1678109400-1678116600@wotfa.org
SUMMARY:District 8 - Circle Jam at Puyallup Senior Center
DESCRIPTION:Easy to find\, Easy to park – great little circle jam in a nice space.  All are welcome to join or listen
URL:https://wotfa.org/event/district-8-circle-jam-at-puyallup-senior-center/2023-03-06/
LOCATION:Puyallup Senior Activity Center\, 210 W Pioneer Ave\, Puyallup\, WA\, 98371\, United States
CATEGORIES:District 8,Jam Session,Open Jams
ATTACH;FMTTYPE=image/png:https://wotfa.org/wp-content/uploads/2022/02/puyallupsenior.png
END:VEVENT
BEGIN:VEVENT
DTSTART;TZID=America/Los_Angeles:20230307T130000
DTEND;TZID=America/Los_Angeles:20230307T160000
DTSTAMP:20260423T110310
CREATED:20221216T004236Z
LAST-MODIFIED:20240926T034809Z
UID:10001325-1678194000-1678204800@wotfa.org
SUMMARY:District 5 Jam (First Tuesday at Kitsap Mall)
DESCRIPTION:Join us at the Kitsap Mall for an afternoon circle jam.  Look for us in the Community Room next to Dick’s Sporting Goods.  All  acoustic instruments and abilities are welcome. Written music is often available.
URL:https://wotfa.org/event/district-5-jam-2/2023-03-07/
LOCATION:Kitsap Mall\, 10315 Silverdale Way\, Silverdale\, WA\, 98383\, United States
CATEGORIES:District 5,Jam Session,Open Jams
ORGANIZER;CN="Kay McCarthy":MAILTO:kaycmccarthy@gmail.com
END:VEVENT
BEGIN:VEVENT
DTSTART;TZID=America/Los_Angeles:20230308T160000
DTEND;TZID=America/Los_Angeles:20230308T170000
DTSTAMP:20260423T110310
CREATED:20191231T225238Z
LAST-MODIFIED:20230208T032048Z
UID:10000974-1678291200-1678294800@wotfa.org
SUMMARY:Colonial Stillwater Estates Playdate
DESCRIPTION:Please join District 9 for our regular 2nd Wednesday playdate from 4:00pm-5:00pm on Wednesday\, January 8th at Colonial Stillwater Estates in Centralia.  Colonial is located at 2700 Colonial Drive very close to Providence Centralia Hospital.  We will be playing in the music parlor inside the main residence hall (the big white building with pillars).  We hope to see you there!
URL:https://wotfa.org/event/colonial-stillwater-estates-playdate-2/2023-03-08/
LOCATION:Colonial Stillwater Estates\, 2700 Colonial Drive\, Centralia\, 98531
CATEGORIES:District 9,Playout
ORGANIZER;CN="Christie Easter":MAILTO:mrwillys@aol.com
END:VEVENT
BEGIN:VEVENT
DTSTART;TZID=America/Los_Angeles:20230309T133000
DTEND;TZID=America/Los_Angeles:20230309T143000
DTSTAMP:20260423T110310
CREATED:20190818T170757Z
LAST-MODIFIED:20211118T205804Z
UID:10000798-1678368600-1678372200@wotfa.org
SUMMARY:Franke Tobey Jones
DESCRIPTION:This play out occurs on the 2nd Thursday of Mar\, Jun\, Sep\, Dec only.\nContact/organizer is Ron Duncan.
URL:https://wotfa.org/event/franke-tobey-jones-2019-09-19/2023-03-09/
LOCATION:Franke Tobey Jones\, 5340 N Bristol St\, Tacoma\, WA\, 98407\, United States
CATEGORIES:District 8,Playout
END:VEVENT
BEGIN:VEVENT
DTSTART;TZID=America/Los_Angeles:20230310T183000
DTEND;TZID=America/Los_Angeles:20230310T210000
DTSTAMP:20260423T110310
CREATED:20190906T032948Z
LAST-MODIFIED:20240309T235946Z
UID:10000844-1678473000-1678482000@wotfa.org
SUMMARY:Monthly District 4 Meeting and Jam
DESCRIPTION:Meeting and Jam every 2nd Friday of the month \nJam every 4th Friday of the month \nBoth at the Mount Vernon Sr. Ctr. (map below) 1401 Cleveland\n \nChair / Reporter – Interim Chair Fred Robbins\, fred@robbinsmetal.com 206-786-3369\nTreasurer – Sarah Buntin\, Cell 360-320-1696\, email: <itsrustyoldhalo@frontier.com>\nEvent scheduling – Sarah Buntin- Phone # 360-679-6595\nInterim Secretary – Fred Robbins\, fred@robbinsmetal.com\nCalendar – Fred Robbins email: fred@robbinsmetal.com
URL:https://wotfa.org/event/district-4-meeting-and-jam/2023-03-10/
LOCATION:Mt. Vernon Senior Center\, 1401 Cleveland St\, Mt. Vernon\, WA\, 98273\, United States
CATEGORIES:District 4,Jam Session,Meeting,Open Jams
ATTACH;FMTTYPE=image/png:https://wotfa.org/wp-content/uploads/2020/10/district-4.png
END:VEVENT
BEGIN:VEVENT
DTSTART;TZID=America/Los_Angeles:20230312T140000
DTEND;TZID=America/Los_Angeles:20230312T170000
DTSTAMP:20260423T110310
CREATED:20220808T234841Z
LAST-MODIFIED:20220808T234952Z
UID:10001240-1678629600-1678640400@wotfa.org
SUMMARY:District 12 Monthly Meeting and Jam
DESCRIPTION:Monthly Meeting: \n2nd Sunday at Trios Adult Day Services Building\, 10 N. Washington St. Kennewick. (Enter at back) \nDoors open at 2:00PM for jamming; Finger potluck at 3:00\, followed by short business meeting and more jamming.
URL:https://wotfa.org/event/district-12-monthly-meeting-and-jam/2023-03-12/
LOCATION:Trios Adult Day Services Building\, 10 N. Washington St\, Kennewick\, WA\, 99336\, United States
CATEGORIES:District 12
ATTACH;FMTTYPE=image/png:https://wotfa.org/wp-content/uploads/2020/10/district-12.png
ORGANIZER;CN="Joe Gunter":MAILTO:gunterboys43@gmail.com
END:VEVENT
END:VCALENDAR