BEGIN:VCALENDAR
VERSION:2.0
PRODID:-//Washington Old Time Fiddlers Association - ECPv6.15.12.2//NONSGML v1.0//EN
CALSCALE:GREGORIAN
METHOD:PUBLISH
X-ORIGINAL-URL:https://wotfa.org
X-WR-CALDESC:Events for Washington Old Time Fiddlers Association
REFRESH-INTERVAL;VALUE=DURATION:PT1H
X-Robots-Tag:noindex
X-PUBLISHED-TTL:PT1H
BEGIN:VTIMEZONE
TZID:America/Los_Angeles
BEGIN:DAYLIGHT
TZOFFSETFROM:-0800
TZOFFSETTO:-0700
TZNAME:PDT
DTSTART:20220313T100000
END:DAYLIGHT
BEGIN:STANDARD
TZOFFSETFROM:-0700
TZOFFSETTO:-0800
TZNAME:PST
DTSTART:20221106T090000
END:STANDARD
BEGIN:DAYLIGHT
TZOFFSETFROM:-0800
TZOFFSETTO:-0700
TZNAME:PDT
DTSTART:20230312T100000
END:DAYLIGHT
BEGIN:STANDARD
TZOFFSETFROM:-0700
TZOFFSETTO:-0800
TZNAME:PST
DTSTART:20231105T090000
END:STANDARD
BEGIN:DAYLIGHT
TZOFFSETFROM:-0800
TZOFFSETTO:-0700
TZNAME:PDT
DTSTART:20240310T100000
END:DAYLIGHT
BEGIN:STANDARD
TZOFFSETFROM:-0700
TZOFFSETTO:-0800
TZNAME:PST
DTSTART:20241103T090000
END:STANDARD
END:VTIMEZONE
BEGIN:VEVENT
DTSTART;TZID=America/Los_Angeles:20230220T133000
DTEND;TZID=America/Los_Angeles:20230220T153000
DTSTAMP:20260423T032548
CREATED:20220225T171331Z
LAST-MODIFIED:20230314T183544Z
UID:10001829-1676899800-1676907000@wotfa.org
SUMMARY:District 8 - Circle Jam at Puyallup Senior Center
DESCRIPTION:Easy to find\, Easy to park – great little circle jam in a nice space.  All are welcome to join or listen
URL:https://wotfa.org/event/district-8-circle-jam-at-puyallup-senior-center/2023-02-20/
LOCATION:Puyallup Senior Activity Center\, 210 W Pioneer Ave\, Puyallup\, WA\, 98371\, United States
CATEGORIES:District 8,Jam Session,Open Jams
ATTACH;FMTTYPE=image/png:https://wotfa.org/wp-content/uploads/2022/02/puyallupsenior.png
END:VEVENT
BEGIN:VEVENT
DTSTART;TZID=America/Los_Angeles:20230221T130000
DTEND;TZID=America/Los_Angeles:20230221T160000
DTSTAMP:20260423T032548
CREATED:20221216T004133Z
LAST-MODIFIED:20240926T034833Z
UID:10001311-1676984400-1676995200@wotfa.org
SUMMARY:District 5 Jam (Third Tuesday at Kitsap Mall)
DESCRIPTION:Join us at the Kitsap Mall in Silverdale for an afternoon circle jam every 1st and 3rd Tuesday of the month.  Look for us in the Community Room next to Dick’s Sporting Goods.  All acoustic instruments and abilities are welcome.  Written music is often available.
URL:https://wotfa.org/event/district-5-jam/2023-02-21/
LOCATION:Kitsap Mall\, 10315 Silverdale Way\, Silverdale\, WA\, 98383\, United States
CATEGORIES:District 5,Jam Session,Open Jams
ORGANIZER;CN="Kay McCarthy":MAILTO:kaycmccarthy@gmail.com
END:VEVENT
BEGIN:VEVENT
DTSTART;TZID=America/Los_Angeles:20230224T183000
DTEND;TZID=America/Los_Angeles:20230224T213000
DTSTAMP:20260423T032548
CREATED:20220802T221853Z
LAST-MODIFIED:20240310T000033Z
UID:10001193-1677263400-1677274200@wotfa.org
SUMMARY:Monthly District 4 Jam
DESCRIPTION:Meeting and Jam every 2nd Friday of the month \nJam every 4th Friday of the month \nBoth at the Mount Vernon Sr. Ctr. (map below) 1401 Cleveland\n \nChair / Reporter – Interim Chair Fred Robbins\, fred@robbinsmetal.com 206-786-3369\nTreasurer – Sarah Buntin\, Cell 360-320-1696\, email: <itsrustyoldhalo@frontier.com>\nEvent scheduling – Sarah Buntin- Phone # 360-679-6595\nInterim Secretary – Fred Robbins\, fred@robbinsmetal.com\nCalendar – Fred Robbins email: fred@robbinsmetal.com
URL:https://wotfa.org/event/monthly-district-4-jam/2023-02-24/
LOCATION:Mt. Vernon Senior Center\, 1401 Cleveland St\, Mt. Vernon\, WA\, 98273\, United States
CATEGORIES:District 4,Jam Session,Open Jams
ATTACH;FMTTYPE=image/png:https://wotfa.org/wp-content/uploads/2020/10/district-4.png
END:VEVENT
BEGIN:VEVENT
DTSTART;TZID=America/Los_Angeles:20230225T130000
DTEND;TZID=America/Los_Angeles:20230225T160000
DTSTAMP:20260423T032548
CREATED:20220608T200005Z
LAST-MODIFIED:20221215T014416Z
UID:10001173-1677330000-1677340800@wotfa.org
SUMMARY:District 6 monthly jam
DESCRIPTION:We get together just to jam\, learn\, eat\, socialize once a month.  It’s really a fun time to play music together.  If there is interest\, we usually have someone who will teach a lesson on guitar or mandolin and we also try to schedule fiddle teachers on certain months.  All are welcome.  Come anytime you like. \nThe D6 jams are on the 4th Sat of the month from 1 pm to 4 pm.  They are in Sep\, Oct\, Jan\, Feb\, and March only\n(there are no jams in apr\, may\, june\, july\, aug\, nov or dec)
URL:https://wotfa.org/event/district-6-meeting-and-jam/2023-02-25/
LOCATION:Des Moines Masonic Lodge\, 2208 S 223rd St\, Des Moines\, WA\, 98198\, United States
CATEGORIES:District 6,Jam Session,Open Jams
ATTACH;FMTTYPE=image/jpeg:https://wotfa.org/wp-content/uploads/2022/06/IMG_2770-scaled.jpg
ORGANIZER;CN="Bernie Turner":MAILTO:bernus.turner@comcast.net
END:VEVENT
END:VCALENDAR