BEGIN:VCALENDAR
VERSION:2.0
PRODID:-//Washington Old Time Fiddlers Association - ECPv6.15.12.2//NONSGML v1.0//EN
CALSCALE:GREGORIAN
METHOD:PUBLISH
X-WR-CALNAME:Washington Old Time Fiddlers Association
X-ORIGINAL-URL:https://wotfa.org
X-WR-CALDESC:Events for Washington Old Time Fiddlers Association
REFRESH-INTERVAL;VALUE=DURATION:PT1H
X-Robots-Tag:noindex
X-PUBLISHED-TTL:PT1H
BEGIN:VTIMEZONE
TZID:America/Los_Angeles
BEGIN:DAYLIGHT
TZOFFSETFROM:-0800
TZOFFSETTO:-0700
TZNAME:PDT
DTSTART:20210314T100000
END:DAYLIGHT
BEGIN:STANDARD
TZOFFSETFROM:-0700
TZOFFSETTO:-0800
TZNAME:PST
DTSTART:20211107T090000
END:STANDARD
BEGIN:DAYLIGHT
TZOFFSETFROM:-0800
TZOFFSETTO:-0700
TZNAME:PDT
DTSTART:20220313T100000
END:DAYLIGHT
BEGIN:STANDARD
TZOFFSETFROM:-0700
TZOFFSETTO:-0800
TZNAME:PST
DTSTART:20221106T090000
END:STANDARD
BEGIN:DAYLIGHT
TZOFFSETFROM:-0800
TZOFFSETTO:-0700
TZNAME:PDT
DTSTART:20230312T100000
END:DAYLIGHT
BEGIN:STANDARD
TZOFFSETFROM:-0700
TZOFFSETTO:-0800
TZNAME:PST
DTSTART:20231105T090000
END:STANDARD
END:VTIMEZONE
BEGIN:VEVENT
DTSTART;TZID=America/Los_Angeles:20220912T133000
DTEND;TZID=America/Los_Angeles:20220912T153000
DTSTAMP:20260423T032400
CREATED:20220225T171331Z
LAST-MODIFIED:20230314T183544Z
UID:10001807-1662989400-1662996600@wotfa.org
SUMMARY:District 8 - Circle Jam at Puyallup Senior Center
DESCRIPTION:Easy to find\, Easy to park – great little circle jam in a nice space.  All are welcome to join or listen
URL:https://wotfa.org/event/district-8-circle-jam-at-puyallup-senior-center/2022-09-12/
LOCATION:Puyallup Senior Activity Center\, 210 W Pioneer Ave\, Puyallup\, WA\, 98371\, United States
CATEGORIES:District 8,Jam Session,Open Jams
ATTACH;FMTTYPE=image/png:https://wotfa.org/wp-content/uploads/2022/02/puyallupsenior.png
END:VEVENT
BEGIN:VEVENT
DTSTART;TZID=America/Los_Angeles:20220914T160000
DTEND;TZID=America/Los_Angeles:20220914T170000
DTSTAMP:20260423T032400
CREATED:20191231T225238Z
LAST-MODIFIED:20230208T032048Z
UID:10000968-1663171200-1663174800@wotfa.org
SUMMARY:Colonial Stillwater Estates Playdate
DESCRIPTION:Please join District 9 for our regular 2nd Wednesday playdate from 4:00pm-5:00pm on Wednesday\, January 8th at Colonial Stillwater Estates in Centralia.  Colonial is located at 2700 Colonial Drive very close to Providence Centralia Hospital.  We will be playing in the music parlor inside the main residence hall (the big white building with pillars).  We hope to see you there!
URL:https://wotfa.org/event/colonial-stillwater-estates-playdate-2/2022-09-14/
LOCATION:Colonial Stillwater Estates\, 2700 Colonial Drive\, Centralia\, 98531
CATEGORIES:District 9,Playout
ORGANIZER;CN="Christie Easter":MAILTO:mrwillys@aol.com
END:VEVENT
BEGIN:VEVENT
DTSTART;TZID=America/Los_Angeles:20220916T140000
DTEND;TZID=America/Los_Angeles:20220916T170000
DTSTAMP:20260423T032400
CREATED:20220808T230643Z
LAST-MODIFIED:20220808T231235Z
UID:10001252-1663336800-1663347600@wotfa.org
SUMMARY:District 3 Meeting and Jam
DESCRIPTION:District 3 meets monthly at the Eagles (Wenatchee Eagles Lodge #204 ~ 1208 N. Wenatchee Ave. Wenatchee\, WA) on the 3rd Friday of the month at 2pm.
URL:https://wotfa.org/event/district-3-meeting-and-jam/2022-09-16/
LOCATION:Wenatchee Eagles Lodge #204\, 1208 N. Wenatchee Ave.\, Wenatchee\, WA\, 98801\, United States
CATEGORIES:District 3
ATTACH;FMTTYPE=image/png:https://wotfa.org/wp-content/uploads/2020/10/district-3.png
END:VEVENT
BEGIN:VEVENT
DTSTART;TZID=America/Los_Angeles:20220917T120000
DTEND;TZID=America/Los_Angeles:20220917T150000
DTSTAMP:20260423T032400
CREATED:20220802T224421Z
LAST-MODIFIED:20220802T224942Z
UID:10001217-1663416000-1663426800@wotfa.org
SUMMARY:District 5 Monthly Meeting and Jam
DESCRIPTION:Our regular monthly meetings will begin again the third Saturday of September at the Kitsap Square Dance Club in Gorst.  We look forward to seeing you all again!
URL:https://wotfa.org/event/monthly-district-5-meeting-and-jam/2022-09-17/
LOCATION:Kitsap Square Dance Club\, 6800 W Belfair Valley Rd\, Bremerton\, WA\, 98312
CATEGORIES:District 5,Jam Session
ATTACH;FMTTYPE=image/png:https://wotfa.org/wp-content/uploads/2020/10/district-5.png
ORGANIZER;CN="Laura and Will Farr":MAILTO:wlzfarr@msn.com
END:VEVENT
BEGIN:VEVENT
DTSTART;TZID=America/Los_Angeles:20220918T133000
DTEND;TZID=America/Los_Angeles:20220918T160000
DTSTAMP:20260423T032400
CREATED:20220808T232915Z
LAST-MODIFIED:20220808T234514Z
UID:10001270-1663507800-1663516800@wotfa.org
SUMMARY:District 11 Monthly Meeting and Jam
DESCRIPTION:Monthly Meeting and Jam: \n3rd Sunday at 1:30 PM – Jam 2:00-4:00. Moses Lake Senior Center\, 608 E. 3rd Ave. Moses Lake
URL:https://wotfa.org/event/district-11-monthly-meeting-and-jam/2022-09-18/
LOCATION:Moses Lake Senior Center\, 608 E. 3rd Ave\, Moses Lake\, WA\, 98837\, United States
CATEGORIES:District 11
ATTACH;FMTTYPE=image/png:https://wotfa.org/wp-content/uploads/2020/10/district-11.png
ORGANIZER;CN="Charlie Root":MAILTO:clroot@sosmail.us
END:VEVENT
BEGIN:VEVENT
DTSTART;TZID=America/Los_Angeles:20220918T140000
DTEND;TZID=America/Los_Angeles:20220918T170000
DTSTAMP:20260423T032400
CREATED:20211120T151529Z
LAST-MODIFIED:20230207T015404Z
UID:10001048-1663509600-1663520400@wotfa.org
SUMMARY:District 8 Meeting and Jam
DESCRIPTION:In-Person District 8 Meeting\n Short Meeting\, Followed by LOOOONG jam!!!\n \nThe Mid County Community Center has reopened\, and monthly meetings will resume there in September! \n10205 44th Ave E\, Tacoma\, WA 98446  https://goo.gl/maps/dCPbMrM8sLDcDZk36
URL:https://wotfa.org/event/district-8-meeting-and-jam/2022-09-18/
LOCATION:Mid-County Community Center\, 10205 44th Ave E\, Tacoma\, WA\, 98446\, United States
CATEGORIES:District 8
END:VEVENT
END:VCALENDAR