BEGIN:VCALENDAR
VERSION:2.0
PRODID:-//Washington Old Time Fiddlers Association - ECPv6.15.12.2//NONSGML v1.0//EN
CALSCALE:GREGORIAN
METHOD:PUBLISH
X-WR-CALNAME:Washington Old Time Fiddlers Association
X-ORIGINAL-URL:https://wotfa.org
X-WR-CALDESC:Events for Washington Old Time Fiddlers Association
REFRESH-INTERVAL;VALUE=DURATION:PT1H
X-Robots-Tag:noindex
X-PUBLISHED-TTL:PT1H
BEGIN:VTIMEZONE
TZID:America/Los_Angeles
BEGIN:DAYLIGHT
TZOFFSETFROM:-0800
TZOFFSETTO:-0700
TZNAME:PDT
DTSTART:20210314T100000
END:DAYLIGHT
BEGIN:STANDARD
TZOFFSETFROM:-0700
TZOFFSETTO:-0800
TZNAME:PST
DTSTART:20211107T090000
END:STANDARD
BEGIN:DAYLIGHT
TZOFFSETFROM:-0800
TZOFFSETTO:-0700
TZNAME:PDT
DTSTART:20220313T100000
END:DAYLIGHT
BEGIN:STANDARD
TZOFFSETFROM:-0700
TZOFFSETTO:-0800
TZNAME:PST
DTSTART:20221106T090000
END:STANDARD
BEGIN:DAYLIGHT
TZOFFSETFROM:-0800
TZOFFSETTO:-0700
TZNAME:PDT
DTSTART:20230312T100000
END:DAYLIGHT
BEGIN:STANDARD
TZOFFSETFROM:-0700
TZOFFSETTO:-0800
TZNAME:PST
DTSTART:20231105T090000
END:STANDARD
END:VTIMEZONE
BEGIN:VEVENT
DTSTART;TZID=America/Los_Angeles:20220905T133000
DTEND;TZID=America/Los_Angeles:20220905T153000
DTSTAMP:20260423T045511
CREATED:20220225T171331Z
LAST-MODIFIED:20230314T183544Z
UID:10001806-1662384600-1662391800@wotfa.org
SUMMARY:District 8 - Circle Jam at Puyallup Senior Center
DESCRIPTION:Easy to find\, Easy to park – great little circle jam in a nice space.  All are welcome to join or listen
URL:https://wotfa.org/event/district-8-circle-jam-at-puyallup-senior-center/2022-09-05/
LOCATION:Puyallup Senior Activity Center\, 210 W Pioneer Ave\, Puyallup\, WA\, 98371\, United States
CATEGORIES:District 8,Jam Session,Open Jams
ATTACH;FMTTYPE=image/png:https://wotfa.org/wp-content/uploads/2022/02/puyallupsenior.png
END:VEVENT
BEGIN:VEVENT
DTSTART;TZID=America/Los_Angeles:20220908T133000
DTEND;TZID=America/Los_Angeles:20220908T143000
DTSTAMP:20260423T045511
CREATED:20190818T170757Z
LAST-MODIFIED:20211118T205804Z
UID:10000796-1662643800-1662647400@wotfa.org
SUMMARY:Franke Tobey Jones
DESCRIPTION:This play out occurs on the 2nd Thursday of Mar\, Jun\, Sep\, Dec only.\nContact/organizer is Ron Duncan.
URL:https://wotfa.org/event/franke-tobey-jones-2019-09-19/2022-09-08/
LOCATION:Franke Tobey Jones\, 5340 N Bristol St\, Tacoma\, WA\, 98407\, United States
CATEGORIES:District 8,Playout
END:VEVENT
BEGIN:VEVENT
DTSTART;TZID=America/Los_Angeles:20220909T183000
DTEND;TZID=America/Los_Angeles:20220909T210000
DTSTAMP:20260423T045511
CREATED:20190906T032948Z
LAST-MODIFIED:20240309T235946Z
UID:10000838-1662748200-1662757200@wotfa.org
SUMMARY:Monthly District 4 Meeting and Jam
DESCRIPTION:Meeting and Jam every 2nd Friday of the month \nJam every 4th Friday of the month \nBoth at the Mount Vernon Sr. Ctr. (map below) 1401 Cleveland\n \nChair / Reporter – Interim Chair Fred Robbins\, fred@robbinsmetal.com 206-786-3369\nTreasurer – Sarah Buntin\, Cell 360-320-1696\, email: <itsrustyoldhalo@frontier.com>\nEvent scheduling – Sarah Buntin- Phone # 360-679-6595\nInterim Secretary – Fred Robbins\, fred@robbinsmetal.com\nCalendar – Fred Robbins email: fred@robbinsmetal.com
URL:https://wotfa.org/event/district-4-meeting-and-jam/2022-09-09/
LOCATION:Mt. Vernon Senior Center\, 1401 Cleveland St\, Mt. Vernon\, WA\, 98273\, United States
CATEGORIES:District 4,Jam Session,Meeting,Open Jams
ATTACH;FMTTYPE=image/png:https://wotfa.org/wp-content/uploads/2020/10/district-4.png
END:VEVENT
BEGIN:VEVENT
DTSTART;TZID=America/Los_Angeles:20220910T100000
DTEND;TZID=America/Los_Angeles:20220910T150000
DTSTAMP:20260423T045511
CREATED:20220808T235807Z
LAST-MODIFIED:20220809T000309Z
UID:10001201-1662804000-1662822000@wotfa.org
SUMMARY:District 15 Monthly Meeting and Jam
DESCRIPTION:Monthly Meeting: \n2nd Saturday in Sequim at Shipley Center from 10 – 3 and the 4th Saturday at the Tri Area Center in Chimacum from 11 – 3.  See you all there! 
URL:https://wotfa.org/event/district-15-monthly-meeting-and-jam/2022-09-10/
LOCATION:Shipley Center\, 921 E. Hammond\, Sequim\, WA\, 98382\, United States
CATEGORIES:District 15
ATTACH;FMTTYPE=image/png:https://wotfa.org/wp-content/uploads/2020/10/district-15.png
ORGANIZER;CN="Rita Alberti":MAILTO:daveandrita2025@gmail.com
END:VEVENT
BEGIN:VEVENT
DTSTART;TZID=America/Los_Angeles:20220911T140000
DTEND;TZID=America/Los_Angeles:20220911T170000
DTSTAMP:20260423T045511
CREATED:20220808T234841Z
LAST-MODIFIED:20220808T234952Z
UID:10001234-1662904800-1662915600@wotfa.org
SUMMARY:District 12 Monthly Meeting and Jam
DESCRIPTION:Monthly Meeting: \n2nd Sunday at Trios Adult Day Services Building\, 10 N. Washington St. Kennewick. (Enter at back) \nDoors open at 2:00PM for jamming; Finger potluck at 3:00\, followed by short business meeting and more jamming.
URL:https://wotfa.org/event/district-12-monthly-meeting-and-jam/2022-09-11/
LOCATION:Trios Adult Day Services Building\, 10 N. Washington St\, Kennewick\, WA\, 99336\, United States
CATEGORIES:District 12
ATTACH;FMTTYPE=image/png:https://wotfa.org/wp-content/uploads/2020/10/district-12.png
ORGANIZER;CN="Joe Gunter":MAILTO:gunterboys43@gmail.com
END:VEVENT
END:VCALENDAR