BEGIN:VCALENDAR
VERSION:2.0
PRODID:-//Washington Old Time Fiddlers Association - ECPv6.15.12.2//NONSGML v1.0//EN
CALSCALE:GREGORIAN
METHOD:PUBLISH
X-ORIGINAL-URL:https://wotfa.org
X-WR-CALDESC:Events for Washington Old Time Fiddlers Association
REFRESH-INTERVAL;VALUE=DURATION:PT1H
X-Robots-Tag:noindex
X-PUBLISHED-TTL:PT1H
BEGIN:VTIMEZONE
TZID:America/Los_Angeles
BEGIN:DAYLIGHT
TZOFFSETFROM:-0800
TZOFFSETTO:-0700
TZNAME:PDT
DTSTART:20230312T100000
END:DAYLIGHT
BEGIN:STANDARD
TZOFFSETFROM:-0700
TZOFFSETTO:-0800
TZNAME:PST
DTSTART:20231105T090000
END:STANDARD
BEGIN:DAYLIGHT
TZOFFSETFROM:-0800
TZOFFSETTO:-0700
TZNAME:PDT
DTSTART:20240310T100000
END:DAYLIGHT
BEGIN:STANDARD
TZOFFSETFROM:-0700
TZOFFSETTO:-0800
TZNAME:PST
DTSTART:20241103T090000
END:STANDARD
BEGIN:DAYLIGHT
TZOFFSETFROM:-0800
TZOFFSETTO:-0700
TZNAME:PDT
DTSTART:20250309T100000
END:DAYLIGHT
BEGIN:STANDARD
TZOFFSETFROM:-0700
TZOFFSETTO:-0800
TZNAME:PST
DTSTART:20251102T090000
END:STANDARD
BEGIN:DAYLIGHT
TZOFFSETFROM:-0800
TZOFFSETTO:-0700
TZNAME:PDT
DTSTART:20260308T100000
END:DAYLIGHT
BEGIN:STANDARD
TZOFFSETFROM:-0700
TZOFFSETTO:-0800
TZNAME:PST
DTSTART:20261101T090000
END:STANDARD
END:VTIMEZONE
BEGIN:VEVENT
DTSTART;TZID=America/Los_Angeles:20240906T100000
DTEND;TZID=America/Los_Angeles:20240906T120000
DTSTAMP:20260423T172425
CREATED:20240806T150550Z
LAST-MODIFIED:20240806T150550Z
UID:10002539-1725616800-1725624000@wotfa.org
SUMMARY:WOTFA DISTRICT 9 MONTHLY ACOUSTIC JAM
DESCRIPTION:Please join us for our regular 1st Friday open acoustic jam and meeting on Friday\, September 6th from 10am-Noon at Faith Baptist Church\, located at 436 Coal Creek Rd in Chehalis\, just off I-5 exit 79.  To find the church\, take exit 79\, then head EAST.  Go LEFT on N. National Ave\, then a quick RIGHT onto Coal Creek Rd and go 1.1 miles\, then turn RIGHT into the church driveway.  We will be in the middle building.  There will be coffee and tea and some snacks but it won’t be a potluck. \nThe jam is free and open to the public and you do not have to be a WOTFA member to come to the jam.  Our jam is beginner friendly.  If you have questions or need more information please give me (Christied) a call or text at 360-791-5185.
URL:https://wotfa.org/event/wotfa-district-9-monthly-acoustic-jam/
LOCATION:Faith Baptist Church\, 436 Coal Creek Rd\, Chehalis\, 98532
CATEGORIES:District 9,Jam Session,Meeting,Open Jams
ORGANIZER;CN="Christie Easter":MAILTO:mrwillys@aol.com
END:VEVENT
BEGIN:VEVENT
DTSTART;TZID=America/Los_Angeles:20250207T100000
DTEND;TZID=America/Los_Angeles:20250207T120000
DTSTAMP:20260423T172425
CREATED:20250108T234801Z
LAST-MODIFIED:20250108T234801Z
UID:10003077-1738922400-1738929600@wotfa.org
SUMMARY:WOTFA DISTRICT 9 OPEN ACOUSTIC JAM & MEETING
DESCRIPTION:Please join WOTFA District 9 (Lewis & Thurston Counties) for our regular 1st Friday open acoustic jam & meeting on Friday\, February 7th from 10am-Noon at Faith Baptist Church\, located at 436 Coal Creek Rd in Chehalis.  To find the church take I-5 to exit 79\, then head EAST.  Take a LEFT onto N. National Ave and go 1/3 mile\, then turn RIGHT on Coal Creek Rd.  Go 1.1 miles\, then turn RIGHT at the church driveway.  We will be in the middle building.  There will be coffee and tea and some snacks but it won’t be a potluck. \nIf you have any questions please call or text me (Christie) at 360-791-5185
URL:https://wotfa.org/event/wotfa-district-9-open-acoustic-jam-meeting-2/
LOCATION:Faith Baptist Church\, 436 Coal Creek Rd\, Chehalis\, 98532
CATEGORIES:District 9,Jam Session,Meeting
ORGANIZER;CN="Christie Easter":MAILTO:mrwillys@aol.com
END:VEVENT
BEGIN:VEVENT
DTSTART;TZID=America/Los_Angeles:20250404T110000
DTEND;TZID=America/Los_Angeles:20250404T130000
DTSTAMP:20260423T172425
CREATED:20250407T193937Z
LAST-MODIFIED:20250407T193937Z
UID:10003102-1743764400-1743771600@wotfa.org
SUMMARY:District 9 April 2025 Open Acoustic Jam
DESCRIPTION:Please join WOTFA District 9 for our regular 1st Friday open acoustic jam on Friday\, April 4\, 2025 from 11:00am-1:00pm at the Lewis County Historical Museum\, located at 599 NW Front Way in downtown Chehalis. There is parking at the main entrance and also by the kitchen area which is towards the back of the museum. We will be jamming just inside the main entrance. There will be coffee and tea and some snacks but it won’t be a potluck. \nThe museum doesn’t charge us to jam there but does request that if people could put a few dollars in the museums donation jar they would be grateful. It’s located at the desk by the entrance. \nPlease give me (Christie) a call or text at 360-791-5185 if you need more information.
URL:https://wotfa.org/event/district-9-april-2025-open-acoustic-jam/
LOCATION:Lewis County Historical Museum\, 99 NW Front Way\, Chehalis\, 98532
CATEGORIES:District 9,Jam Session,Meeting,Open Jams
ATTACH;FMTTYPE=image/jpeg:https://wotfa.org/wp-content/uploads/2024/03/Lewis-County-Historical-Society.jpg
ORGANIZER;CN="Christie Easter":MAILTO:mrwillys@aol.com
END:VEVENT
END:VCALENDAR