BEGIN:VCALENDAR
VERSION:2.0
PRODID:-//Washington Old Time Fiddlers Association - ECPv6.15.12.2//NONSGML v1.0//EN
CALSCALE:GREGORIAN
METHOD:PUBLISH
X-ORIGINAL-URL:https://wotfa.org
X-WR-CALDESC:Events for Washington Old Time Fiddlers Association
REFRESH-INTERVAL;VALUE=DURATION:PT1H
X-Robots-Tag:noindex
X-PUBLISHED-TTL:PT1H
BEGIN:VTIMEZONE
TZID:America/Los_Angeles
BEGIN:DAYLIGHT
TZOFFSETFROM:-0800
TZOFFSETTO:-0700
TZNAME:PDT
DTSTART:20240310T100000
END:DAYLIGHT
BEGIN:STANDARD
TZOFFSETFROM:-0700
TZOFFSETTO:-0800
TZNAME:PST
DTSTART:20241103T090000
END:STANDARD
BEGIN:DAYLIGHT
TZOFFSETFROM:-0800
TZOFFSETTO:-0700
TZNAME:PDT
DTSTART:20250309T100000
END:DAYLIGHT
BEGIN:STANDARD
TZOFFSETFROM:-0700
TZOFFSETTO:-0800
TZNAME:PST
DTSTART:20251102T090000
END:STANDARD
BEGIN:DAYLIGHT
TZOFFSETFROM:-0800
TZOFFSETTO:-0700
TZNAME:PDT
DTSTART:20260308T100000
END:DAYLIGHT
BEGIN:STANDARD
TZOFFSETFROM:-0700
TZOFFSETTO:-0800
TZNAME:PST
DTSTART:20261101T090000
END:STANDARD
END:VTIMEZONE
BEGIN:VEVENT
DTSTART;TZID=America/Los_Angeles:20250213T180000
DTEND;TZID=America/Los_Angeles:20250213T210000
DTSTAMP:20260423T032538
CREATED:20250211T142118Z
LAST-MODIFIED:20250211T142118Z
UID:10003088-1739469600-1739480400@wotfa.org
SUMMARY:Yakima Acoustic Jam
DESCRIPTION:All Skill Levels welcome\, bring your own food/snack/beverage (no alcohol) \nSuggested donation $5-$10 to help cover rent and support our Host\, the Grange members \nTwo Jams\, each in separate halls: \nFirst Hall: Ballads\, Songs\, and Solos\, Ray Latham Organizer.\nPlayed Before: Folsom Prison Blues E\, Gal Way Girl D\, Have you Ever Seen the Rain G\, Poncho and Lefty C\, Jambalaya A\, Wagon Wheel D\, Ripple G.  Bring your own tune \nSecond Hall: Old Time / Fiddle Tune Jam.  Gary Miller\, Organizer.\nA Tunes: Happy Hollow\, Buffalo Gals\, Grub Springs\, Sweet Marie\, Road to Malvern\nD Tunes: Colemans March\, Johnnie\, Johnnie Don’t Get Drunk\, St Anne’s Reel\, Snake River Reel\, Jullianne Johnson\, Forked Deer\nG Tunes: Nail that Catfish to a Tree\, Ora Lee\, Moon Behind the Mountain\, Old Billy Helle\, Golden Ticket\, Sail Away Ladies by J.P. Frayley\nSlow Jam First Hour\, Up Tempo second Hour.  New Tunes Welcome \nOld Time Notes available on Request \nGrange Member Hosts: Ray Latham\, Len Rickey\, Jeff Parker\, Patrick Moss\, Garry Miller\, Derek Smith\, Mark Oslund \n 
URL:https://wotfa.org/event/yakima-acoustic-jam/
LOCATION:Fruitvale Grange\, 2908 Castlevale Road\, Yakima\, 98902
CATEGORIES:District 7,Jam Session,Open Jams
ATTACH;FMTTYPE=image/jpeg:https://wotfa.org/wp-content/uploads/2025/02/Yakima.jpg
END:VEVENT
BEGIN:VEVENT
DTSTART;TZID=America/Los_Angeles:20250222T110000
DTEND;TZID=America/Los_Angeles:20250222T160000
DTSTAMP:20260423T032538
CREATED:20241215T151020Z
LAST-MODIFIED:20241222T001410Z
UID:10003008-1740222000-1740240000@wotfa.org
SUMMARY:District 6 Jam
DESCRIPTION:We get together just to jam\, learn and socialize once a month.  It’s really a fun time to play music together.  If there is interest\, Bernie will teach a lesson on guitar or mandolin if you contact him ahead of time.   All are welcome.  Come anytime you like.
URL:https://wotfa.org/event/district-6-jam-3/2025-02-22/
LOCATION:Des Moines Masonic Lodge\, 2208 S 223rd St\, Des Moines\, WA\, 98198\, United States
CATEGORIES:District 6,Jam Session,Open Jams
ATTACH;FMTTYPE=image/jpeg:https://wotfa.org/wp-content/uploads/2024/12/IMG_4029-scaled.jpg
ORGANIZER;CN="Bernie Turner":MAILTO:bernus.turner@comcast.net
END:VEVENT
BEGIN:VEVENT
DTSTART;TZID=America/Los_Angeles:20250227T180000
DTEND;TZID=America/Los_Angeles:20250227T210000
DTSTAMP:20260423T032538
CREATED:20250202T020057Z
LAST-MODIFIED:20250211T144230Z
UID:10003090-1740679200-1740690000@wotfa.org
SUMMARY:Yakima Acoustic Jam
DESCRIPTION:All Skill Levels welcome\, bring your own food/snack/beverage (no alcohol) \nSuggested donation $5-$10 to help cover rent and support our Host\, the Grange members \nTwo Jams\, each in separate halls: \nFirst Hall: Ballads\, Songs\, and Solos\, Ray Latham Organizer.\nPlayed Before: Folsom Prison Blues E\, Gal Way Girl D\, Have you Ever Seen the Rain G\, Poncho and Lefty C\, Jambalaya A\, Wagon Wheel D\, Ripple G.  Bring your own tune \nSecond Hall: Old Time / Fiddle Tune Jam.  Gary Miller\, Organizer.\nA Tunes: Happy Hollow\, Buffalo Gals\, Grub Springs\, Sweet Marie\, Road to Malvern\nD Tunes: Colemans March\, Johnnie\, Johnnie Don’t Get Drunk\, St Anne’s Reel\, Snake River Reel\, Jullianne Johnson\, Forked Deer\nG Tunes: Nail that Catfish to a Tree\, Ora Lee\, Moon Behind the Mountain\, Old Billy Helle\, Golden Ticket\, Sail Away Ladies by J.P. Frayley\nSlow Jam First Hour\, Up Tempo second Hour.  New Tunes Welcome \nOld Time Notes available on Request \nGrange Member Hosts: Ray Latham\, Len Rickey\, Jeff Parker\, Patrick Moss\, Garry Miller\, Derek Smith\, Mark Oslund \n 
URL:https://wotfa.org/event/yakima-acoustic-jam-2/
LOCATION:Fruitvale Grange\, 2908 Castlevale Road\, Yakima\, 98902
CATEGORIES:District 7,Jam Session,Open Jams
ATTACH;FMTTYPE=image/jpeg:https://wotfa.org/wp-content/uploads/2025/02/Yakima.jpg
END:VEVENT
END:VCALENDAR