BEGIN:VCALENDAR
VERSION:2.0
PRODID:-//Washington Old Time Fiddlers Association - ECPv6.15.12.2//NONSGML v1.0//EN
CALSCALE:GREGORIAN
METHOD:PUBLISH
X-ORIGINAL-URL:https://wotfa.org
X-WR-CALDESC:Events for Washington Old Time Fiddlers Association
REFRESH-INTERVAL;VALUE=DURATION:PT1H
X-Robots-Tag:noindex
X-PUBLISHED-TTL:PT1H
BEGIN:VTIMEZONE
TZID:America/Los_Angeles
BEGIN:DAYLIGHT
TZOFFSETFROM:-0800
TZOFFSETTO:-0700
TZNAME:PDT
DTSTART:20220313T100000
END:DAYLIGHT
BEGIN:STANDARD
TZOFFSETFROM:-0700
TZOFFSETTO:-0800
TZNAME:PST
DTSTART:20221106T090000
END:STANDARD
BEGIN:DAYLIGHT
TZOFFSETFROM:-0800
TZOFFSETTO:-0700
TZNAME:PDT
DTSTART:20230312T100000
END:DAYLIGHT
BEGIN:STANDARD
TZOFFSETFROM:-0700
TZOFFSETTO:-0800
TZNAME:PST
DTSTART:20231105T090000
END:STANDARD
BEGIN:DAYLIGHT
TZOFFSETFROM:-0800
TZOFFSETTO:-0700
TZNAME:PDT
DTSTART:20240310T100000
END:DAYLIGHT
BEGIN:STANDARD
TZOFFSETFROM:-0700
TZOFFSETTO:-0800
TZNAME:PST
DTSTART:20241103T090000
END:STANDARD
BEGIN:DAYLIGHT
TZOFFSETFROM:-0800
TZOFFSETTO:-0700
TZNAME:PDT
DTSTART:20250309T100000
END:DAYLIGHT
BEGIN:STANDARD
TZOFFSETFROM:-0700
TZOFFSETTO:-0800
TZNAME:PST
DTSTART:20251102T090000
END:STANDARD
END:VTIMEZONE
BEGIN:VEVENT
DTSTART;TZID=America/Los_Angeles:20240803T090000
DTEND;TZID=America/Los_Angeles:20240803T180000
DTSTAMP:20260423T170420
CREATED:20240725T210509Z
LAST-MODIFIED:20240725T210509Z
UID:10002533-1722675600-1722708000@wotfa.org
SUMMARY:Washington State Fiddle Championships 2024
DESCRIPTION:Calling All Fiddle Enthusiasts: Be a Part of the Ultimate Fiddle Showdown in Washington State! \nJoin Us at the Washington State Fiddle Championships for an Unforgettable Musical Celebration! \nBe treated to the charm and wit of our esteemed MC\, Grant “The Big Wheel” Wheeler who is clever\, thoughtful and entertaining\, a real treat to watch. Along with Mia Dawson who will join as a co-MC
URL:https://wotfa.org/event/washington-state-fiddle-championships-2024/2024-08-03/
LOCATION:Clark County Fair\, 17402 NE Delfel Road\, Ridgefield\, 98642
CATEGORIES:Contest
ATTACH;FMTTYPE=image/png:https://wotfa.org/wp-content/uploads/2024/07/WSFC-poster-2024-Youtube-Banner.png
END:VEVENT
BEGIN:VEVENT
DTSTART;TZID=America/Los_Angeles:20231104T110000
DTEND;TZID=America/Los_Angeles:20231104T160000
DTSTAMP:20260423T170420
CREATED:20220608T232323Z
LAST-MODIFIED:20221215T005243Z
UID:10001183-1699095600-1699113600@wotfa.org
SUMMARY:District 6 meeting and jam
DESCRIPTION:We get together to jam\, learn\, eat\, socialize and have a meeting once a month.  All are welcome.  There is usually an opportunity to have a lesson on mandolin or guitar.  There are certain months that we bring a fiddle teacher in\, but not always.  Come anytime you like but note that we stop for the meeting at 1 pm and then eat lunch together after that. \nThe D6 meeting/jam is on the 1st Sat of the month from 11 am until 4 pm.\nIt is in September\, October\, November\, January\, February\, March\, and April only.\n\nWe do take a break in the late spring and summer.
URL:https://wotfa.org/event/district-6-meeting-and-jam-2/2023-11-04/
LOCATION:Des Moines Masonic Lodge\, 2208 S 223rd St\, Des Moines\, WA\, 98198\, United States
CATEGORIES:District 6,Jam Session,Meeting
ATTACH;FMTTYPE=image/jpeg:https://wotfa.org/wp-content/uploads/2022/06/IMG_2900-scaled.jpg
ORGANIZER;CN="Bernie Turner":MAILTO:bernus.turner@comcast.net
END:VEVENT
END:VCALENDAR