BEGIN:VCALENDAR
VERSION:2.0
PRODID:-//Washington Old Time Fiddlers Association - ECPv6.15.12.2//NONSGML v1.0//EN
CALSCALE:GREGORIAN
METHOD:PUBLISH
X-ORIGINAL-URL:https://wotfa.org
X-WR-CALDESC:Events for Washington Old Time Fiddlers Association
REFRESH-INTERVAL;VALUE=DURATION:PT1H
X-Robots-Tag:noindex
X-PUBLISHED-TTL:PT1H
BEGIN:VTIMEZONE
TZID:America/Los_Angeles
BEGIN:DAYLIGHT
TZOFFSETFROM:-0800
TZOFFSETTO:-0700
TZNAME:PDT
DTSTART:20240310T100000
END:DAYLIGHT
BEGIN:STANDARD
TZOFFSETFROM:-0700
TZOFFSETTO:-0800
TZNAME:PST
DTSTART:20241103T090000
END:STANDARD
BEGIN:DAYLIGHT
TZOFFSETFROM:-0800
TZOFFSETTO:-0700
TZNAME:PDT
DTSTART:20250309T100000
END:DAYLIGHT
BEGIN:STANDARD
TZOFFSETFROM:-0700
TZOFFSETTO:-0800
TZNAME:PST
DTSTART:20251102T090000
END:STANDARD
BEGIN:DAYLIGHT
TZOFFSETFROM:-0800
TZOFFSETTO:-0700
TZNAME:PDT
DTSTART:20260308T100000
END:DAYLIGHT
BEGIN:STANDARD
TZOFFSETFROM:-0700
TZOFFSETTO:-0800
TZNAME:PST
DTSTART:20261101T090000
END:STANDARD
END:VTIMEZONE
BEGIN:VEVENT
DTSTART;TZID=America/Los_Angeles:20251003T110000
DTEND;TZID=America/Los_Angeles:20251003T130000
DTSTAMP:20260423T091745
CREATED:20250925T170047Z
LAST-MODIFIED:20250925T170047Z
UID:10003174-1759489200-1759496400@wotfa.org
SUMMARY:District 9 October Open Acoustic Jam & Meeting
DESCRIPTION:Please join us for our regular 1st Friday of the month Open Acoustic Jam & Meeting on Friday\, October 3rd\, 2925 from 11:00 am-1:00 pm at the Lewis County Historical Museum\, located at 599 NW Front Way in downtown Chehalis.  There is parking on both sides of the museum and we will be jamming just inside the main doors. \nThere will be coffee and tea and some snacks but it won’t be a potluck.  The museum doesn’t charge us to jam there but they do ask that if people could leave a few dollars in the museum donation jar they would be grateful. \nThis is a beginner friendly jam.  If you have questions please give me (Christie) a call or text at 360-791-5185.
URL:https://wotfa.org/event/district-9-october-open-acoustic-jam-meeting/
LOCATION:Lewis County Historical Museum\, 99 NW Front Way\, Chehalis\, 98532
CATEGORIES:District 9,Jam Session
ATTACH;FMTTYPE=image/jpeg:https://wotfa.org/wp-content/uploads/2025/09/NovColonialPic.jpeg
ORGANIZER;CN="Christie Easter":MAILTO:mrwillys@aol.com
END:VEVENT
BEGIN:VEVENT
DTSTART;TZID=America/Los_Angeles:20251008T150000
DTEND;TZID=America/Los_Angeles:20251008T160000
DTSTAMP:20260423T091745
CREATED:20250925T170114Z
LAST-MODIFIED:20250925T170114Z
UID:10003175-1759935600-1759939200@wotfa.org
SUMMARY:District 9 October Village Concepts Playdate
DESCRIPTION:Please join District 9 for our 2nd Wednesday Playdate on Wednesday\, October 8th from 3:00 pm-4:00 pm at VILLAGE CONCEPTS RETIREMENT CENTER\, located at 2100 SW Woodland Circle in Chehalis.  Village Concepts is located behind Steck Medical Clinic in Chehalis.  We will be playing in the main Dining Room which is just a short distance inside the main entrance.  We will be using the October Playlist.  If you need a copy please give me (Christie) a call or text at 360-791-5185. \nYou must be an active WOTFA member to join in a playdate.
URL:https://wotfa.org/event/district-9-october-village-concepts-playdate/
LOCATION:Village Concepts Chehalis\, 2100 SW Woodland Circle\, Chehalis\, 98532
CATEGORIES:District 9,Playout
ATTACH;FMTTYPE=image/jpeg:https://wotfa.org/wp-content/uploads/2025/09/NovColonialPic-1.jpeg
ORGANIZER;CN="Christie Easter":MAILTO:mrwillys@aol.com
END:VEVENT
BEGIN:VEVENT
DTSTART;TZID=America/Los_Angeles:20251022T153000
DTEND;TZID=America/Los_Angeles:20251022T163000
DTSTAMP:20260423T091745
CREATED:20251015T165548Z
LAST-MODIFIED:20251015T165548Z
UID:10003177-1761147000-1761150600@wotfa.org
SUMMARY:District 9 October Sharon Care Playdate
DESCRIPTION:Please join WOTFA District 9 for our monthly Sharon Care Center Playdate on Wednesday\, October 22nd\, 2025 from 3:30-4:30pm.  Sharon Care is located at 1509 Harrison Ave in Centralia.  To find Sharon Care\, take I-5 to the Harrison Ave Exit\, then head WEST\, past the Safeway.  You will see a Dollar Store on your left\, then take the next road to the left (Fords Prairie Ave) and go all the way to the back of the facility where the main entrance is.  We will be playing in the skilled dining room which is just a short distance inside the main entrance.  We will be using the October playlist for all playdates this month. \nDon’t forget-you must be a current WOTFA member to perform at a playdate.  Membership is only $25 and if you join in or after October 1st you 2026 membership is included also. \nIf you have questions or need a copy of the playlist please give me (Christie) a call or text at 360-791-5185
URL:https://wotfa.org/event/district-9-october-sharon-care-playdate/
LOCATION:Sharon Care Center\, 1509 Harrison Ave\, Centralia\, 98531
CATEGORIES:District 9,Playout
ATTACH;FMTTYPE=image/jpeg:https://wotfa.org/wp-content/uploads/2025/10/NovColonialPic.jpeg
ORGANIZER;CN="Christie Easter":MAILTO:mrwillys@aol.com
END:VEVENT
END:VCALENDAR