BEGIN:VCALENDAR
VERSION:2.0
PRODID:-//Washington Old Time Fiddlers Association - ECPv6.15.12.2//NONSGML v1.0//EN
CALSCALE:GREGORIAN
METHOD:PUBLISH
X-WR-CALNAME:Washington Old Time Fiddlers Association
X-ORIGINAL-URL:https://wotfa.org
X-WR-CALDESC:Events for Washington Old Time Fiddlers Association
REFRESH-INTERVAL;VALUE=DURATION:PT1H
X-Robots-Tag:noindex
X-PUBLISHED-TTL:PT1H
BEGIN:VTIMEZONE
TZID:America/Los_Angeles
BEGIN:DAYLIGHT
TZOFFSETFROM:-0800
TZOFFSETTO:-0700
TZNAME:PDT
DTSTART:20240310T100000
END:DAYLIGHT
BEGIN:STANDARD
TZOFFSETFROM:-0700
TZOFFSETTO:-0800
TZNAME:PST
DTSTART:20241103T090000
END:STANDARD
BEGIN:DAYLIGHT
TZOFFSETFROM:-0800
TZOFFSETTO:-0700
TZNAME:PDT
DTSTART:20250309T100000
END:DAYLIGHT
BEGIN:STANDARD
TZOFFSETFROM:-0700
TZOFFSETTO:-0800
TZNAME:PST
DTSTART:20251102T090000
END:STANDARD
BEGIN:DAYLIGHT
TZOFFSETFROM:-0800
TZOFFSETTO:-0700
TZNAME:PDT
DTSTART:20260308T100000
END:DAYLIGHT
BEGIN:STANDARD
TZOFFSETFROM:-0700
TZOFFSETTO:-0800
TZNAME:PST
DTSTART:20261101T090000
END:STANDARD
END:VTIMEZONE
BEGIN:VEVENT
DTSTART;TZID=America/Los_Angeles:20250905T100000
DTEND;TZID=America/Los_Angeles:20250905T100000
DTSTAMP:20260423T105803
CREATED:20240928T235312Z
LAST-MODIFIED:20240928T235747Z
UID:10002942-1757066400-1757066400@wotfa.org
SUMMARY:DISTRICT 9 MEETING AND JAM
DESCRIPTION:Please join WOTFA District 9 (Lewis & Thurston Counties) for our regular 1st Friday open acoustic jam and meeting on Friday\, October 4th from 10am-Noon at Faith Baptist Church in Chehalis. The Church is located at 436 Coal Creek Rd.  To find the church take I-5 to exit 79\, then head EAST off the exit.  Take a LEFT onto N. National Ave\, then a quick RIGHT onto Coal Creek Rd and go 1.1 miles.  The Church will be on your RIGHT.  We will be in the kitchen building (right next to the giant 5th wheel trailer) until renovations on the main building are finished.  There will be coffee and tea and some snacks but it won’t be a potluck. \nFor questions or if you need information just call or text me (Christie) at 360-791-5185
URL:https://wotfa.org/event/district-9-meeting-and-jam/2025-09-05/
LOCATION:Faith Baptist Church\, 436 Coal Creek Rd\, Chehalis\, 98532
CATEGORIES:District 9,Jam Session,Open Jams
ATTACH;FMTTYPE=image/png:https://wotfa.org/wp-content/uploads/2020/10/district-9.png
ORGANIZER;CN="Christie Easter":MAILTO:mrwillys@aol.com
END:VEVENT
BEGIN:VEVENT
DTSTART;TZID=America/Los_Angeles:20250905T110000
DTEND;TZID=America/Los_Angeles:20250905T130000
DTSTAMP:20260423T105803
CREATED:20250807T211315Z
LAST-MODIFIED:20250807T211315Z
UID:10003141-1757070000-1757077200@wotfa.org
SUMMARY:District 9 Acoustic Jam
DESCRIPTION:Please join us for our monthly open acoustic jam and meeting on Friday\, September 5th from 11:00am-1:00pm at the Lewis County Historical Museum\, located at 599 NW Front Way in downtown Chehalis.  There is parking available on both sides of the museum and we will be jamming just inside the front door area.  There will be coffee and tea and some snacks but it won’t be a potluck.  The museum doesn’t charge us to meet there but they do ask if people could leave something in their donation jar they would be grateful. \nIf you have questions or need more information please give me (Christie) a call or text at 360-791-5185.  The jam is beginner friendly and open to everyone\, you do not have to be a member to come to the jam.
URL:https://wotfa.org/event/district-9-acoustic-jam/
LOCATION:Lewis County Historical Museum\, 99 NW Front Way\, Chehalis\, 98532
CATEGORIES:District 9,Jam Session,Meeting,Open Jams
ORGANIZER;CN="Christie Easter":MAILTO:mrwillys@aol.com
END:VEVENT
BEGIN:VEVENT
DTSTART;TZID=America/Los_Angeles:20250910T160000
DTEND;TZID=America/Los_Angeles:20250910T170000
DTSTAMP:20260423T105803
CREATED:20250807T211425Z
LAST-MODIFIED:20250807T211425Z
UID:10003142-1757520000-1757523600@wotfa.org
SUMMARY:Colonial Stillwater Estates Playdate
DESCRIPTION:Please join us as we play at Colonial Stillwater Estates on Wednesday\, September 10th from 4:00pm-5:00pm.  Colonial is located at 2700 Colonial Drive in Centralia\, just off Cooks Hill Rd and about 3/4 mile past Providence Centralia Hospital.  We will be playing in the Residence Building which is the big white building with pillars in the front.  The music parlor is just inside the main entrance and to the left.  We will be using the September playlist for all playdates this month.  If there is a tune or song that you would like to play please give me (Christie) a call or text at 360-791-5185 and we will add it to the list.
URL:https://wotfa.org/event/colonial-stillwater-estates-playdate-4/
LOCATION:Colonial Stillwater Estates\, 2700 Colonial Drive\, Centralia\, 98531
CATEGORIES:District 9,Playout
ORGANIZER;CN="Christie Easter":MAILTO:mrwillys@aol.com
END:VEVENT
BEGIN:VEVENT
DTSTART;TZID=America/Los_Angeles:20250924T153000
DTEND;TZID=America/Los_Angeles:20250924T163000
DTSTAMP:20260423T105803
CREATED:20250807T211549Z
LAST-MODIFIED:20250807T211549Z
UID:10003143-1758727800-1758731400@wotfa.org
SUMMARY:Sharon Care Playdate
DESCRIPTION:Please join us as we play for Sharon Care Center on Wednesday\, September 24th from 3:30pm-4:30pm.  Sharon Care is located at 1509 Harrison Ave in Centralia. To get to Sharon Care take I-5 to the Harrison Ave exit\, then head WEST past the Safeway until you get to Fords Prairie Ave\, then turn LEFT.  Sharon Care Center will be on your right\, go all the way to the back of the building where the main entrance is located.  We will be playing in the Skilled Dining Room which is just a short distance inside the entrance.   We will be using the September playlist for all playdates this month\, and there will be music and chords for all the music on the playlist for anyone who would like them.
URL:https://wotfa.org/event/sharon-care-playdate/
LOCATION:Sharon Care Center\, 1509 Harrison Ave\, Centralia\, 98531
CATEGORIES:District 9,Playout
ORGANIZER;CN="Christie Easter":MAILTO:mrwillys@aol.com
END:VEVENT
END:VCALENDAR