BEGIN:VCALENDAR
VERSION:2.0
PRODID:-//Washington Old Time Fiddlers Association - ECPv6.15.12.2//NONSGML v1.0//EN
CALSCALE:GREGORIAN
METHOD:PUBLISH
X-WR-CALNAME:Washington Old Time Fiddlers Association
X-ORIGINAL-URL:https://wotfa.org
X-WR-CALDESC:Events for Washington Old Time Fiddlers Association
REFRESH-INTERVAL;VALUE=DURATION:PT1H
X-Robots-Tag:noindex
X-PUBLISHED-TTL:PT1H
BEGIN:VTIMEZONE
TZID:America/Los_Angeles
BEGIN:DAYLIGHT
TZOFFSETFROM:-0800
TZOFFSETTO:-0700
TZNAME:PDT
DTSTART:20250309T100000
END:DAYLIGHT
BEGIN:STANDARD
TZOFFSETFROM:-0700
TZOFFSETTO:-0800
TZNAME:PST
DTSTART:20251102T090000
END:STANDARD
BEGIN:DAYLIGHT
TZOFFSETFROM:-0800
TZOFFSETTO:-0700
TZNAME:PDT
DTSTART:20260308T100000
END:DAYLIGHT
BEGIN:STANDARD
TZOFFSETFROM:-0700
TZOFFSETTO:-0800
TZNAME:PST
DTSTART:20261101T090000
END:STANDARD
BEGIN:DAYLIGHT
TZOFFSETFROM:-0800
TZOFFSETTO:-0700
TZNAME:PDT
DTSTART:20270314T100000
END:DAYLIGHT
BEGIN:STANDARD
TZOFFSETFROM:-0700
TZOFFSETTO:-0800
TZNAME:PST
DTSTART:20271107T090000
END:STANDARD
END:VTIMEZONE
BEGIN:VEVENT
DTSTART;TZID=America/Los_Angeles:20260905T110000
DTEND;TZID=America/Los_Angeles:20260905T160000
DTSTAMP:20260423T031822
CREATED:20260417T210338Z
LAST-MODIFIED:20260417T210338Z
UID:10004076-1788606000-1788624000@wotfa.org
SUMMARY:District 6 Meeting/Jam
DESCRIPTION:We get together to jam\, learn\, eat\, socialize and have a meeting once a month.  All are welcome.  If you would like to have a lesson on mandolin or guitar\, contact Bernie Turner (the organizer of this event) before the date to let him know.  Come anytime you like but note that we stop for a short meeting at 1 pm and then eat lunch together after that.  There is jamming before and after the meeting and lunch break.  Any questions\, email Jenny Swanson at timbuktoe@yahoo.com
URL:https://wotfa.org/event/district-6-meeting-jam-3/2026-09-05/
LOCATION:Des Moines Masonic Lodge\, 2208 S 223rd St\, Des Moines\, WA\, 98198\, United States
CATEGORIES:District 6,Jam Session,Meeting,Open Jams
ATTACH;FMTTYPE=image/jpeg:https://wotfa.org/wp-content/uploads/2026/04/janmtg7-scaled.jpg
ORGANIZER;CN="Bernie Turner":MAILTO:bernus.turner@comcast.net
END:VEVENT
BEGIN:VEVENT
DTSTART;TZID=America/Los_Angeles:20261003T110000
DTEND;TZID=America/Los_Angeles:20261003T160000
DTSTAMP:20260423T031822
CREATED:20260417T210338Z
LAST-MODIFIED:20260417T210338Z
UID:10004077-1791025200-1791043200@wotfa.org
SUMMARY:District 6 Meeting/Jam
DESCRIPTION:We get together to jam\, learn\, eat\, socialize and have a meeting once a month.  All are welcome.  If you would like to have a lesson on mandolin or guitar\, contact Bernie Turner (the organizer of this event) before the date to let him know.  Come anytime you like but note that we stop for a short meeting at 1 pm and then eat lunch together after that.  There is jamming before and after the meeting and lunch break.  Any questions\, email Jenny Swanson at timbuktoe@yahoo.com
URL:https://wotfa.org/event/district-6-meeting-jam-3/2026-10-03/
LOCATION:Des Moines Masonic Lodge\, 2208 S 223rd St\, Des Moines\, WA\, 98198\, United States
CATEGORIES:District 6,Jam Session,Meeting,Open Jams
ATTACH;FMTTYPE=image/jpeg:https://wotfa.org/wp-content/uploads/2026/04/janmtg7-scaled.jpg
ORGANIZER;CN="Bernie Turner":MAILTO:bernus.turner@comcast.net
END:VEVENT
BEGIN:VEVENT
DTSTART;TZID=America/Los_Angeles:20261107T110000
DTEND;TZID=America/Los_Angeles:20261107T160000
DTSTAMP:20260423T031822
CREATED:20260417T210338Z
LAST-MODIFIED:20260417T210338Z
UID:10004078-1794049200-1794067200@wotfa.org
SUMMARY:District 6 Meeting/Jam
DESCRIPTION:We get together to jam\, learn\, eat\, socialize and have a meeting once a month.  All are welcome.  If you would like to have a lesson on mandolin or guitar\, contact Bernie Turner (the organizer of this event) before the date to let him know.  Come anytime you like but note that we stop for a short meeting at 1 pm and then eat lunch together after that.  There is jamming before and after the meeting and lunch break.  Any questions\, email Jenny Swanson at timbuktoe@yahoo.com
URL:https://wotfa.org/event/district-6-meeting-jam-3/2026-11-07/
LOCATION:Des Moines Masonic Lodge\, 2208 S 223rd St\, Des Moines\, WA\, 98198\, United States
CATEGORIES:District 6,Jam Session,Meeting,Open Jams
ATTACH;FMTTYPE=image/jpeg:https://wotfa.org/wp-content/uploads/2026/04/janmtg7-scaled.jpg
ORGANIZER;CN="Bernie Turner":MAILTO:bernus.turner@comcast.net
END:VEVENT
END:VCALENDAR