BEGIN:VCALENDAR
VERSION:2.0
PRODID:-//Washington Old Time Fiddlers Association - ECPv6.15.12.2//NONSGML v1.0//EN
CALSCALE:GREGORIAN
METHOD:PUBLISH
X-WR-CALNAME:Washington Old Time Fiddlers Association
X-ORIGINAL-URL:https://wotfa.org
X-WR-CALDESC:Events for Washington Old Time Fiddlers Association
REFRESH-INTERVAL;VALUE=DURATION:PT1H
X-Robots-Tag:noindex
X-PUBLISHED-TTL:PT1H
BEGIN:VTIMEZONE
TZID:America/Los_Angeles
BEGIN:DAYLIGHT
TZOFFSETFROM:-0800
TZOFFSETTO:-0700
TZNAME:PDT
DTSTART:20250309T100000
END:DAYLIGHT
BEGIN:STANDARD
TZOFFSETFROM:-0700
TZOFFSETTO:-0800
TZNAME:PST
DTSTART:20251102T090000
END:STANDARD
BEGIN:DAYLIGHT
TZOFFSETFROM:-0800
TZOFFSETTO:-0700
TZNAME:PDT
DTSTART:20260308T100000
END:DAYLIGHT
BEGIN:STANDARD
TZOFFSETFROM:-0700
TZOFFSETTO:-0800
TZNAME:PST
DTSTART:20261101T090000
END:STANDARD
BEGIN:DAYLIGHT
TZOFFSETFROM:-0800
TZOFFSETTO:-0700
TZNAME:PDT
DTSTART:20270314T100000
END:DAYLIGHT
BEGIN:STANDARD
TZOFFSETFROM:-0700
TZOFFSETTO:-0800
TZNAME:PST
DTSTART:20271107T090000
END:STANDARD
END:VTIMEZONE
BEGIN:VEVENT
DTSTART;TZID=America/Los_Angeles:20260521T140000
DTEND;TZID=America/Los_Angeles:20260521T160000
DTSTAMP:20260423T045545
CREATED:20240927T144652Z
LAST-MODIFIED:20260106T223636Z
UID:10003435-1779372000-1779379200@wotfa.org
SUMMARY:Weekly 3rd Thursday Afternoon Phinney Jam
DESCRIPTION:Thursday Afternoon Old-Time Jam  \n2:00 to 4:00 pm\, 1st\, 3rd\, 5th Thursdays at the Phinney Center in Seattle \nPlease check the weekly update (on Facebook or email) to make sure it’s happening:  \nFacebook: https://www.facebook.com/groups/oldtimeseattle   \nEmail: oldtimeseattle@groups.io  \nPhinney Center\, 6532 Phinney Ave N\, Seattle – Upper ‘Blue’ Bldg.\, Room 5 on the 3rd Floor\, (Elevator accessible) \n\n\nWe play “Old-time” instrumental fiddle tunes from the Southern U.S.\, Midwest\, and other regions for the most part\, on traditional acoustic instruments like you would find at a square dance\, such as fiddle\, banjo\, guitar and mandolin.  No drums or amplified instruments.  We play by ear and don’t use sheet music. \n\n\nWe welcome musicians of any age or experience level interested in playing with us\, or learning more about this kind of music though this is not a slow or beginner jam \n\n\nWeekly tune history: Thu Jam Tune List 2023 – Google Sheets  \n\n\nPlease park in the free parking area adjacent to the ‘Blue’ building where we play\, or in the lower lot near the brick bldg. \n\n\nNo need to bring a chair. Wear warm clothes depending on the weather: the windows are often open during the jam and it can get chilly \n\n\nAttendance is free\, but occasional volunteering for Phinney events would be much appreciated \n\n\nNo alcohol during the jam.  There are plenty of opportunities for libations and food afterwards at nearby establishments! \n\n\nWe follow all Phinney Center rules and policies \n\n\nCovid: Room 5\, where we play\, has high ceilings\, large windows which we often open for air ventilation\, and a HEPA air filter. Masks are strongly advised and please be vaccinated\, boosted\, and symptom free when you come to the jam.   \n\n\n  \n  \nPlease see the weekly update beforehand: https://www.facebook.com/groups/oldtimeseattle \n\n\nUpper ‘Blue’ Building\, 2nd floor\, Room 5 (Street Level\, but up the stairs from the upper parking lot) \n\n\n\n\nWe play “Old-time” instrumental fiddle tunes from the Southern U.S. (and other regions) for the most part\, on traditional acoustic instruments like you would find at a square dance such as fiddle\, banjo\, guitar and mandolin.   \n\n\nWe welcome musicians of any age or experience level interested in playing with us or learning more about this kind of music.  \n\n\nIntroduction and Guidelines: https://sites.google.com/view/old-time-jam-introduction  \n\n\nTunes Played: Thu Jam Tune List 2023 – Google Sheets  \n\n\nThe center asks us to use the on-site free parking in the upper or lower lots adjacent to the Blue building\, were we play\, or adjacent to the lower brick building. \n\n\nNo need to bring a chair. Bring warm clothes. The windows are open during the jam and it can get chilly\, even on warm days. \n\n\nThere is no cost\, but our occasional volunteering for Phinney events would be much appreciated. \n\n\nNo Alcohol during the jam\, but there are plenty of opportunities for libations and food afterwards at nearby establishments! \n\n\nWe adhere to all Phinney Center Rules and Policies. \n\n\nUpdated 7/12/2023
URL:https://wotfa.org/event/weekly-3rd-thursday-afternoon-phinney-jam/2026-05-21/
LOCATION:Phinney Neighborhood Center\, 6532 Phinney Avenue North\, Seattle\, 98103
CATEGORIES:District 6,Jam Session,Open Jams
ATTACH;FMTTYPE=image/jpeg:https://wotfa.org/wp-content/uploads/2023/09/PhinneyCenter-BlueBuilding.jpg
END:VEVENT
BEGIN:VEVENT
DTSTART;TZID=America/Los_Angeles:20260524T130000
DTEND;TZID=America/Los_Angeles:20260524T170000
DTSTAMP:20260423T045545
CREATED:20260225T010753Z
LAST-MODIFIED:20260225T010753Z
UID:10004065-1779627600-1779642000@wotfa.org
SUMMARY:Celebration of Life for Denice Carter
DESCRIPTION:We invite you to join us in celebrating the life of Denice CarterJanuary 5\, 1962 – January 6\, 2026 \nDenice was a beloved community leader\, musician\, and teacher whose passion for music and fellowship touched many. She served as Chair of District 10\, where she fostered connection and growth across the region. Denice was also well known for organizing and running the annual fiddle contest at the State Fair\, bringing joy to performers and audiences alike. \nFriends\, family\, and all who knew Denice are welcome to gather in her honor for an afternoon of remembrance\, music\, and community. \nCelebration Potluck & Jam Session\nSunday\, May 24\, 20261:00 PM \nLocation:14000 NE 49th StreetVancouver\, WA 98682 \nThis celebration will include a potluck meal — please bring a dish to share if you’re able. In keeping with Denice’s love of music\, we’ll also host an informal jam session. Musicians are encouraged to bring instruments and contribute to a joyful tribute. \nLet’s come together to honor Denice’s life\, her leadership\, and the many ways she enriched our community.
URL:https://wotfa.org/event/celebration-of-life-for-denice-carter/
LOCATION:14000 NE 49th Street\, 14000 NE 49th Street\, Vancouver\, 98682\, United States
CATEGORIES:District 10,District 7,District 9,Featured,Jam Session,Open Jams
ATTACH;FMTTYPE=image/png:https://wotfa.org/wp-content/uploads/2026/02/IMG_2524-e1771981642576.png
ORGANIZER;CN="Christie Easter":MAILTO:mrwillys@aol.com
END:VEVENT
BEGIN:VEVENT
DTSTART;TZID=America/Los_Angeles:20260905T110000
DTEND;TZID=America/Los_Angeles:20260905T160000
DTSTAMP:20260423T045545
CREATED:20260417T210338Z
LAST-MODIFIED:20260417T210338Z
UID:10004076-1788606000-1788624000@wotfa.org
SUMMARY:District 6 Meeting/Jam
DESCRIPTION:We get together to jam\, learn\, eat\, socialize and have a meeting once a month.  All are welcome.  If you would like to have a lesson on mandolin or guitar\, contact Bernie Turner (the organizer of this event) before the date to let him know.  Come anytime you like but note that we stop for a short meeting at 1 pm and then eat lunch together after that.  There is jamming before and after the meeting and lunch break.  Any questions\, email Jenny Swanson at timbuktoe@yahoo.com
URL:https://wotfa.org/event/district-6-meeting-jam-3/2026-09-05/
LOCATION:Des Moines Masonic Lodge\, 2208 S 223rd St\, Des Moines\, WA\, 98198\, United States
CATEGORIES:District 6,Jam Session,Meeting,Open Jams
ATTACH;FMTTYPE=image/jpeg:https://wotfa.org/wp-content/uploads/2026/04/janmtg7-scaled.jpg
ORGANIZER;CN="Bernie Turner":MAILTO:bernus.turner@comcast.net
END:VEVENT
BEGIN:VEVENT
DTSTART;TZID=America/Los_Angeles:20260926T130000
DTEND;TZID=America/Los_Angeles:20260926T160000
DTSTAMP:20260423T045545
CREATED:20260417T210132Z
LAST-MODIFIED:20260417T210132Z
UID:10004079-1790427600-1790438400@wotfa.org
SUMMARY:District 6 Jam
DESCRIPTION:We get together just to jam\, learn and socialize once a month.  It’s really a fun time to play music together.  If there is interest\, Bernie will teach a lesson on guitar or mandolin if you contact him ahead of time.   All are welcome.  Come anytime you like.  Any questions contact Jenny Swanson at timbuktoe@yahoo.com
URL:https://wotfa.org/event/district-6-jam-7/2026-09-26/
LOCATION:Des Moines Masonic Lodge\, 2208 S 223rd St\, Des Moines\, WA\, 98198\, United States
CATEGORIES:District 6,Jam Session,Open Jams
ATTACH;FMTTYPE=image/jpeg:https://wotfa.org/wp-content/uploads/2026/04/aprilmtg-6-scaled.jpg
ORGANIZER;CN="Bernie Turner":MAILTO:bernus.turner@comcast.net
END:VEVENT
BEGIN:VEVENT
DTSTART;TZID=America/Los_Angeles:20261205T110000
DTEND;TZID=America/Los_Angeles:20261205T160000
DTSTAMP:20260423T045545
CREATED:20260417T210053Z
LAST-MODIFIED:20260417T210053Z
UID:10004081-1796468400-1796486400@wotfa.org
SUMMARY:District 6 Christmas Party
DESCRIPTION:The District 6 Christmas party is held the first Saturday of December every year at the Mason’s hall in DesMoines\, Wa.  We get together to jam\, eat\, and enjoy each other’s company.  During the jam\, we play mostly Christmas songs\, but any song you pick will be accepted.  There are people of every musical ability and age.  Some people come just to sing or to listen to the music.  All are welcome.  The District provides a ham for the potluck and you are welcome to bring food to share\, although that is not required.  Doors open at 11 am and we eat as soon as most people have arrived. (usually around noon or a little later)  Otherwise\, we spend our time until 4 pm doing lots of jamming.
URL:https://wotfa.org/event/district-6-christmas-party-4/
LOCATION:Des Moines Masonic Lodge\, 2208 S 223rd St\, Des Moines\, WA\, 98198\, United States
CATEGORIES:District 6,Jam Session,Open Jams
ATTACH;FMTTYPE=image/jpeg:https://wotfa.org/wp-content/uploads/2026/04/dec9-scaled.jpg
ORGANIZER;CN="Bernie Turner":MAILTO:bernus.turner@comcast.net
END:VEVENT
END:VCALENDAR