BEGIN:VCALENDAR
VERSION:2.0
PRODID:-//Washington Old Time Fiddlers Association - ECPv6.15.12.2//NONSGML v1.0//EN
CALSCALE:GREGORIAN
METHOD:PUBLISH
X-ORIGINAL-URL:https://wotfa.org
X-WR-CALDESC:Events for Washington Old Time Fiddlers Association
REFRESH-INTERVAL;VALUE=DURATION:PT1H
X-Robots-Tag:noindex
X-PUBLISHED-TTL:PT1H
BEGIN:VTIMEZONE
TZID:America/Los_Angeles
BEGIN:DAYLIGHT
TZOFFSETFROM:-0800
TZOFFSETTO:-0700
TZNAME:PDT
DTSTART:20210314T100000
END:DAYLIGHT
BEGIN:STANDARD
TZOFFSETFROM:-0700
TZOFFSETTO:-0800
TZNAME:PST
DTSTART:20211107T090000
END:STANDARD
BEGIN:DAYLIGHT
TZOFFSETFROM:-0800
TZOFFSETTO:-0700
TZNAME:PDT
DTSTART:20220313T100000
END:DAYLIGHT
BEGIN:STANDARD
TZOFFSETFROM:-0700
TZOFFSETTO:-0800
TZNAME:PST
DTSTART:20221106T090000
END:STANDARD
BEGIN:DAYLIGHT
TZOFFSETFROM:-0800
TZOFFSETTO:-0700
TZNAME:PDT
DTSTART:20230312T100000
END:DAYLIGHT
BEGIN:STANDARD
TZOFFSETFROM:-0700
TZOFFSETTO:-0800
TZNAME:PST
DTSTART:20231105T090000
END:STANDARD
BEGIN:DAYLIGHT
TZOFFSETFROM:-0800
TZOFFSETTO:-0700
TZNAME:PDT
DTSTART:20240310T100000
END:DAYLIGHT
BEGIN:STANDARD
TZOFFSETFROM:-0700
TZOFFSETTO:-0800
TZNAME:PST
DTSTART:20241103T090000
END:STANDARD
END:VTIMEZONE
BEGIN:VEVENT
DTSTART;VALUE=DATE:20230805
DTEND;VALUE=DATE:20230807
DTSTAMP:20260423T111527
CREATED:20230510T193736Z
LAST-MODIFIED:20230615T164454Z
UID:10001989-1691193600-1691366399@wotfa.org
SUMMARY:Washington State Fiddle Championships
DESCRIPTION:State Championships at the Clark County Fair.
URL:https://wotfa.org/event/washington-state-fiddle-championships-2/
LOCATION:Clark County Fair\, 17402 NE Delfel Road\, Ridgefield\, 98642
CATEGORIES:Contest,District 10,Featured
ATTACH;FMTTYPE=image/jpeg:https://wotfa.org/wp-content/uploads/2023/05/2023-WSFC-Poster.jpg
ORGANIZER;CN="Denice Carter":MAILTO:fidlmom1@gmail.com
END:VEVENT
BEGIN:VEVENT
DTSTART;TZID=America/Los_Angeles:20230804T150000
DTEND;TZID=America/Los_Angeles:20230804T160000
DTSTAMP:20260423T111527
CREATED:20230803T011140Z
LAST-MODIFIED:20230803T011140Z
UID:10002087-1691161200-1691164800@wotfa.org
SUMMARY:District 4 - La Conner Retirement Inn Playout
DESCRIPTION:Friday Aug 4th.Laconner Retd. Inn play 3- 4:00 P.M. 204 N 1st St\, Laconner
URL:https://wotfa.org/event/district-4-la-conner-retirement-inn-playout/
LOCATION:La Conner Retirement Inn\, 204 N 1st St\, La Conner\, 98257
CATEGORIES:District 4,Playout
ATTACH;FMTTYPE=image/jpeg:https://wotfa.org/wp-content/uploads/2023/08/LaConner.jpg
END:VEVENT
BEGIN:VEVENT
DTSTART;TZID=America/Los_Angeles:20230804T100000
DTEND;TZID=America/Los_Angeles:20230804T120000
DTSTAMP:20260423T111527
CREATED:20220808T231958Z
LAST-MODIFIED:20230310T235440Z
UID:10001298-1691143200-1691150400@wotfa.org
SUMMARY:District 9 Monthly Meeting and Jam
DESCRIPTION:DISTRICT:  9 (Lewis & Thurston Counties)\nCHAIRPERSON:  Christie Easter 360-791-5185. mrwillys@aol.com\nREPORTER:  Same\nMEETING & JAM:  1st Friday of every month 10 am-Noon Faith Baptist Church 436 Coal Creek Rd\, Chehalis\n \nLink to Chord Charts for Common Jam Tunes
URL:https://wotfa.org/event/district-9-monthly-meeting-and-jam/2023-08-04/
LOCATION:Faith Baptist Church\, 436 Coal Creek Rd\, Chehalis\, 98532
CATEGORIES:District 9
ATTACH;FMTTYPE=image/png:https://wotfa.org/wp-content/uploads/2020/10/district-9.png
ORGANIZER;CN="Christie Easter":MAILTO:mrwillys@aol.com
END:VEVENT
BEGIN:VEVENT
DTSTART;TZID=America/Los_Angeles:20230803T113000
DTEND;TZID=America/Los_Angeles:20230803T123000
DTSTAMP:20260423T111527
CREATED:20230803T011102Z
LAST-MODIFIED:20230803T011102Z
UID:10002086-1691062200-1691065800@wotfa.org
SUMMARY:District 4 - SW Senior Center Playout
DESCRIPTION:Thursday\, Aug. 3 rd. – S/W Sr. Ctr. Play @11:30 -12:30 A.M. 715 Pacific St\, Sedro – Woolley
URL:https://wotfa.org/event/district-4-sw-senior-center-playout/
LOCATION:SW Senior Center\, 715 Pacific\, Sedro-Woolley\, 98284
CATEGORIES:District 4,Playout
ATTACH;FMTTYPE=image/jpeg:https://wotfa.org/wp-content/uploads/2023/08/sedro-woolley.jpg
END:VEVENT
BEGIN:VEVENT
DTSTART;TZID=America/Los_Angeles:20230801T130000
DTEND;TZID=America/Los_Angeles:20230801T160000
DTSTAMP:20260423T111527
CREATED:20221216T004236Z
LAST-MODIFIED:20240926T034809Z
UID:10001330-1690894800-1690905600@wotfa.org
SUMMARY:District 5 Jam (First Tuesday at Kitsap Mall)
DESCRIPTION:Join us at the Kitsap Mall for an afternoon circle jam.  Look for us in the Community Room next to Dick’s Sporting Goods.  All  acoustic instruments and abilities are welcome. Written music is often available.
URL:https://wotfa.org/event/district-5-jam-2/2023-08-01/
LOCATION:Kitsap Mall\, 10315 Silverdale Way\, Silverdale\, WA\, 98383\, United States
CATEGORIES:District 5,Jam Session,Open Jams
ORGANIZER;CN="Kay McCarthy":MAILTO:kaycmccarthy@gmail.com
END:VEVENT
BEGIN:VEVENT
DTSTART;TZID=America/Los_Angeles:20230722T153000
DTEND;TZID=America/Los_Angeles:20230722T190000
DTSTAMP:20260423T111527
CREATED:20230718T042010Z
LAST-MODIFIED:20230718T042010Z
UID:10002084-1690039800-1690052400@wotfa.org
SUMMARY:Pioneer Day
DESCRIPTION:Grab your instrument and head to Bainbridge Island for some music\, fun\, and friendship! \n 
URL:https://wotfa.org/event/pioneer-day/
LOCATION:Bountiful Farm\, 8045 Fletcher Bay Road\, Bainbridge Island\, WA\, 98110\, United States
CATEGORIES:Family Dance,Open Jams,Open Mic,Playout
ATTACH;FMTTYPE=image/jpeg:https://wotfa.org/wp-content/uploads/2023/07/IMG_1513.jpeg
ORGANIZER;CN="Gina Weibel":MAILTO:weibelfamily@gmail.com
END:VEVENT
BEGIN:VEVENT
DTSTART;VALUE=DATE:20230710
DTEND;VALUE=DATE:20230715
DTSTAMP:20260423T111527
CREATED:20230203T003443Z
LAST-MODIFIED:20230419T203104Z
UID:10001338-1688947200-1689379199@wotfa.org
SUMMARY:Fiddle Camp 2023 - Registration is Open
DESCRIPTION:Annual Fiddle Camp at Moses Lake.  Register Here: https://wotfa.org/fiddle-camp-2023-registration/ \nT-Shirts Available here: https://www.bonfire.com/fiddle-camp-2023/
URL:https://wotfa.org/event/fiddle-camp-2023/
LOCATION:WA\, United States
CATEGORIES:Featured,Workshop
ATTACH;FMTTYPE=image/jpeg:https://wotfa.org/wp-content/uploads/2023/02/Fiddle-Workshop-Logo.jpg
END:VEVENT
BEGIN:VEVENT
DTSTART;TZID=America/Los_Angeles:20230618T140000
DTEND;TZID=America/Los_Angeles:20230618T170000
DTSTAMP:20260423T111527
CREATED:20211120T151529Z
LAST-MODIFIED:20230207T015404Z
UID:10001057-1687096800-1687107600@wotfa.org
SUMMARY:District 8 Meeting and Jam
DESCRIPTION:In-Person District 8 Meeting\n Short Meeting\, Followed by LOOOONG jam!!!\n \nThe Mid County Community Center has reopened\, and monthly meetings will resume there in September! \n10205 44th Ave E\, Tacoma\, WA 98446  https://goo.gl/maps/dCPbMrM8sLDcDZk36
URL:https://wotfa.org/event/district-8-meeting-and-jam/2023-06-18/
LOCATION:Mid-County Community Center\, 10205 44th Ave E\, Tacoma\, WA\, 98446\, United States
CATEGORIES:District 8
END:VEVENT
BEGIN:VEVENT
DTSTART;TZID=America/Los_Angeles:20230608T133000
DTEND;TZID=America/Los_Angeles:20230608T143000
DTSTAMP:20260423T111527
CREATED:20190818T170757Z
LAST-MODIFIED:20211118T205804Z
UID:10000799-1686231000-1686234600@wotfa.org
SUMMARY:Franke Tobey Jones
DESCRIPTION:This play out occurs on the 2nd Thursday of Mar\, Jun\, Sep\, Dec only.\nContact/organizer is Ron Duncan.
URL:https://wotfa.org/event/franke-tobey-jones-2019-09-19/2023-06-08/
LOCATION:Franke Tobey Jones\, 5340 N Bristol St\, Tacoma\, WA\, 98407\, United States
CATEGORIES:District 8,Playout
END:VEVENT
BEGIN:VEVENT
DTSTART;TZID=America/Los_Angeles:20230411T100000
DTEND;TZID=America/Los_Angeles:20230411T140000
DTSTAMP:20260423T111527
CREATED:20230306T041958Z
LAST-MODIFIED:20230306T042043Z
UID:10001766-1681207200-1681221600@wotfa.org
SUMMARY:District 15 Monthly Meeting and Jam
DESCRIPTION:Monthly Meeting: \n2nd Saturday in Sequim at St. Luke’s Episcopal Church in Sequim and the 4th Saturday at the Tri Area Center in Chimacum from 11 – 3.  See you all there! 
URL:https://wotfa.org/event/district-15-monthly-meeting-and-jam-2/2023-04-11/
LOCATION:St Luke’s Episcopal Church\, 525 N 5th Ave\, Sequim\, WA\, 98382\, United States
CATEGORIES:District 15
ATTACH;FMTTYPE=image/png:https://wotfa.org/wp-content/uploads/2020/10/district-15.png
ORGANIZER;CN="Rita Alberti":MAILTO:daveandrita2025@gmail.com
END:VEVENT
BEGIN:VEVENT
DTSTART;TZID=America/Los_Angeles:20230401T110000
DTEND;TZID=America/Los_Angeles:20230401T160000
DTSTAMP:20260423T111527
CREATED:20220608T232323Z
LAST-MODIFIED:20221215T005243Z
UID:10001180-1680346800-1680364800@wotfa.org
SUMMARY:District 6 meeting and jam
DESCRIPTION:We get together to jam\, learn\, eat\, socialize and have a meeting once a month.  All are welcome.  There is usually an opportunity to have a lesson on mandolin or guitar.  There are certain months that we bring a fiddle teacher in\, but not always.  Come anytime you like but note that we stop for the meeting at 1 pm and then eat lunch together after that. \nThe D6 meeting/jam is on the 1st Sat of the month from 11 am until 4 pm.\nIt is in September\, October\, November\, January\, February\, March\, and April only.\n\nWe do take a break in the late spring and summer.
URL:https://wotfa.org/event/district-6-meeting-and-jam-2/2023-04-01/
LOCATION:Des Moines Masonic Lodge\, 2208 S 223rd St\, Des Moines\, WA\, 98198\, United States
CATEGORIES:District 6,Jam Session,Meeting
ATTACH;FMTTYPE=image/jpeg:https://wotfa.org/wp-content/uploads/2022/06/IMG_2900-scaled.jpg
ORGANIZER;CN="Bernie Turner":MAILTO:bernus.turner@comcast.net
END:VEVENT
BEGIN:VEVENT
DTSTART;TZID=America/Los_Angeles:20230225T130000
DTEND;TZID=America/Los_Angeles:20230225T160000
DTSTAMP:20260423T111527
CREATED:20220608T200005Z
LAST-MODIFIED:20221215T014416Z
UID:10001173-1677330000-1677340800@wotfa.org
SUMMARY:District 6 monthly jam
DESCRIPTION:We get together just to jam\, learn\, eat\, socialize once a month.  It’s really a fun time to play music together.  If there is interest\, we usually have someone who will teach a lesson on guitar or mandolin and we also try to schedule fiddle teachers on certain months.  All are welcome.  Come anytime you like. \nThe D6 jams are on the 4th Sat of the month from 1 pm to 4 pm.  They are in Sep\, Oct\, Jan\, Feb\, and March only\n(there are no jams in apr\, may\, june\, july\, aug\, nov or dec)
URL:https://wotfa.org/event/district-6-meeting-and-jam/2023-02-25/
LOCATION:Des Moines Masonic Lodge\, 2208 S 223rd St\, Des Moines\, WA\, 98198\, United States
CATEGORIES:District 6,Jam Session,Open Jams
ATTACH;FMTTYPE=image/jpeg:https://wotfa.org/wp-content/uploads/2022/06/IMG_2770-scaled.jpg
ORGANIZER;CN="Bernie Turner":MAILTO:bernus.turner@comcast.net
END:VEVENT
BEGIN:VEVENT
DTSTART;TZID=America/Los_Angeles:20220409T133000
DTEND;TZID=America/Los_Angeles:20220409T170000
DTSTAMP:20260423T111527
CREATED:20190913T141539Z
LAST-MODIFIED:20220114T200749Z
UID:10000933-1649511000-1649523600@wotfa.org
SUMMARY:District 8 Annual Show in Buckley
DESCRIPTION:Temporarily on hold.  See the flyers below. \n[pdf-embedder url=”https://wotfa.org/wp-content/uploads/District8/2018-Buckley-Show-Poster-with-map-NEW-1.pdf” title=”2018-Buckley-Show-Poster-with-map-NEW”]
URL:https://wotfa.org/event/district-8-annual-show-in-buckley/2022-04-09/
END:VEVENT
END:VCALENDAR