BEGIN:VCALENDAR
VERSION:2.0
PRODID:-//Washington Old Time Fiddlers Association - ECPv6.15.12.2//NONSGML v1.0//EN
CALSCALE:GREGORIAN
METHOD:PUBLISH
X-ORIGINAL-URL:https://wotfa.org
X-WR-CALDESC:Events for Washington Old Time Fiddlers Association
REFRESH-INTERVAL;VALUE=DURATION:PT1H
X-Robots-Tag:noindex
X-PUBLISHED-TTL:PT1H
BEGIN:VTIMEZONE
TZID:America/Los_Angeles
BEGIN:DAYLIGHT
TZOFFSETFROM:-0800
TZOFFSETTO:-0700
TZNAME:PDT
DTSTART:20210314T100000
END:DAYLIGHT
BEGIN:STANDARD
TZOFFSETFROM:-0700
TZOFFSETTO:-0800
TZNAME:PST
DTSTART:20211107T090000
END:STANDARD
BEGIN:DAYLIGHT
TZOFFSETFROM:-0800
TZOFFSETTO:-0700
TZNAME:PDT
DTSTART:20220313T100000
END:DAYLIGHT
BEGIN:STANDARD
TZOFFSETFROM:-0700
TZOFFSETTO:-0800
TZNAME:PST
DTSTART:20221106T090000
END:STANDARD
BEGIN:DAYLIGHT
TZOFFSETFROM:-0800
TZOFFSETTO:-0700
TZNAME:PDT
DTSTART:20230312T100000
END:DAYLIGHT
BEGIN:STANDARD
TZOFFSETFROM:-0700
TZOFFSETTO:-0800
TZNAME:PST
DTSTART:20231105T090000
END:STANDARD
END:VTIMEZONE
BEGIN:VEVENT
DTSTART;TZID=America/Los_Angeles:20221214T160000
DTEND;TZID=America/Los_Angeles:20221214T170000
DTSTAMP:20260423T015603
CREATED:20191231T225238Z
LAST-MODIFIED:20230208T032048Z
UID:10000971-1671033600-1671037200@wotfa.org
SUMMARY:Colonial Stillwater Estates Playdate
DESCRIPTION:Please join District 9 for our regular 2nd Wednesday playdate from 4:00pm-5:00pm on Wednesday\, January 8th at Colonial Stillwater Estates in Centralia.  Colonial is located at 2700 Colonial Drive very close to Providence Centralia Hospital.  We will be playing in the music parlor inside the main residence hall (the big white building with pillars).  We hope to see you there!
URL:https://wotfa.org/event/colonial-stillwater-estates-playdate-2/2022-12-14/
LOCATION:Colonial Stillwater Estates\, 2700 Colonial Drive\, Centralia\, 98531
CATEGORIES:District 9,Playout
ORGANIZER;CN="Christie Easter":MAILTO:mrwillys@aol.com
END:VEVENT
BEGIN:VEVENT
DTSTART;TZID=America/Los_Angeles:20221212T133000
DTEND;TZID=America/Los_Angeles:20221212T153000
DTSTAMP:20260423T015603
CREATED:20220225T171331Z
LAST-MODIFIED:20230314T183544Z
UID:10001820-1670851800-1670859000@wotfa.org
SUMMARY:District 8 - Circle Jam at Puyallup Senior Center
DESCRIPTION:Easy to find\, Easy to park – great little circle jam in a nice space.  All are welcome to join or listen
URL:https://wotfa.org/event/district-8-circle-jam-at-puyallup-senior-center/2022-12-12/
LOCATION:Puyallup Senior Activity Center\, 210 W Pioneer Ave\, Puyallup\, WA\, 98371\, United States
CATEGORIES:District 8,Jam Session,Open Jams
ATTACH;FMTTYPE=image/png:https://wotfa.org/wp-content/uploads/2022/02/puyallupsenior.png
END:VEVENT
BEGIN:VEVENT
DTSTART;TZID=America/Los_Angeles:20221211T140000
DTEND;TZID=America/Los_Angeles:20221211T170000
DTSTAMP:20260423T015603
CREATED:20220808T234841Z
LAST-MODIFIED:20220808T234952Z
UID:10001237-1670767200-1670778000@wotfa.org
SUMMARY:District 12 Monthly Meeting and Jam
DESCRIPTION:Monthly Meeting: \n2nd Sunday at Trios Adult Day Services Building\, 10 N. Washington St. Kennewick. (Enter at back) \nDoors open at 2:00PM for jamming; Finger potluck at 3:00\, followed by short business meeting and more jamming.
URL:https://wotfa.org/event/district-12-monthly-meeting-and-jam/2022-12-11/
LOCATION:Trios Adult Day Services Building\, 10 N. Washington St\, Kennewick\, WA\, 99336\, United States
CATEGORIES:District 12
ATTACH;FMTTYPE=image/png:https://wotfa.org/wp-content/uploads/2020/10/district-12.png
ORGANIZER;CN="Joe Gunter":MAILTO:gunterboys43@gmail.com
END:VEVENT
BEGIN:VEVENT
DTSTART;TZID=America/Los_Angeles:20221210T100000
DTEND;TZID=America/Los_Angeles:20221210T150000
DTSTAMP:20260423T015603
CREATED:20220808T235807Z
LAST-MODIFIED:20220809T000309Z
UID:10001203-1670666400-1670684400@wotfa.org
SUMMARY:District 15 Monthly Meeting and Jam
DESCRIPTION:Monthly Meeting: \n2nd Saturday in Sequim at Shipley Center from 10 – 3 and the 4th Saturday at the Tri Area Center in Chimacum from 11 – 3.  See you all there! 
URL:https://wotfa.org/event/district-15-monthly-meeting-and-jam/2022-12-10/
LOCATION:Shipley Center\, 921 E. Hammond\, Sequim\, WA\, 98382\, United States
CATEGORIES:District 15
ATTACH;FMTTYPE=image/png:https://wotfa.org/wp-content/uploads/2020/10/district-15.png
ORGANIZER;CN="Rita Alberti":MAILTO:daveandrita2025@gmail.com
END:VEVENT
BEGIN:VEVENT
DTSTART;TZID=America/Los_Angeles:20221209T183000
DTEND;TZID=America/Los_Angeles:20221209T210000
DTSTAMP:20260423T015603
CREATED:20190906T032948Z
LAST-MODIFIED:20240309T235946Z
UID:10000841-1670610600-1670619600@wotfa.org
SUMMARY:Monthly District 4 Meeting and Jam
DESCRIPTION:Meeting and Jam every 2nd Friday of the month \nJam every 4th Friday of the month \nBoth at the Mount Vernon Sr. Ctr. (map below) 1401 Cleveland\n \nChair / Reporter – Interim Chair Fred Robbins\, fred@robbinsmetal.com 206-786-3369\nTreasurer – Sarah Buntin\, Cell 360-320-1696\, email: <itsrustyoldhalo@frontier.com>\nEvent scheduling – Sarah Buntin- Phone # 360-679-6595\nInterim Secretary – Fred Robbins\, fred@robbinsmetal.com\nCalendar – Fred Robbins email: fred@robbinsmetal.com
URL:https://wotfa.org/event/district-4-meeting-and-jam/2022-12-09/
LOCATION:Mt. Vernon Senior Center\, 1401 Cleveland St\, Mt. Vernon\, WA\, 98273\, United States
CATEGORIES:District 4,Jam Session,Meeting,Open Jams
ATTACH;FMTTYPE=image/png:https://wotfa.org/wp-content/uploads/2020/10/district-4.png
END:VEVENT
BEGIN:VEVENT
DTSTART;TZID=America/Los_Angeles:20221208T133000
DTEND;TZID=America/Los_Angeles:20221208T143000
DTSTAMP:20260423T015603
CREATED:20190818T170757Z
LAST-MODIFIED:20211118T205804Z
UID:10000797-1670506200-1670509800@wotfa.org
SUMMARY:Franke Tobey Jones
DESCRIPTION:This play out occurs on the 2nd Thursday of Mar\, Jun\, Sep\, Dec only.\nContact/organizer is Ron Duncan.
URL:https://wotfa.org/event/franke-tobey-jones-2019-09-19/2022-12-08/
LOCATION:Franke Tobey Jones\, 5340 N Bristol St\, Tacoma\, WA\, 98407\, United States
CATEGORIES:District 8,Playout
END:VEVENT
BEGIN:VEVENT
DTSTART;TZID=America/Los_Angeles:20221125T183000
DTEND;TZID=America/Los_Angeles:20221125T213000
DTSTAMP:20260423T015603
CREATED:20220802T221853Z
LAST-MODIFIED:20240310T000033Z
UID:10001190-1669401000-1669411800@wotfa.org
SUMMARY:Monthly District 4 Jam
DESCRIPTION:Meeting and Jam every 2nd Friday of the month \nJam every 4th Friday of the month \nBoth at the Mount Vernon Sr. Ctr. (map below) 1401 Cleveland\n \nChair / Reporter – Interim Chair Fred Robbins\, fred@robbinsmetal.com 206-786-3369\nTreasurer – Sarah Buntin\, Cell 360-320-1696\, email: <itsrustyoldhalo@frontier.com>\nEvent scheduling – Sarah Buntin- Phone # 360-679-6595\nInterim Secretary – Fred Robbins\, fred@robbinsmetal.com\nCalendar – Fred Robbins email: fred@robbinsmetal.com
URL:https://wotfa.org/event/monthly-district-4-jam/2022-11-25/
LOCATION:Mt. Vernon Senior Center\, 1401 Cleveland St\, Mt. Vernon\, WA\, 98273\, United States
CATEGORIES:District 4,Jam Session,Open Jams
ATTACH;FMTTYPE=image/png:https://wotfa.org/wp-content/uploads/2020/10/district-4.png
END:VEVENT
BEGIN:VEVENT
DTSTART;TZID=America/Los_Angeles:20221120T140000
DTEND;TZID=America/Los_Angeles:20221120T170000
DTSTAMP:20260423T015603
CREATED:20211120T151529Z
LAST-MODIFIED:20230207T015404Z
UID:10001050-1668952800-1668963600@wotfa.org
SUMMARY:District 8 Meeting and Jam
DESCRIPTION:In-Person District 8 Meeting\n Short Meeting\, Followed by LOOOONG jam!!!\n \nThe Mid County Community Center has reopened\, and monthly meetings will resume there in September! \n10205 44th Ave E\, Tacoma\, WA 98446  https://goo.gl/maps/dCPbMrM8sLDcDZk36
URL:https://wotfa.org/event/district-8-meeting-and-jam/2022-11-20/
LOCATION:Mid-County Community Center\, 10205 44th Ave E\, Tacoma\, WA\, 98446\, United States
CATEGORIES:District 8
END:VEVENT
BEGIN:VEVENT
DTSTART;TZID=America/Los_Angeles:20221120T133000
DTEND;TZID=America/Los_Angeles:20221120T160000
DTSTAMP:20260423T015603
CREATED:20220808T232915Z
LAST-MODIFIED:20220808T234514Z
UID:10001272-1668951000-1668960000@wotfa.org
SUMMARY:District 11 Monthly Meeting and Jam
DESCRIPTION:Monthly Meeting and Jam: \n3rd Sunday at 1:30 PM – Jam 2:00-4:00. Moses Lake Senior Center\, 608 E. 3rd Ave. Moses Lake
URL:https://wotfa.org/event/district-11-monthly-meeting-and-jam/2022-11-20/
LOCATION:Moses Lake Senior Center\, 608 E. 3rd Ave\, Moses Lake\, WA\, 98837\, United States
CATEGORIES:District 11
ATTACH;FMTTYPE=image/png:https://wotfa.org/wp-content/uploads/2020/10/district-11.png
ORGANIZER;CN="Charlie Root":MAILTO:clroot@sosmail.us
END:VEVENT
BEGIN:VEVENT
DTSTART;TZID=America/Los_Angeles:20221119T120000
DTEND;TZID=America/Los_Angeles:20221119T150000
DTSTAMP:20260423T015603
CREATED:20220802T224421Z
LAST-MODIFIED:20220802T224942Z
UID:10001219-1668859200-1668870000@wotfa.org
SUMMARY:District 5 Monthly Meeting and Jam
DESCRIPTION:Our regular monthly meetings will begin again the third Saturday of September at the Kitsap Square Dance Club in Gorst.  We look forward to seeing you all again!
URL:https://wotfa.org/event/monthly-district-5-meeting-and-jam/2022-11-19/
LOCATION:Kitsap Square Dance Club\, 6800 W Belfair Valley Rd\, Bremerton\, WA\, 98312
CATEGORIES:District 5,Jam Session
ATTACH;FMTTYPE=image/png:https://wotfa.org/wp-content/uploads/2020/10/district-5.png
ORGANIZER;CN="Laura and Will Farr":MAILTO:wlzfarr@msn.com
END:VEVENT
BEGIN:VEVENT
DTSTART;TZID=America/Los_Angeles:20221118T140000
DTEND;TZID=America/Los_Angeles:20221118T170000
DTSTAMP:20260423T015603
CREATED:20220808T230643Z
LAST-MODIFIED:20220808T231235Z
UID:10001254-1668780000-1668790800@wotfa.org
SUMMARY:District 3 Meeting and Jam
DESCRIPTION:District 3 meets monthly at the Eagles (Wenatchee Eagles Lodge #204 ~ 1208 N. Wenatchee Ave. Wenatchee\, WA) on the 3rd Friday of the month at 2pm.
URL:https://wotfa.org/event/district-3-meeting-and-jam/2022-11-18/
LOCATION:Wenatchee Eagles Lodge #204\, 1208 N. Wenatchee Ave.\, Wenatchee\, WA\, 98801\, United States
CATEGORIES:District 3
ATTACH;FMTTYPE=image/png:https://wotfa.org/wp-content/uploads/2020/10/district-3.png
END:VEVENT
BEGIN:VEVENT
DTSTART;TZID=America/Los_Angeles:20221104T100000
DTEND;TZID=America/Los_Angeles:20221104T120000
DTSTAMP:20260423T015603
CREATED:20220808T231958Z
LAST-MODIFIED:20230310T235440Z
UID:10001290-1667556000-1667563200@wotfa.org
SUMMARY:District 9 Monthly Meeting and Jam
DESCRIPTION:DISTRICT:  9 (Lewis & Thurston Counties)\nCHAIRPERSON:  Christie Easter 360-791-5185. mrwillys@aol.com\nREPORTER:  Same\nMEETING & JAM:  1st Friday of every month 10 am-Noon Faith Baptist Church 436 Coal Creek Rd\, Chehalis\n \nLink to Chord Charts for Common Jam Tunes
URL:https://wotfa.org/event/district-9-monthly-meeting-and-jam/2022-11-04/
LOCATION:Faith Baptist Church\, 436 Coal Creek Rd\, Chehalis\, 98532
CATEGORIES:District 9
ATTACH;FMTTYPE=image/png:https://wotfa.org/wp-content/uploads/2020/10/district-9.png
ORGANIZER;CN="Christie Easter":MAILTO:mrwillys@aol.com
END:VEVENT
BEGIN:VEVENT
DTSTART;TZID=America/Los_Angeles:20220409T133000
DTEND;TZID=America/Los_Angeles:20220409T170000
DTSTAMP:20260423T015603
CREATED:20190913T141539Z
LAST-MODIFIED:20220114T200749Z
UID:10000933-1649511000-1649523600@wotfa.org
SUMMARY:District 8 Annual Show in Buckley
DESCRIPTION:Temporarily on hold.  See the flyers below. \n[pdf-embedder url=”https://wotfa.org/wp-content/uploads/District8/2018-Buckley-Show-Poster-with-map-NEW-1.pdf” title=”2018-Buckley-Show-Poster-with-map-NEW”]
URL:https://wotfa.org/event/district-8-annual-show-in-buckley/2022-04-09/
END:VEVENT
END:VCALENDAR