BEGIN:VCALENDAR
VERSION:2.0
PRODID:-//Washington Old Time Fiddlers Association - ECPv6.15.12.2//NONSGML v1.0//EN
CALSCALE:GREGORIAN
METHOD:PUBLISH
X-ORIGINAL-URL:https://wotfa.org
X-WR-CALDESC:Events for Washington Old Time Fiddlers Association
REFRESH-INTERVAL;VALUE=DURATION:PT1H
X-Robots-Tag:noindex
X-PUBLISHED-TTL:PT1H
BEGIN:VTIMEZONE
TZID:America/Los_Angeles
BEGIN:DAYLIGHT
TZOFFSETFROM:-0800
TZOFFSETTO:-0700
TZNAME:PDT
DTSTART:20220313T100000
END:DAYLIGHT
BEGIN:STANDARD
TZOFFSETFROM:-0700
TZOFFSETTO:-0800
TZNAME:PST
DTSTART:20221106T090000
END:STANDARD
BEGIN:DAYLIGHT
TZOFFSETFROM:-0800
TZOFFSETTO:-0700
TZNAME:PDT
DTSTART:20230312T100000
END:DAYLIGHT
BEGIN:STANDARD
TZOFFSETFROM:-0700
TZOFFSETTO:-0800
TZNAME:PST
DTSTART:20231105T090000
END:STANDARD
BEGIN:DAYLIGHT
TZOFFSETFROM:-0800
TZOFFSETTO:-0700
TZNAME:PDT
DTSTART:20240310T100000
END:DAYLIGHT
BEGIN:STANDARD
TZOFFSETFROM:-0700
TZOFFSETTO:-0800
TZNAME:PST
DTSTART:20241103T090000
END:STANDARD
END:VTIMEZONE
BEGIN:VEVENT
DTSTART;TZID=America/Los_Angeles:20230501T133000
DTEND;TZID=America/Los_Angeles:20230501T153000
DTSTAMP:20260423T110902
CREATED:20220225T171331Z
LAST-MODIFIED:20230314T183544Z
UID:10001839-1682947800-1682955000@wotfa.org
SUMMARY:District 8 - Circle Jam at Puyallup Senior Center
DESCRIPTION:Easy to find\, Easy to park – great little circle jam in a nice space.  All are welcome to join or listen
URL:https://wotfa.org/event/district-8-circle-jam-at-puyallup-senior-center/2023-05-01/
LOCATION:Puyallup Senior Activity Center\, 210 W Pioneer Ave\, Puyallup\, WA\, 98371\, United States
CATEGORIES:District 8,Jam Session,Open Jams
ATTACH;FMTTYPE=image/png:https://wotfa.org/wp-content/uploads/2022/02/puyallupsenior.png
END:VEVENT
BEGIN:VEVENT
DTSTART;TZID=America/Los_Angeles:20230502T130000
DTEND;TZID=America/Los_Angeles:20230502T160000
DTSTAMP:20260423T110902
CREATED:20221216T004236Z
LAST-MODIFIED:20240926T034809Z
UID:10001327-1683032400-1683043200@wotfa.org
SUMMARY:District 5 Jam (First Tuesday at Kitsap Mall)
DESCRIPTION:Join us at the Kitsap Mall for an afternoon circle jam.  Look for us in the Community Room next to Dick’s Sporting Goods.  All  acoustic instruments and abilities are welcome. Written music is often available.
URL:https://wotfa.org/event/district-5-jam-2/2023-05-02/
LOCATION:Kitsap Mall\, 10315 Silverdale Way\, Silverdale\, WA\, 98383\, United States
CATEGORIES:District 5,Jam Session,Open Jams
ORGANIZER;CN="Kay McCarthy":MAILTO:kaycmccarthy@gmail.com
END:VEVENT
BEGIN:VEVENT
DTSTART;TZID=America/Los_Angeles:20230505T100000
DTEND;TZID=America/Los_Angeles:20230505T120000
DTSTAMP:20260423T110902
CREATED:20220808T231958Z
LAST-MODIFIED:20230310T235440Z
UID:10001295-1683280800-1683288000@wotfa.org
SUMMARY:District 9 Monthly Meeting and Jam
DESCRIPTION:DISTRICT:  9 (Lewis & Thurston Counties)\nCHAIRPERSON:  Christie Easter 360-791-5185. mrwillys@aol.com\nREPORTER:  Same\nMEETING & JAM:  1st Friday of every month 10 am-Noon Faith Baptist Church 436 Coal Creek Rd\, Chehalis\n \nLink to Chord Charts for Common Jam Tunes
URL:https://wotfa.org/event/district-9-monthly-meeting-and-jam/2023-05-05/
LOCATION:Faith Baptist Church\, 436 Coal Creek Rd\, Chehalis\, 98532
CATEGORIES:District 9
ATTACH;FMTTYPE=image/png:https://wotfa.org/wp-content/uploads/2020/10/district-9.png
ORGANIZER;CN="Christie Easter":MAILTO:mrwillys@aol.com
END:VEVENT
BEGIN:VEVENT
DTSTART;TZID=America/Los_Angeles:20230508T133000
DTEND;TZID=America/Los_Angeles:20230508T153000
DTSTAMP:20260423T110902
CREATED:20220225T171331Z
LAST-MODIFIED:20230314T183544Z
UID:10001840-1683552600-1683559800@wotfa.org
SUMMARY:District 8 - Circle Jam at Puyallup Senior Center
DESCRIPTION:Easy to find\, Easy to park – great little circle jam in a nice space.  All are welcome to join or listen
URL:https://wotfa.org/event/district-8-circle-jam-at-puyallup-senior-center/2023-05-08/
LOCATION:Puyallup Senior Activity Center\, 210 W Pioneer Ave\, Puyallup\, WA\, 98371\, United States
CATEGORIES:District 8,Jam Session,Open Jams
ATTACH;FMTTYPE=image/png:https://wotfa.org/wp-content/uploads/2022/02/puyallupsenior.png
END:VEVENT
BEGIN:VEVENT
DTSTART;TZID=America/Los_Angeles:20230512T183000
DTEND;TZID=America/Los_Angeles:20230512T210000
DTSTAMP:20260423T110902
CREATED:20190906T032948Z
LAST-MODIFIED:20240309T235946Z
UID:10000846-1683916200-1683925200@wotfa.org
SUMMARY:Monthly District 4 Meeting and Jam
DESCRIPTION:Meeting and Jam every 2nd Friday of the month \nJam every 4th Friday of the month \nBoth at the Mount Vernon Sr. Ctr. (map below) 1401 Cleveland\n \nChair / Reporter – Interim Chair Fred Robbins\, fred@robbinsmetal.com 206-786-3369\nTreasurer – Sarah Buntin\, Cell 360-320-1696\, email: <itsrustyoldhalo@frontier.com>\nEvent scheduling – Sarah Buntin- Phone # 360-679-6595\nInterim Secretary – Fred Robbins\, fred@robbinsmetal.com\nCalendar – Fred Robbins email: fred@robbinsmetal.com
URL:https://wotfa.org/event/district-4-meeting-and-jam/2023-05-12/
LOCATION:Mt. Vernon Senior Center\, 1401 Cleveland St\, Mt. Vernon\, WA\, 98273\, United States
CATEGORIES:District 4,Jam Session,Meeting,Open Jams
ATTACH;FMTTYPE=image/png:https://wotfa.org/wp-content/uploads/2020/10/district-4.png
END:VEVENT
BEGIN:VEVENT
DTSTART;TZID=America/Los_Angeles:20230514T140000
DTEND;TZID=America/Los_Angeles:20230514T170000
DTSTAMP:20260423T110902
CREATED:20220808T234841Z
LAST-MODIFIED:20220808T234952Z
UID:10001242-1684072800-1684083600@wotfa.org
SUMMARY:District 12 Monthly Meeting and Jam
DESCRIPTION:Monthly Meeting: \n2nd Sunday at Trios Adult Day Services Building\, 10 N. Washington St. Kennewick. (Enter at back) \nDoors open at 2:00PM for jamming; Finger potluck at 3:00\, followed by short business meeting and more jamming.
URL:https://wotfa.org/event/district-12-monthly-meeting-and-jam/2023-05-14/
LOCATION:Trios Adult Day Services Building\, 10 N. Washington St\, Kennewick\, WA\, 99336\, United States
CATEGORIES:District 12
ATTACH;FMTTYPE=image/png:https://wotfa.org/wp-content/uploads/2020/10/district-12.png
ORGANIZER;CN="Joe Gunter":MAILTO:gunterboys43@gmail.com
END:VEVENT
BEGIN:VEVENT
DTSTART;TZID=America/Los_Angeles:20230515T133000
DTEND;TZID=America/Los_Angeles:20230515T153000
DTSTAMP:20260423T110902
CREATED:20220225T171331Z
LAST-MODIFIED:20230314T183544Z
UID:10001841-1684157400-1684164600@wotfa.org
SUMMARY:District 8 - Circle Jam at Puyallup Senior Center
DESCRIPTION:Easy to find\, Easy to park – great little circle jam in a nice space.  All are welcome to join or listen
URL:https://wotfa.org/event/district-8-circle-jam-at-puyallup-senior-center/2023-05-15/
LOCATION:Puyallup Senior Activity Center\, 210 W Pioneer Ave\, Puyallup\, WA\, 98371\, United States
CATEGORIES:District 8,Jam Session,Open Jams
ATTACH;FMTTYPE=image/png:https://wotfa.org/wp-content/uploads/2022/02/puyallupsenior.png
END:VEVENT
BEGIN:VEVENT
DTSTART;TZID=America/Los_Angeles:20230516T130000
DTEND;TZID=America/Los_Angeles:20230516T160000
DTSTAMP:20260423T110902
CREATED:20221216T004133Z
LAST-MODIFIED:20240926T034833Z
UID:10001314-1684242000-1684252800@wotfa.org
SUMMARY:District 5 Jam (Third Tuesday at Kitsap Mall)
DESCRIPTION:Join us at the Kitsap Mall in Silverdale for an afternoon circle jam every 1st and 3rd Tuesday of the month.  Look for us in the Community Room next to Dick’s Sporting Goods.  All acoustic instruments and abilities are welcome.  Written music is often available.
URL:https://wotfa.org/event/district-5-jam/2023-05-16/
LOCATION:Kitsap Mall\, 10315 Silverdale Way\, Silverdale\, WA\, 98383\, United States
CATEGORIES:District 5,Jam Session,Open Jams
ORGANIZER;CN="Kay McCarthy":MAILTO:kaycmccarthy@gmail.com
END:VEVENT
BEGIN:VEVENT
DTSTART;TZID=America/Los_Angeles:20230519T140000
DTEND;TZID=America/Los_Angeles:20230519T170000
DTSTAMP:20260423T110902
CREATED:20220808T230643Z
LAST-MODIFIED:20220808T231235Z
UID:10001260-1684504800-1684515600@wotfa.org
SUMMARY:District 3 Meeting and Jam
DESCRIPTION:District 3 meets monthly at the Eagles (Wenatchee Eagles Lodge #204 ~ 1208 N. Wenatchee Ave. Wenatchee\, WA) on the 3rd Friday of the month at 2pm.
URL:https://wotfa.org/event/district-3-meeting-and-jam/2023-05-19/
LOCATION:Wenatchee Eagles Lodge #204\, 1208 N. Wenatchee Ave.\, Wenatchee\, WA\, 98801\, United States
CATEGORIES:District 3
ATTACH;FMTTYPE=image/png:https://wotfa.org/wp-content/uploads/2020/10/district-3.png
END:VEVENT
BEGIN:VEVENT
DTSTART;TZID=America/Los_Angeles:20230520T120000
DTEND;TZID=America/Los_Angeles:20230520T150000
DTSTAMP:20260423T110902
CREATED:20220802T224421Z
LAST-MODIFIED:20220802T224942Z
UID:10001225-1684584000-1684594800@wotfa.org
SUMMARY:District 5 Monthly Meeting and Jam
DESCRIPTION:Our regular monthly meetings will begin again the third Saturday of September at the Kitsap Square Dance Club in Gorst.  We look forward to seeing you all again!
URL:https://wotfa.org/event/monthly-district-5-meeting-and-jam/2023-05-20/
LOCATION:Kitsap Square Dance Club\, 6800 W Belfair Valley Rd\, Bremerton\, WA\, 98312
CATEGORIES:District 5,Jam Session
ATTACH;FMTTYPE=image/png:https://wotfa.org/wp-content/uploads/2020/10/district-5.png
ORGANIZER;CN="Laura and Will Farr":MAILTO:wlzfarr@msn.com
END:VEVENT
BEGIN:VEVENT
DTSTART;TZID=America/Los_Angeles:20230521T133000
DTEND;TZID=America/Los_Angeles:20230521T160000
DTSTAMP:20260423T110902
CREATED:20220808T232915Z
LAST-MODIFIED:20220808T234514Z
UID:10001278-1684675800-1684684800@wotfa.org
SUMMARY:District 11 Monthly Meeting and Jam
DESCRIPTION:Monthly Meeting and Jam: \n3rd Sunday at 1:30 PM – Jam 2:00-4:00. Moses Lake Senior Center\, 608 E. 3rd Ave. Moses Lake
URL:https://wotfa.org/event/district-11-monthly-meeting-and-jam/2023-05-21/
LOCATION:Moses Lake Senior Center\, 608 E. 3rd Ave\, Moses Lake\, WA\, 98837\, United States
CATEGORIES:District 11
ATTACH;FMTTYPE=image/png:https://wotfa.org/wp-content/uploads/2020/10/district-11.png
ORGANIZER;CN="Charlie Root":MAILTO:clroot@sosmail.us
END:VEVENT
BEGIN:VEVENT
DTSTART;TZID=America/Los_Angeles:20230521T140000
DTEND;TZID=America/Los_Angeles:20230521T170000
DTSTAMP:20260423T110902
CREATED:20211120T151529Z
LAST-MODIFIED:20230207T015404Z
UID:10001056-1684677600-1684688400@wotfa.org
SUMMARY:District 8 Meeting and Jam
DESCRIPTION:In-Person District 8 Meeting\n Short Meeting\, Followed by LOOOONG jam!!!\n \nThe Mid County Community Center has reopened\, and monthly meetings will resume there in September! \n10205 44th Ave E\, Tacoma\, WA 98446  https://goo.gl/maps/dCPbMrM8sLDcDZk36
URL:https://wotfa.org/event/district-8-meeting-and-jam/2023-05-21/
LOCATION:Mid-County Community Center\, 10205 44th Ave E\, Tacoma\, WA\, 98446\, United States
CATEGORIES:District 8
END:VEVENT
BEGIN:VEVENT
DTSTART;TZID=America/Los_Angeles:20230522T133000
DTEND;TZID=America/Los_Angeles:20230522T153000
DTSTAMP:20260423T110902
CREATED:20220225T171331Z
LAST-MODIFIED:20230314T183544Z
UID:10001842-1684762200-1684769400@wotfa.org
SUMMARY:District 8 - Circle Jam at Puyallup Senior Center
DESCRIPTION:Easy to find\, Easy to park – great little circle jam in a nice space.  All are welcome to join or listen
URL:https://wotfa.org/event/district-8-circle-jam-at-puyallup-senior-center/2023-05-22/
LOCATION:Puyallup Senior Activity Center\, 210 W Pioneer Ave\, Puyallup\, WA\, 98371\, United States
CATEGORIES:District 8,Jam Session,Open Jams
ATTACH;FMTTYPE=image/png:https://wotfa.org/wp-content/uploads/2022/02/puyallupsenior.png
END:VEVENT
BEGIN:VEVENT
DTSTART;TZID=America/Los_Angeles:20230526T183000
DTEND;TZID=America/Los_Angeles:20230526T213000
DTSTAMP:20260423T110902
CREATED:20220802T221853Z
LAST-MODIFIED:20240310T000033Z
UID:10001196-1685125800-1685136600@wotfa.org
SUMMARY:Monthly District 4 Jam
DESCRIPTION:Meeting and Jam every 2nd Friday of the month \nJam every 4th Friday of the month \nBoth at the Mount Vernon Sr. Ctr. (map below) 1401 Cleveland\n \nChair / Reporter – Interim Chair Fred Robbins\, fred@robbinsmetal.com 206-786-3369\nTreasurer – Sarah Buntin\, Cell 360-320-1696\, email: <itsrustyoldhalo@frontier.com>\nEvent scheduling – Sarah Buntin- Phone # 360-679-6595\nInterim Secretary – Fred Robbins\, fred@robbinsmetal.com\nCalendar – Fred Robbins email: fred@robbinsmetal.com
URL:https://wotfa.org/event/monthly-district-4-jam/2023-05-26/
LOCATION:Mt. Vernon Senior Center\, 1401 Cleveland St\, Mt. Vernon\, WA\, 98273\, United States
CATEGORIES:District 4,Jam Session,Open Jams
ATTACH;FMTTYPE=image/png:https://wotfa.org/wp-content/uploads/2020/10/district-4.png
END:VEVENT
BEGIN:VEVENT
DTSTART;TZID=America/Los_Angeles:20230529T133000
DTEND;TZID=America/Los_Angeles:20230529T153000
DTSTAMP:20260423T110902
CREATED:20220225T171331Z
LAST-MODIFIED:20230314T183544Z
UID:10001843-1685367000-1685374200@wotfa.org
SUMMARY:District 8 - Circle Jam at Puyallup Senior Center
DESCRIPTION:Easy to find\, Easy to park – great little circle jam in a nice space.  All are welcome to join or listen
URL:https://wotfa.org/event/district-8-circle-jam-at-puyallup-senior-center/2023-05-29/
LOCATION:Puyallup Senior Activity Center\, 210 W Pioneer Ave\, Puyallup\, WA\, 98371\, United States
CATEGORIES:District 8,Jam Session,Open Jams
ATTACH;FMTTYPE=image/png:https://wotfa.org/wp-content/uploads/2022/02/puyallupsenior.png
END:VEVENT
END:VCALENDAR