BEGIN:VCALENDAR
VERSION:2.0
PRODID:-//Washington Old Time Fiddlers Association - ECPv6.15.12.2//NONSGML v1.0//EN
CALSCALE:GREGORIAN
METHOD:PUBLISH
X-WR-CALNAME:Washington Old Time Fiddlers Association
X-ORIGINAL-URL:https://wotfa.org
X-WR-CALDESC:Events for Washington Old Time Fiddlers Association
REFRESH-INTERVAL;VALUE=DURATION:PT1H
X-Robots-Tag:noindex
X-PUBLISHED-TTL:PT1H
BEGIN:VTIMEZONE
TZID:America/Los_Angeles
BEGIN:DAYLIGHT
TZOFFSETFROM:-0800
TZOFFSETTO:-0700
TZNAME:PDT
DTSTART:20250309T100000
END:DAYLIGHT
BEGIN:STANDARD
TZOFFSETFROM:-0700
TZOFFSETTO:-0800
TZNAME:PST
DTSTART:20251102T090000
END:STANDARD
BEGIN:DAYLIGHT
TZOFFSETFROM:-0800
TZOFFSETTO:-0700
TZNAME:PDT
DTSTART:20260308T100000
END:DAYLIGHT
BEGIN:STANDARD
TZOFFSETFROM:-0700
TZOFFSETTO:-0800
TZNAME:PST
DTSTART:20261101T090000
END:STANDARD
BEGIN:DAYLIGHT
TZOFFSETFROM:-0800
TZOFFSETTO:-0700
TZNAME:PDT
DTSTART:20270314T100000
END:DAYLIGHT
BEGIN:STANDARD
TZOFFSETFROM:-0700
TZOFFSETTO:-0800
TZNAME:PST
DTSTART:20271107T090000
END:STANDARD
END:VTIMEZONE
BEGIN:VEVENT
DTSTART;TZID=America/Los_Angeles:20260424T150000
DTEND;TZID=America/Los_Angeles:20260424T230000
DTSTAMP:20260423T144955
CREATED:20251128T230028Z
LAST-MODIFIED:20260106T223542Z
UID:10003371-1777042800-1777071600@wotfa.org
SUMMARY:WOTFA District 16 4th Friday jam and (short) business meeting
DESCRIPTION:The title says it all! – well\, most. \nThis is a friendly\, non-threatening\, circle-jam\, and a lot of fun.  Acoustic instrument players of all ages and levels welcomed\, as are listeners and (if we are lucky) dancers.  Singing\, sheet music and ear-learners all appreciated.  Business meeting is short and non-contentious.  We serve coffee and have cocoa and tea available; snacks are up to the participants. \n2nd and 4th Friday jams continue through the year\,   with the exceptions of Christmas Eve\, Christmas Day\, and  Thanksgiving.
URL:https://wotfa.org/event/wotfa-d14-4th-friday-jam-and-short-business-meeting/2026-04-24/
LOCATION:Sisco Heights Community Club\, 13527 99th Ave. NE\, Arlington\, 98223
CATEGORIES:District 16,Jam Session,Meeting,Open Jams
ATTACH;FMTTYPE=image/jpeg:https://wotfa.org/wp-content/uploads/2024/09/cat-and-fiddle-e1727392607751.jpeg
ORGANIZER;CN="Noel Lareau":MAILTO:noelula@aol.com
END:VEVENT
BEGIN:VEVENT
DTSTART;TZID=America/Los_Angeles:20260425T110000
DTEND;TZID=America/Los_Angeles:20260425T150000
DTSTAMP:20260423T144955
CREATED:20260407T020350Z
LAST-MODIFIED:20260407T020350Z
UID:10004074-1777114800-1777129200@wotfa.org
SUMMARY:District 15 Jam
DESCRIPTION:Old Time Fiddle jam. \nTri Area Community Center\n\n\n\n\n\n\n\n10 West Valley Rd.\, Chimacum
URL:https://wotfa.org/event/district-15-jam/
LOCATION:WA
CATEGORIES:District 15
END:VEVENT
BEGIN:VEVENT
DTSTART;TZID=America/Los_Angeles:20260425T130000
DTEND;TZID=America/Los_Angeles:20260425T160000
DTSTAMP:20260423T144955
CREATED:20251218T012546Z
LAST-MODIFIED:20260111T034103Z
UID:10004049-1777122000-1777132800@wotfa.org
SUMMARY:District 6 Jam
DESCRIPTION:We get together just to jam\, learn and socialize once a month.  It’s really a fun time to play music together.  If there is interest\, Bernie will teach a lesson on guitar or mandolin if you contact him ahead of time.   All are welcome.  Come anytime you like.
URL:https://wotfa.org/event/district-6-jam-6/2026-04-25/
LOCATION:WA
CATEGORIES:District 6,Jam Session,Open Jams
ATTACH;FMTTYPE=image/jpeg:https://wotfa.org/wp-content/uploads/2025/12/junejam3-scaled.jpg
ORGANIZER;CN="Bernie Turner":MAILTO:bernus.turner@comcast.net
END:VEVENT
BEGIN:VEVENT
DTSTART;TZID=America/Los_Angeles:20260502T130000
DTEND;TZID=America/Los_Angeles:20260502T160000
DTSTAMP:20260423T144955
CREATED:20260213T030738Z
LAST-MODIFIED:20260213T201316Z
UID:10004060-1777726800-1777737600@wotfa.org
SUMMARY:District 6 - Bonus Spring Jams
DESCRIPTION:We’ve added 2 bonus jams for 2026 because we still find we want to jam in May and June before we take a break in the summer.  During these bonus jams\, we get together just to play music\, learn and socialize.  It’s really a fun time to jam together.  If there is interest\, Bernie will teach a lesson on guitar or mandolin if you contact him ahead of time.   Sometimes we have a short meeting.  All are welcome.  Come anytime you like.
URL:https://wotfa.org/event/bonus-spring-jams/2026-05-02/
LOCATION:Des Moines Masonic Lodge\, 2208 S 223rd St\, Des Moines\, WA\, 98198\, United States
CATEGORIES:District 6,Jam Session,Open Jams
ATTACH;FMTTYPE=image/jpeg:https://wotfa.org/wp-content/uploads/2026/02/may3jam7-scaled.jpg
ORGANIZER;CN="Bernie Turner":MAILTO:bernus.turner@comcast.net
END:VEVENT
BEGIN:VEVENT
DTSTART;VALUE=DATE:20260508
DTEND;VALUE=DATE:20260510
DTSTAMP:20260423T144955
CREATED:20260407T020503Z
LAST-MODIFIED:20260407T020503Z
UID:10004069-1778198400-1778371199@wotfa.org
SUMMARY:Fiddlers on the Peak
DESCRIPTION:Old time fiddling and picking contest
URL:https://wotfa.org/event/fiddlers-on-the-peak-5/
LOCATION:The Addy Grange\, 1376 Main St\, Addy\, WA\, 99101\, United States
CATEGORIES:Contest
ORGANIZER;CN="Joan Mooney":MAILTO:fiddlersonthepeak@icloud.com
END:VEVENT
BEGIN:VEVENT
DTSTART;TZID=America/Los_Angeles:20260524T130000
DTEND;TZID=America/Los_Angeles:20260524T170000
DTSTAMP:20260423T144955
CREATED:20260225T010753Z
LAST-MODIFIED:20260225T010753Z
UID:10004065-1779627600-1779642000@wotfa.org
SUMMARY:Celebration of Life for Denice Carter
DESCRIPTION:We invite you to join us in celebrating the life of Denice CarterJanuary 5\, 1962 – January 6\, 2026 \nDenice was a beloved community leader\, musician\, and teacher whose passion for music and fellowship touched many. She served as Chair of District 10\, where she fostered connection and growth across the region. Denice was also well known for organizing and running the annual fiddle contest at the State Fair\, bringing joy to performers and audiences alike. \nFriends\, family\, and all who knew Denice are welcome to gather in her honor for an afternoon of remembrance\, music\, and community. \nCelebration Potluck & Jam Session\nSunday\, May 24\, 20261:00 PM \nLocation:14000 NE 49th StreetVancouver\, WA 98682 \nThis celebration will include a potluck meal — please bring a dish to share if you’re able. In keeping with Denice’s love of music\, we’ll also host an informal jam session. Musicians are encouraged to bring instruments and contribute to a joyful tribute. \nLet’s come together to honor Denice’s life\, her leadership\, and the many ways she enriched our community.
URL:https://wotfa.org/event/celebration-of-life-for-denice-carter/
LOCATION:14000 NE 49th Street\, 14000 NE 49th Street\, Vancouver\, 98682\, United States
CATEGORIES:District 10,District 7,District 9,Featured,Jam Session,Open Jams
ATTACH;FMTTYPE=image/png:https://wotfa.org/wp-content/uploads/2026/02/IMG_2524-e1771981642576.png
ORGANIZER;CN="Christie Easter":MAILTO:mrwillys@aol.com
END:VEVENT
BEGIN:VEVENT
DTSTART;TZID=America/Los_Angeles:20260905T110000
DTEND;TZID=America/Los_Angeles:20260905T160000
DTSTAMP:20260423T144955
CREATED:20260417T210338Z
LAST-MODIFIED:20260417T210338Z
UID:10004076-1788606000-1788624000@wotfa.org
SUMMARY:District 6 Meeting/Jam
DESCRIPTION:We get together to jam\, learn\, eat\, socialize and have a meeting once a month.  All are welcome.  If you would like to have a lesson on mandolin or guitar\, contact Bernie Turner (the organizer of this event) before the date to let him know.  Come anytime you like but note that we stop for a short meeting at 1 pm and then eat lunch together after that.  There is jamming before and after the meeting and lunch break.  Any questions\, email Jenny Swanson at timbuktoe@yahoo.com
URL:https://wotfa.org/event/district-6-meeting-jam-3/2026-09-05/
LOCATION:Des Moines Masonic Lodge\, 2208 S 223rd St\, Des Moines\, WA\, 98198\, United States
CATEGORIES:District 6,Jam Session,Meeting,Open Jams
ATTACH;FMTTYPE=image/jpeg:https://wotfa.org/wp-content/uploads/2026/04/janmtg7-scaled.jpg
ORGANIZER;CN="Bernie Turner":MAILTO:bernus.turner@comcast.net
END:VEVENT
BEGIN:VEVENT
DTSTART;TZID=America/Los_Angeles:20260926T130000
DTEND;TZID=America/Los_Angeles:20260926T160000
DTSTAMP:20260423T144955
CREATED:20260417T210132Z
LAST-MODIFIED:20260417T210132Z
UID:10004079-1790427600-1790438400@wotfa.org
SUMMARY:District 6 Jam
DESCRIPTION:We get together just to jam\, learn and socialize once a month.  It’s really a fun time to play music together.  If there is interest\, Bernie will teach a lesson on guitar or mandolin if you contact him ahead of time.   All are welcome.  Come anytime you like.  Any questions contact Jenny Swanson at timbuktoe@yahoo.com
URL:https://wotfa.org/event/district-6-jam-7/2026-09-26/
LOCATION:Des Moines Masonic Lodge\, 2208 S 223rd St\, Des Moines\, WA\, 98198\, United States
CATEGORIES:District 6,Jam Session,Open Jams
ATTACH;FMTTYPE=image/jpeg:https://wotfa.org/wp-content/uploads/2026/04/aprilmtg-6-scaled.jpg
ORGANIZER;CN="Bernie Turner":MAILTO:bernus.turner@comcast.net
END:VEVENT
BEGIN:VEVENT
DTSTART;TZID=America/Los_Angeles:20261205T110000
DTEND;TZID=America/Los_Angeles:20261205T160000
DTSTAMP:20260423T144955
CREATED:20260417T210053Z
LAST-MODIFIED:20260417T210053Z
UID:10004081-1796468400-1796486400@wotfa.org
SUMMARY:District 6 Christmas Party
DESCRIPTION:The District 6 Christmas party is held the first Saturday of December every year at the Mason’s hall in DesMoines\, Wa.  We get together to jam\, eat\, and enjoy each other’s company.  During the jam\, we play mostly Christmas songs\, but any song you pick will be accepted.  There are people of every musical ability and age.  Some people come just to sing or to listen to the music.  All are welcome.  The District provides a ham for the potluck and you are welcome to bring food to share\, although that is not required.  Doors open at 11 am and we eat as soon as most people have arrived. (usually around noon or a little later)  Otherwise\, we spend our time until 4 pm doing lots of jamming.
URL:https://wotfa.org/event/district-6-christmas-party-4/
LOCATION:Des Moines Masonic Lodge\, 2208 S 223rd St\, Des Moines\, WA\, 98198\, United States
CATEGORIES:District 6,Jam Session,Open Jams
ATTACH;FMTTYPE=image/jpeg:https://wotfa.org/wp-content/uploads/2026/04/dec9-scaled.jpg
ORGANIZER;CN="Bernie Turner":MAILTO:bernus.turner@comcast.net
END:VEVENT
END:VCALENDAR