BEGIN:VCALENDAR
VERSION:2.0
PRODID:-//Washington Old Time Fiddlers Association - ECPv6.15.12.2//NONSGML v1.0//EN
CALSCALE:GREGORIAN
METHOD:PUBLISH
X-ORIGINAL-URL:https://wotfa.org
X-WR-CALDESC:Events for Washington Old Time Fiddlers Association
REFRESH-INTERVAL;VALUE=DURATION:PT1H
X-Robots-Tag:noindex
X-PUBLISHED-TTL:PT1H
BEGIN:VTIMEZONE
TZID:America/Los_Angeles
BEGIN:DAYLIGHT
TZOFFSETFROM:-0800
TZOFFSETTO:-0700
TZNAME:PDT
DTSTART:20250309T100000
END:DAYLIGHT
BEGIN:STANDARD
TZOFFSETFROM:-0700
TZOFFSETTO:-0800
TZNAME:PST
DTSTART:20251102T090000
END:STANDARD
BEGIN:DAYLIGHT
TZOFFSETFROM:-0800
TZOFFSETTO:-0700
TZNAME:PDT
DTSTART:20260308T100000
END:DAYLIGHT
BEGIN:STANDARD
TZOFFSETFROM:-0700
TZOFFSETTO:-0800
TZNAME:PST
DTSTART:20261101T090000
END:STANDARD
BEGIN:DAYLIGHT
TZOFFSETFROM:-0800
TZOFFSETTO:-0700
TZNAME:PDT
DTSTART:20270314T100000
END:DAYLIGHT
BEGIN:STANDARD
TZOFFSETFROM:-0700
TZOFFSETTO:-0800
TZNAME:PST
DTSTART:20271107T090000
END:STANDARD
END:VTIMEZONE
BEGIN:VEVENT
DTSTART;TZID=America/Los_Angeles:20260307T110000
DTEND;TZID=America/Los_Angeles:20260307T160000
DTSTAMP:20260423T031940
CREATED:20251218T012620Z
LAST-MODIFIED:20260106T223918Z
UID:10003188-1772881200-1772899200@wotfa.org
SUMMARY:District 6 Meeting/Jam
DESCRIPTION:We get together to jam\, learn\, eat\, socialize and have a meeting once a month.  All are welcome.  If you would like to have a lesson on mandolin or guitar\, contact Bernie Turner before the date to let him know.  Come anytime you like but note that we stop for a short meeting at 1 pm and then eat lunch together after that.  There is jamming before and after the meeting and lunch break.
URL:https://wotfa.org/event/district-6-meeting-jam-2/2026-03-07/
LOCATION:Des Moines Masonic Lodge\, 2208 S 223rd St\, Des Moines\, WA\, 98198\, United States
CATEGORIES:District 6,Jam Session,Meeting,Open Jams
ATTACH;FMTTYPE=image/jpeg:https://wotfa.org/wp-content/uploads/2025/12/septmtg10-scaled.jpg
ORGANIZER;CN="Bernie Turner":MAILTO:bernus.turner@comcast.net
END:VEVENT
BEGIN:VEVENT
DTSTART;TZID=America/Los_Angeles:20260315T140000
DTEND;TZID=America/Los_Angeles:20260315T170000
DTSTAMP:20260423T031940
CREATED:20251221T220031Z
LAST-MODIFIED:20260106T223420Z
UID:10003310-1773583200-1773594000@wotfa.org
SUMMARY:District 8 Monthly Jam (with a little meeting)
DESCRIPTION:3rd Sundays 2PM District 8 Meeting and Jam. We’ll have a short meeting followed by longer circle jam at 10205 44th Ave E\, Tacoma 98446. Behind the school where there’s plenty of parking. Bring a friend and an instrument. Meet some nice people! Finger foods welcome.
URL:https://wotfa.org/event/district-8-monthly-jam-with-a-little-meeting-3/2026-03-15/
LOCATION:Mid-County Community Center\, 10205 44th Ave E\, Tacoma\, WA\, 98446\, United States
CATEGORIES:District 8,Jam Session,Meeting,Open Jams
ATTACH;FMTTYPE=image/jpeg:https://wotfa.org/wp-content/uploads/2023/06/MCCC.jpg
END:VEVENT
BEGIN:VEVENT
DTSTART;TZID=America/Los_Angeles:20260317T120000
DTEND;TZID=America/Los_Angeles:20260317T160000
DTSTAMP:20260423T031941
CREATED:20260217T020524Z
LAST-MODIFIED:20260217T020524Z
UID:10004063-1773748800-1773763200@wotfa.org
SUMMARY:Tuesday March 17 Meeting and Jam - district 5
DESCRIPTION:Meeting to start at noon. No potluck as food is discouraged in the community room. Jam to follow until 4:00.
URL:https://wotfa.org/event/3rd-saturday-meeting-and-jam-district-5-3/2026-03-17/
LOCATION:Kitsap Mall\, 10315 Silverdale Way\, Silverdale\, WA\, 98383\, United States
CATEGORIES:District 5,Meeting,Open Jams
ATTACH;FMTTYPE=image/jpeg:https://wotfa.org/wp-content/uploads/2025/09/sqdh-1.jpg
ORGANIZER;CN="Kent McCabe":MAILTO:dkmccabe0723@gmail.com
END:VEVENT
BEGIN:VEVENT
DTSTART;TZID=America/Los_Angeles:20260327T150000
DTEND;TZID=America/Los_Angeles:20260327T230000
DTSTAMP:20260423T031941
CREATED:20251128T230028Z
LAST-MODIFIED:20260106T223542Z
UID:10003370-1774623600-1774652400@wotfa.org
SUMMARY:WOTFA District 16 4th Friday jam and (short) business meeting
DESCRIPTION:The title says it all! – well\, most. \nThis is a friendly\, non-threatening\, circle-jam\, and a lot of fun.  Acoustic instrument players of all ages and levels welcomed\, as are listeners and (if we are lucky) dancers.  Singing\, sheet music and ear-learners all appreciated.  Business meeting is short and non-contentious.  We serve coffee and have cocoa and tea available; snacks are up to the participants. \n2nd and 4th Friday jams continue through the year\,   with the exceptions of Christmas Eve\, Christmas Day\, and  Thanksgiving.
URL:https://wotfa.org/event/wotfa-d14-4th-friday-jam-and-short-business-meeting/2026-03-27/
LOCATION:Sisco Heights Community Club\, 13527 99th Ave. NE\, Arlington\, 98223
CATEGORIES:District 16,Jam Session,Meeting,Open Jams
ATTACH;FMTTYPE=image/jpeg:https://wotfa.org/wp-content/uploads/2024/09/cat-and-fiddle-e1727392607751.jpeg
ORGANIZER;CN="Noel Lareau":MAILTO:noelula@aol.com
END:VEVENT
BEGIN:VEVENT
DTSTART;TZID=America/Los_Angeles:20260403T110000
DTEND;TZID=America/Los_Angeles:20260403T230000
DTSTAMP:20260423T031941
CREATED:20260323T154759Z
LAST-MODIFIED:20260323T154759Z
UID:10004067-1775214000-1775257200@wotfa.org
SUMMARY:April Open Acoustic Jam & Meeting
DESCRIPTION:Please join WOTFA District 9 for our April Open Acoustic Jam & Meeting on Friday\, April 3rd\, 2026 from 11:00am-1:00pm at the Lewis County Historical Museum\, located at 599 NW Front Way in downtown Chehalis. There is lots of parking by the front doors and more parking on the backside of the museum.  We will be jamming just inside the front doors.  There will be coffee and tea and some snacks but it won’t be a potluck.  The museum doesn’t charge us to use the facility but they do ask that if people could leave a few dollars in their donation can at the front desk they would be grateful.\nIf you have questions or need more information please give me (Christie) a call or text at 360-791-5185
URL:https://wotfa.org/event/april-open-acoustic-jam-meeting/
LOCATION:Lewis County Historical Museum\, 99 NW Front Way\, Chehalis\, 98532
CATEGORIES:District 9,Jam Session,Meeting,Open Jams
ATTACH;FMTTYPE=image/png:https://wotfa.org/wp-content/uploads/2026/02/IMG_1092-3-e1772562625464.png
ORGANIZER;CN="Christie Easter":MAILTO:mrwillys@aol.com
END:VEVENT
BEGIN:VEVENT
DTSTART;TZID=America/Los_Angeles:20260905T110000
DTEND;TZID=America/Los_Angeles:20260905T160000
DTSTAMP:20260423T031941
CREATED:20260417T210338Z
LAST-MODIFIED:20260417T210338Z
UID:10004076-1788606000-1788624000@wotfa.org
SUMMARY:District 6 Meeting/Jam
DESCRIPTION:We get together to jam\, learn\, eat\, socialize and have a meeting once a month.  All are welcome.  If you would like to have a lesson on mandolin or guitar\, contact Bernie Turner (the organizer of this event) before the date to let him know.  Come anytime you like but note that we stop for a short meeting at 1 pm and then eat lunch together after that.  There is jamming before and after the meeting and lunch break.  Any questions\, email Jenny Swanson at timbuktoe@yahoo.com
URL:https://wotfa.org/event/district-6-meeting-jam-3/2026-09-05/
LOCATION:Des Moines Masonic Lodge\, 2208 S 223rd St\, Des Moines\, WA\, 98198\, United States
CATEGORIES:District 6,Jam Session,Meeting,Open Jams
ATTACH;FMTTYPE=image/jpeg:https://wotfa.org/wp-content/uploads/2026/04/janmtg7-scaled.jpg
ORGANIZER;CN="Bernie Turner":MAILTO:bernus.turner@comcast.net
END:VEVENT
END:VCALENDAR