BEGIN:VCALENDAR
VERSION:2.0
PRODID:-//Washington Old Time Fiddlers Association - ECPv6.15.12.2//NONSGML v1.0//EN
CALSCALE:GREGORIAN
METHOD:PUBLISH
X-ORIGINAL-URL:https://wotfa.org
X-WR-CALDESC:Events for Washington Old Time Fiddlers Association
REFRESH-INTERVAL;VALUE=DURATION:PT1H
X-Robots-Tag:noindex
X-PUBLISHED-TTL:PT1H
BEGIN:VTIMEZONE
TZID:America/Los_Angeles
BEGIN:DAYLIGHT
TZOFFSETFROM:-0800
TZOFFSETTO:-0700
TZNAME:PDT
DTSTART:20220313T100000
END:DAYLIGHT
BEGIN:STANDARD
TZOFFSETFROM:-0700
TZOFFSETTO:-0800
TZNAME:PST
DTSTART:20221106T090000
END:STANDARD
BEGIN:DAYLIGHT
TZOFFSETFROM:-0800
TZOFFSETTO:-0700
TZNAME:PDT
DTSTART:20230312T100000
END:DAYLIGHT
BEGIN:STANDARD
TZOFFSETFROM:-0700
TZOFFSETTO:-0800
TZNAME:PST
DTSTART:20231105T090000
END:STANDARD
BEGIN:DAYLIGHT
TZOFFSETFROM:-0800
TZOFFSETTO:-0700
TZNAME:PDT
DTSTART:20240310T100000
END:DAYLIGHT
BEGIN:STANDARD
TZOFFSETFROM:-0700
TZOFFSETTO:-0800
TZNAME:PST
DTSTART:20241103T090000
END:STANDARD
BEGIN:DAYLIGHT
TZOFFSETFROM:-0800
TZOFFSETTO:-0700
TZNAME:PDT
DTSTART:20250309T100000
END:DAYLIGHT
BEGIN:STANDARD
TZOFFSETFROM:-0700
TZOFFSETTO:-0800
TZNAME:PST
DTSTART:20251102T090000
END:STANDARD
BEGIN:DAYLIGHT
TZOFFSETFROM:-0800
TZOFFSETTO:-0700
TZNAME:PDT
DTSTART:20260308T100000
END:DAYLIGHT
BEGIN:STANDARD
TZOFFSETFROM:-0700
TZOFFSETTO:-0800
TZNAME:PST
DTSTART:20261101T090000
END:STANDARD
END:VTIMEZONE
BEGIN:VEVENT
DTSTART;TZID=America/Los_Angeles:20251115T183000
DTEND;TZID=America/Los_Angeles:20251115T210000
DTSTAMP:20260423T111835
CREATED:20251109T223432Z
LAST-MODIFIED:20251109T223432Z
UID:10003181-1763231400-1763240400@wotfa.org
SUMMARY:Old Time Music and Dance Party - Ohop Grange
DESCRIPTION:Presented by the District 8 Dance Band and The Ohop Grange \nAll dances taught on the spot\, by WOTFA’s own Amy Carrol
URL:https://wotfa.org/event/old-time-music-and-dance-party-ohop-grange/
LOCATION:Ohop Grange\, 41608 Mountain Highway East\, Eatonville\, 98328\, United States
CATEGORIES:Contra Dance,District 8,Family Dance,Featured,Square Dance
ATTACH;FMTTYPE=image/png:https://wotfa.org/wp-content/uploads/2025/11/sillouette-dancers.png
END:VEVENT
BEGIN:VEVENT
DTSTART;TZID=America/Los_Angeles:20251019T150000
DTEND;TZID=America/Los_Angeles:20251019T170000
DTSTAMP:20260423T111835
CREATED:20250911T204803Z
LAST-MODIFIED:20250911T215428Z
UID:10003147-1760886000-1760893200@wotfa.org
SUMMARY:Old Time Music and Dance Party
DESCRIPTION:Presented by the District 8 Dance Band and The Mid County Community Center \nOpen Band (Come Join us!) \nNo admission fee \nAll dances taught on the spot
URL:https://wotfa.org/event/old-time-music-and-dance-party-3/
LOCATION:Mid-County Community Center\, 10205 44th Ave E\, Tacoma\, WA\, 98446\, United States
CATEGORIES:Contra Dance,District 8,Family Dance,Featured,Square Dance
ATTACH;FMTTYPE=image/jpeg:https://wotfa.org/wp-content/uploads/2025/09/District-8-Fall-Dance-2025-1.jpg
END:VEVENT
BEGIN:VEVENT
DTSTART;VALUE=DATE:20251010
DTEND;VALUE=DATE:20251013
DTSTAMP:20260423T111835
CREATED:20250925T170734Z
LAST-MODIFIED:20250925T171232Z
UID:10003176-1760054400-1760313599@wotfa.org
SUMMARY:Old Growth Old Time Festival
DESCRIPTION:Calling all jammers\, dancers\, and folk music lovers!\nEvery October\, Seattle hosts its annual oldtime music festival\, at the Latvian Center in the Northgate neighborhood. \nAll are invited to come experience the rich culture and community of Oldtime music! \nThere is something for everyone\, with performances followed by square dancing and honky-tonk dancing. Music and dance workshops will take place during the day\, along with copious jamming\, potluck meals\, cabaret performances\, and more jams. \nBring your friends and family – we look forward to seeing you all at OGO 🙂 \nSave the date for the 2nd annual OGO! October 10th to 12th\, 2025.
URL:https://wotfa.org/event/old-growth-old-time-festival-2/
LOCATION:Seattle Latvian Center\, 11710 3rd Avenue NE\, Seattle\, 98125
CATEGORIES:Contra Dance,Family Dance,Featured,Festival,Jam Session,Workshop
ATTACH;FMTTYPE=image/jpeg:https://wotfa.org/wp-content/uploads/2025/09/Old.jpg
END:VEVENT
BEGIN:VEVENT
DTSTART;TZID=America/Los_Angeles:20250727T090000
DTEND;TZID=America/Los_Angeles:20250801T170000
DTSTAMP:20260423T111835
CREATED:20250407T194936Z
LAST-MODIFIED:20250407T194936Z
UID:10003106-1753606800-1754067600@wotfa.org
SUMMARY:Fiddle Camp 2025
DESCRIPTION:Registration is now open!  https://wotfa.org/fiddle-camp-2025-registration/\nEach year since the 80s the Washington Old Time Fiddlers Association hosts a week long fiddle camp and workshop at our Annual Convention.  This is a members only event\, which features some of the most renowned instructors from around the Pacific Northwest.  In the past\, we’ve had an average of around 320 students participating in classes.  Campers also enjoy the opportunity to participate in jam sessions and social dances that can last ’til the wee hours of the morning.  Activities include mini-workshops\, social events\, dances\, contests\, and evening shows.  Students range in age from 5-95.  There is something for everyone! \nPlease use the form below to register. You can find descriptions of the classes at fiddlecamp.wotfa.org. \nT-Shirts and Fiddle Camp Swag can be found at our Bonfire Store: https://www.bonfire.com/store/wotfa/\nand our Redbubble shop: https://www.redbubble.com/people/WOTFA/shop
URL:https://wotfa.org/event/fiddle-camp-2025/
LOCATION:Chelan County Expo Center\, 5700 Wescott Dr\, Cashmere\, WA\, 98815\, United States
CATEGORIES:Campout,Contest,District 10,District 11,District 12,District 15,District 16,District 17,District 2,District 3,District 4,District 5,District 6,District 7,District 8,District 9,Family Dance,Featured,Workshop
ATTACH;FMTTYPE=image/png:https://wotfa.org/wp-content/uploads/2025/04/Outdoor-Jam-Color.png
END:VEVENT
BEGIN:VEVENT
DTSTART;VALUE=DATE:20250524
DTEND;VALUE=DATE:20250527
DTSTAMP:20260423T111835
CREATED:20250517T151529Z
LAST-MODIFIED:20250517T151529Z
UID:10003131-1748044800-1748303999@wotfa.org
SUMMARY:Northwest Folklife Festival 2025
DESCRIPTION:WOTFA will be hosting a Jam at the Northwest Folklife Festival on Friday\, May 23 at 5:30pm.  Come join us for this or any of the amazing events all weekend!
URL:https://wotfa.org/event/northwest-folklife-festival-2025/
LOCATION:Seattle Center\, 305 Harrison St\, Seattle\, WA\, 98109\, United States
CATEGORIES:Contra Dance,District 16,District 6,District 8,Family Dance,Featured,Jam Session,Open Jams,Show,Square Dance,Workshop
ATTACH;FMTTYPE=image/png:https://wotfa.org/wp-content/uploads/2025/05/NWFL_POSTER_11X17.png
END:VEVENT
BEGIN:VEVENT
DTSTART;TZID=America/Los_Angeles:20250316T150000
DTEND;TZID=America/Los_Angeles:20250316T170000
DTSTAMP:20260423T111835
CREATED:20250118T174208Z
LAST-MODIFIED:20250118T182937Z
UID:10003084-1742137200-1742144400@wotfa.org
SUMMARY:Old Time Music and Dance Party
DESCRIPTION:Presented by the District 8 Dance Band and The Mid County Community Center \nOpen Band (Come Join us!) \nNo admission fee \nAll dances taught on the spot
URL:https://wotfa.org/event/old-time-music-and-dance-party-2/
LOCATION:Mid-County Community Center\, 10205 44th Ave E\, Tacoma\, WA\, 98446\, United States
CATEGORIES:Contra Dance,District 8,Family Dance,Featured,Square Dance
ATTACH;FMTTYPE=image/png:https://wotfa.org/wp-content/uploads/2025/01/D8-Dance-Party-March-2025-2-1.png
END:VEVENT
BEGIN:VEVENT
DTSTART;TZID=America/Los_Angeles:20250120T173000
DTEND;TZID=America/Los_Angeles:20250120T193000
DTSTAMP:20260423T111835
CREATED:20250105T184526Z
LAST-MODIFIED:20250105T184526Z
UID:10003075-1737394200-1737401400@wotfa.org
SUMMARY:District 8 Dance Band Practice (3rd Mondays)
DESCRIPTION:Come join a great group of musicians who like to play for dances!  We play for squares\, circles\, and contras (and other long line social dances).  We’ve even hosted some of our own family-friendly beginner dances\, and played for the Northwest Folklife Festival. \nWe practice the 1st and 3rd Mondays of the month\, in the evenings at the Mid-County Community Center. \nJoin us!!!!
URL:https://wotfa.org/event/district-8-dance-band-practice-3rd-mondays/
LOCATION:Mid-County Community Center\, 10205 44th Ave E\, Tacoma\, WA\, 98446\, United States
CATEGORIES:Contra Dance,District 8,Family Dance,Square Dance
ATTACH;FMTTYPE=image/jpeg:https://wotfa.org/wp-content/uploads/2025/01/wells3-scaled.jpg
END:VEVENT
BEGIN:VEVENT
DTSTART;TZID=America/Los_Angeles:20250106T173000
DTEND;TZID=America/Los_Angeles:20250106T193000
DTSTAMP:20260423T111835
CREATED:20250105T184231Z
LAST-MODIFIED:20250105T184231Z
UID:10003062-1736184600-1736191800@wotfa.org
SUMMARY:District 8 Dance Band Practice (1st Mondays)
DESCRIPTION:Come join a great group of musicians who like to play for dances!  We play for squares\, circles\, and contras (and other long line social dances).  We’ve even hosted some of our own family-friendly beginner dances\, and played for the Northwest Folklife Festival. \nWe practice the 1st and 3rd Mondays of the month\, in the evenings at the Mid-County Community Center. \nJoin us!!!!
URL:https://wotfa.org/event/district-8-dance-band-practice-1st-mondays/
LOCATION:Mid-County Community Center\, 10205 44th Ave E\, Tacoma\, WA\, 98446\, United States
CATEGORIES:Contra Dance,District 8,Family Dance,Square Dance
ATTACH;FMTTYPE=image/jpeg:https://wotfa.org/wp-content/uploads/2025/01/wells3-scaled.jpg
END:VEVENT
BEGIN:VEVENT
DTSTART;TZID=America/Los_Angeles:20241021T180000
DTEND;TZID=America/Los_Angeles:20241021T200000
DTSTAMP:20260423T111835
CREATED:20240820T194707Z
LAST-MODIFIED:20240820T194707Z
UID:10002541-1729533600-1729540800@wotfa.org
SUMMARY:Old Time Music and Dance Party
DESCRIPTION:Presented by the District 8 Dance Band
URL:https://wotfa.org/event/old-time-music-and-dance-party/
LOCATION:Mid-County Community Center\, 10205 44th Ave E\, Tacoma\, WA\, 98446\, United States
CATEGORIES:Contra Dance,District 8,Family Dance,Featured,Square Dance
ATTACH;FMTTYPE=image/jpeg:https://wotfa.org/wp-content/uploads/2024/08/D8-Dance-Party.jpg
END:VEVENT
BEGIN:VEVENT
DTSTART;VALUE=DATE:20241010
DTEND;VALUE=DATE:20241014
DTSTAMP:20260423T111835
CREATED:20240909T180558Z
LAST-MODIFIED:20240909T180558Z
UID:10002542-1728518400-1728863999@wotfa.org
SUMMARY:Old Growth Old Time Festival
DESCRIPTION:Calling all jammers\, dancers\, and folk music lovers!\nEvery October\, Seattle hosts its annual oldtime music festival\, at the Latvian Center in the Northgate neighborhood. \nAll are invited to come experience the rich culture and community of Oldtime music! \nThere is something for everyone\, with performances followed by square dancing and honky-tonk dancing. Music and dance workshops will take place during the day\, along with copious jamming\, potluck meals\, cabaret performances\, and more jams. \nBring your friends and family – we look forward to seeing you all at OGO 🙂 \nSave the date for the 2nd annual OGO! October 10th to 13th\, 2024.
URL:https://wotfa.org/event/old-growth-old-time-festival/
LOCATION:Seattle Latvian Center\, 11710 3rd Avenue NE\, Seattle\, 98125
CATEGORIES:Contra Dance,Family Dance,Featured,Festival,Jam Session,Workshop
ATTACH;FMTTYPE=image/jpeg:https://wotfa.org/wp-content/uploads/2024/09/oldgrowth2024-scaled.jpeg
END:VEVENT
BEGIN:VEVENT
DTSTART;VALUE=DATE:20240607
DTEND;VALUE=DATE:20240610
DTSTAMP:20260423T111835
CREATED:20240404T154530Z
LAST-MODIFIED:20240404T154530Z
UID:10002524-1717718400-1717977599@wotfa.org
SUMMARY:District 15 Campout
DESCRIPTION:June campout – scheduled for Friday\, Saturday and Sunday June 7th\, 8th and 9th at the Quilcene Community Center in Quilcene.  We are hoping to have a dance\, lots of jamming and good food.  Campground has limited space so first come first serve and you can check it out at Quilcene Community Campground Quilcene Washington WA (campgroundviews.com).
URL:https://wotfa.org/event/district-15-campout/
LOCATION:Quilcene Community Center\, 294952 Hwy 101\, Quilcene\, 98376
CATEGORIES:Campout,District 15,Family Dance,Featured,Open Jams,Square Dance
ATTACH;FMTTYPE=image/jpeg:https://wotfa.org/wp-content/uploads/2024/04/IMG_0251.jpeg
ORGANIZER;CN="Rita Alberti":MAILTO:daveandrita2025@gmail.com
END:VEVENT
BEGIN:VEVENT
DTSTART;VALUE=DATE:20240524
DTEND;VALUE=DATE:20240528
DTSTAMP:20260423T111835
CREATED:20240401T214212Z
LAST-MODIFIED:20240401T214212Z
UID:10002522-1716508800-1716854399@wotfa.org
SUMMARY:53rd Annual Northwest Folklife Festival\, May 24-27\, 2024
DESCRIPTION:We’re excited to announce that the 2024 Cultural Focus is Meraki. \nMeraki marks the 3rd chapter of our 5-year Cultural Focus storyline. Meraki derives from the Greek language and means doing something with passion\, soul\, and love. In 2022\, our first in-person festival out of the pandemic\, Metamorphosis asked that we accept and welcome change and transformation as a natural part of our everyday folk lives. In 2023\, Lagom compelled us to accept change as part of a journey towards finding a new balance within ourselves\, our communities\, and our larger ecosystem. From that place of balance\, Meraki urges us to seek that which gives us joy\, so that whatever we put our minds to can be approached and accomplished with a sense of pride\, soulfulness\, and discipline. \nWe look forward to this year’s festival and can’t wait to see you there
URL:https://wotfa.org/event/53rd-annual-northwest-folklife-festival-may-24-27-2024/
LOCATION:Seattle Center\, 305 Harrison St\, Seattle\, WA\, 98109\, United States
CATEGORIES:Contra Dance,Family Dance,Featured,Festival,Jam Session,Open Jams,Show,Square Dance,Workshop
ATTACH;FMTTYPE=image/jpeg:https://wotfa.org/wp-content/uploads/2024/04/folklife2024.jpg
END:VEVENT
BEGIN:VEVENT
DTSTART;TZID=America/Los_Angeles:20230819T193000
DTEND;TZID=America/Los_Angeles:20230819T210000
DTSTAMP:20260423T111835
CREATED:20230811T231552Z
LAST-MODIFIED:20230811T231552Z
UID:10002094-1692473400-1692478800@wotfa.org
SUMMARY:Monthly Tacoma Contra Dance
DESCRIPTION:Third Saturday of Every Month \n\n\nLearn Contra Dance: 7:00pm to 7:30pm \n\n\n\n\n\nLive bands\, traditional music\nSingles/couples of all ages welcome\nNo experience needed!\nAlcohol\, smoke & fragrance free\n$10-$25 sliding scale
URL:https://wotfa.org/event/monthly-tacoma-contra-dance/
LOCATION:Wells Hall\, 310 North K Street\, Tacoma\, 98403
CATEGORIES:Contra Dance,Family Dance
ATTACH;FMTTYPE=image/jpeg:https://wotfa.org/wp-content/uploads/2023/08/wells3-scaled.jpg
ORGANIZER;CN="Matt Temmel":MAILTO:info@tacomacontradance.org
END:VEVENT
BEGIN:VEVENT
DTSTART;TZID=America/Los_Angeles:20230813T133000
DTEND;TZID=America/Los_Angeles:20230813T160000
DTSTAMP:20260423T111835
CREATED:20230716T163751Z
LAST-MODIFIED:20230807T182028Z
UID:10002078-1691933400-1691942400@wotfa.org
SUMMARY:DuPont Historical Society Open Family Dance
DESCRIPTION:Come kick up your heels with some members of the Washington Old Time Fiddlers Association\, as we present an open family dance at the DuPont Historical Museum!  Gina Weibel will be calling family-friendly dances while members of WOTFA play some fun fiddle tunes!
URL:https://wotfa.org/event/dupont-historical-society-open-family-dance/
LOCATION:DuPont Historical Museum\, 207 Barksdale Aven\, DuPont\, 98327
CATEGORIES:Contra Dance,District 8,District 9,Family Dance,Featured,Open Jams,Playout,Square Dance,Workshop
ATTACH;FMTTYPE=image/jpeg:https://wotfa.org/wp-content/uploads/2023/07/dupont.jpg
END:VEVENT
BEGIN:VEVENT
DTSTART;TZID=America/Los_Angeles:20230722T153000
DTEND;TZID=America/Los_Angeles:20230722T190000
DTSTAMP:20260423T111835
CREATED:20230718T042010Z
LAST-MODIFIED:20230718T042010Z
UID:10002084-1690039800-1690052400@wotfa.org
SUMMARY:Pioneer Day
DESCRIPTION:Grab your instrument and head to Bainbridge Island for some music\, fun\, and friendship! \n 
URL:https://wotfa.org/event/pioneer-day/
LOCATION:Bountiful Farm\, 8045 Fletcher Bay Road\, Bainbridge Island\, WA\, 98110\, United States
CATEGORIES:Family Dance,Open Jams,Open Mic,Playout
ATTACH;FMTTYPE=image/jpeg:https://wotfa.org/wp-content/uploads/2023/07/IMG_1513.jpeg
ORGANIZER;CN="Gina Weibel":MAILTO:weibelfamily@gmail.com
END:VEVENT
END:VCALENDAR