BEGIN:VCALENDAR
VERSION:2.0
PRODID:-//Washington Old Time Fiddlers Association - ECPv6.15.12.2//NONSGML v1.0//EN
CALSCALE:GREGORIAN
METHOD:PUBLISH
X-ORIGINAL-URL:https://wotfa.org
X-WR-CALDESC:Events for Washington Old Time Fiddlers Association
REFRESH-INTERVAL;VALUE=DURATION:PT1H
X-Robots-Tag:noindex
X-PUBLISHED-TTL:PT1H
BEGIN:VTIMEZONE
TZID:America/Los_Angeles
BEGIN:DAYLIGHT
TZOFFSETFROM:-0800
TZOFFSETTO:-0700
TZNAME:PDT
DTSTART:20230312T100000
END:DAYLIGHT
BEGIN:STANDARD
TZOFFSETFROM:-0700
TZOFFSETTO:-0800
TZNAME:PST
DTSTART:20231105T090000
END:STANDARD
BEGIN:DAYLIGHT
TZOFFSETFROM:-0800
TZOFFSETTO:-0700
TZNAME:PDT
DTSTART:20240310T100000
END:DAYLIGHT
BEGIN:STANDARD
TZOFFSETFROM:-0700
TZOFFSETTO:-0800
TZNAME:PST
DTSTART:20241103T090000
END:STANDARD
BEGIN:DAYLIGHT
TZOFFSETFROM:-0800
TZOFFSETTO:-0700
TZNAME:PDT
DTSTART:20250309T100000
END:DAYLIGHT
BEGIN:STANDARD
TZOFFSETFROM:-0700
TZOFFSETTO:-0800
TZNAME:PST
DTSTART:20251102T090000
END:STANDARD
END:VTIMEZONE
BEGIN:VEVENT
DTSTART;TZID=America/Los_Angeles:20241004T100000
DTEND;TZID=America/Los_Angeles:20241004T100000
DTSTAMP:20260423T032706
CREATED:20240928T235312Z
LAST-MODIFIED:20240928T235747Z
UID:10002930-1728036000-1728036000@wotfa.org
SUMMARY:DISTRICT 9 MEETING AND JAM
DESCRIPTION:Please join WOTFA District 9 (Lewis & Thurston Counties) for our regular 1st Friday open acoustic jam and meeting on Friday\, October 4th from 10am-Noon at Faith Baptist Church in Chehalis. The Church is located at 436 Coal Creek Rd.  To find the church take I-5 to exit 79\, then head EAST off the exit.  Take a LEFT onto N. National Ave\, then a quick RIGHT onto Coal Creek Rd and go 1.1 miles.  The Church will be on your RIGHT.  We will be in the kitchen building (right next to the giant 5th wheel trailer) until renovations on the main building are finished.  There will be coffee and tea and some snacks but it won’t be a potluck. \nFor questions or if you need information just call or text me (Christie) at 360-791-5185
URL:https://wotfa.org/event/district-9-meeting-and-jam/2024-10-04/
LOCATION:Faith Baptist Church\, 436 Coal Creek Rd\, Chehalis\, 98532
CATEGORIES:District 9,Jam Session,Open Jams
ATTACH;FMTTYPE=image/png:https://wotfa.org/wp-content/uploads/2020/10/district-9.png
ORGANIZER;CN="Christie Easter":MAILTO:mrwillys@aol.com
END:VEVENT
END:VCALENDAR