BEGIN:VCALENDAR
VERSION:2.0
PRODID:-//Washington Old Time Fiddlers Association - ECPv6.15.12.2//NONSGML v1.0//EN
CALSCALE:GREGORIAN
METHOD:PUBLISH
X-WR-CALNAME:Washington Old Time Fiddlers Association
X-ORIGINAL-URL:https://wotfa.org
X-WR-CALDESC:Events for Washington Old Time Fiddlers Association
REFRESH-INTERVAL;VALUE=DURATION:PT1H
X-Robots-Tag:noindex
X-PUBLISHED-TTL:PT1H
BEGIN:VTIMEZONE
TZID:America/Los_Angeles
BEGIN:DAYLIGHT
TZOFFSETFROM:-0800
TZOFFSETTO:-0700
TZNAME:PDT
DTSTART:20240310T100000
END:DAYLIGHT
BEGIN:STANDARD
TZOFFSETFROM:-0700
TZOFFSETTO:-0800
TZNAME:PST
DTSTART:20241103T090000
END:STANDARD
BEGIN:DAYLIGHT
TZOFFSETFROM:-0800
TZOFFSETTO:-0700
TZNAME:PDT
DTSTART:20250309T100000
END:DAYLIGHT
BEGIN:STANDARD
TZOFFSETFROM:-0700
TZOFFSETTO:-0800
TZNAME:PST
DTSTART:20251102T090000
END:STANDARD
BEGIN:DAYLIGHT
TZOFFSETFROM:-0800
TZOFFSETTO:-0700
TZNAME:PDT
DTSTART:20260308T100000
END:DAYLIGHT
BEGIN:STANDARD
TZOFFSETFROM:-0700
TZOFFSETTO:-0800
TZNAME:PST
DTSTART:20261101T090000
END:STANDARD
END:VTIMEZONE
BEGIN:VEVENT
DTSTART;VALUE=DATE:20250809
DTEND;VALUE=DATE:20250818
DTSTAMP:20260423T045027
CREATED:20250807T212451Z
LAST-MODIFIED:20250807T212451Z
UID:10003145-1754697600-1755475199@wotfa.org
SUMMARY:The Centralia Campout 2025 happens August 9-17th at 1300 K Street Centralia\, Wa.
DESCRIPTION:Although it’s not a WOTFA event\, it does happen in WOTFA District 9 (Lewis & Thurston Counties)\, and is a convenient place to get together and jam since it is exactly half way between Seattle and Portland. \nThe atmosphere is laid back and there is no set schedule during the day or shows at night\, Everything happens pretty much on a pop-up basis and it is definitely beginner friendly. \nThe Chehalis River is adjacent to the camping are via a short and mostly level trail\, so if the weather is scorching hot it’s easy to cool off in the river if you bring some swim gear. \nIf you’re interested in going for the day but don’t want to go alone\, give me (Christie ) a call or text at 360-791-5185 and we can arrange to meet there and have some fun. \n \nImagine warm summer days\, a beautiful river front setting while jamming all day long for more than a whole week! There won’t be any contests\, stages\, performers\, or schedules to keep track of. This is a relaxed event for musicians who like lots of jamming and hanging out with friends old and new. Spontaneous\, participant organized activities\, such as a cocktail party\, a square dance (yes\, I built a dance floor!)\, a birthday party\, or a corn-feed could occur at any moment. \nIf you enjoy Stickerville at Weiser\, you’ll like this event too! \nThe weather is usually warm and dry this time of year\, but it is best to come prepared for anything! Gather up your friends and family and come on down for 9 days of relaxation\, fun and music!
URL:https://wotfa.org/event/the-centralia-campout-2025-happens-august-9-17th-at-1300-k-street-centralia-wa/
LOCATION:1300 K St\, Centralia\, WA 98531\, 1300 K St\, Centralia\, 98531
CATEGORIES:Campout,Contra Dance,Featured,Festival,Jam Session,Open Jams,Open Mic,Square Dance,Workshop
ATTACH;FMTTYPE=image/jpeg:https://wotfa.org/wp-content/uploads/2023/02/centralia-campout.jpg
ORGANIZER;CN="Ray":MAILTO:centraliacampout@gmail.com
END:VEVENT
END:VCALENDAR